BEGIN:VCALENDAR
VERSION:2.0
PRODID:-//Comunidad Nexthaz - ECPv6.15.20//NONSGML v1.0//EN
CALSCALE:GREGORIAN
METHOD:PUBLISH
X-WR-CALNAME:Comunidad Nexthaz
X-ORIGINAL-URL:https://comunidad.nexthaz.com
X-WR-CALDESC:Eventos para Comunidad Nexthaz
REFRESH-INTERVAL;VALUE=DURATION:PT1H
X-Robots-Tag:noindex
X-PUBLISHED-TTL:PT1H
BEGIN:VTIMEZONE
TZID:UTC
BEGIN:STANDARD
TZOFFSETFROM:+0000
TZOFFSETTO:+0000
TZNAME:UTC
DTSTART:20280101T000000
END:STANDARD
END:VTIMEZONE
BEGIN:VEVENT
DTSTART;VALUE=DATE:20290105
DTEND;VALUE=DATE:20290106
DTSTAMP:20260423T113038
CREATED:20260305T035246Z
LAST-MODIFIED:20260305T042019Z
UID:10000730-1862265600-1862351999@comunidad.nexthaz.com
SUMMARY:💡Nuevas Ideas de Negocio
DESCRIPTION:
URL:https://comunidad.nexthaz.com/event/nuevas-ideas-de-negocio/2029-01-05/
END:VEVENT
BEGIN:VEVENT
DTSTART;VALUE=DATE:20290108
DTEND;VALUE=DATE:20290109
DTSTAMP:20260423T113038
CREATED:20260305T041627Z
LAST-MODIFIED:20260305T042125Z
UID:10000410-1862524800-1862611199@comunidad.nexthaz.com
SUMMARY:📲Llamadas Semanal
DESCRIPTION:
URL:https://comunidad.nexthaz.com/event/llamadas-semanal/2029-01-08/
END:VEVENT
BEGIN:VEVENT
DTSTART;VALUE=DATE:20290112
DTEND;VALUE=DATE:20290113
DTSTAMP:20260423T113038
CREATED:20260305T035246Z
LAST-MODIFIED:20260305T042019Z
UID:10000731-1862870400-1862956799@comunidad.nexthaz.com
SUMMARY:💡Nuevas Ideas de Negocio
DESCRIPTION:
URL:https://comunidad.nexthaz.com/event/nuevas-ideas-de-negocio/2029-01-12/
END:VEVENT
BEGIN:VEVENT
DTSTART;VALUE=DATE:20290115
DTEND;VALUE=DATE:20290116
DTSTAMP:20260423T113038
CREATED:20260305T041627Z
LAST-MODIFIED:20260305T042125Z
UID:10000411-1863129600-1863215999@comunidad.nexthaz.com
SUMMARY:📲Llamadas Semanal
DESCRIPTION:
URL:https://comunidad.nexthaz.com/event/llamadas-semanal/2029-01-15/
END:VEVENT
BEGIN:VEVENT
DTSTART;VALUE=DATE:20290117
DTEND;VALUE=DATE:20290118
DTSTAMP:20260423T113038
CREATED:20260305T041842Z
LAST-MODIFIED:20260305T041842Z
UID:10000557-1863302400-1863388799@comunidad.nexthaz.com
SUMMARY:⭐Curso Nuevo
DESCRIPTION:
URL:https://comunidad.nexthaz.com/event/%e2%ad%90curso-nuevo/2029-01-17/
END:VEVENT
BEGIN:VEVENT
DTSTART;VALUE=DATE:20290119
DTEND;VALUE=DATE:20290120
DTSTAMP:20260423T113038
CREATED:20260305T035246Z
LAST-MODIFIED:20260305T042019Z
UID:10000732-1863475200-1863561599@comunidad.nexthaz.com
SUMMARY:💡Nuevas Ideas de Negocio
DESCRIPTION:
URL:https://comunidad.nexthaz.com/event/nuevas-ideas-de-negocio/2029-01-19/
END:VEVENT
BEGIN:VEVENT
DTSTART;VALUE=DATE:20290122
DTEND;VALUE=DATE:20290123
DTSTAMP:20260423T113038
CREATED:20260305T041627Z
LAST-MODIFIED:20260305T042125Z
UID:10000412-1863734400-1863820799@comunidad.nexthaz.com
SUMMARY:📲Llamadas Semanal
DESCRIPTION:
URL:https://comunidad.nexthaz.com/event/llamadas-semanal/2029-01-22/
END:VEVENT
BEGIN:VEVENT
DTSTART;VALUE=DATE:20290126
DTEND;VALUE=DATE:20290127
DTSTAMP:20260423T113038
CREATED:20260305T035246Z
LAST-MODIFIED:20260305T042019Z
UID:10000733-1864080000-1864166399@comunidad.nexthaz.com
SUMMARY:💡Nuevas Ideas de Negocio
DESCRIPTION:
URL:https://comunidad.nexthaz.com/event/nuevas-ideas-de-negocio/2029-01-26/
END:VEVENT
BEGIN:VEVENT
DTSTART;VALUE=DATE:20290129
DTEND;VALUE=DATE:20290130
DTSTAMP:20260423T113038
CREATED:20260305T041627Z
LAST-MODIFIED:20260305T042125Z
UID:10000413-1864339200-1864425599@comunidad.nexthaz.com
SUMMARY:📲Llamadas Semanal
DESCRIPTION:
URL:https://comunidad.nexthaz.com/event/llamadas-semanal/2029-01-29/
END:VEVENT
BEGIN:VEVENT
DTSTART;VALUE=DATE:20290202
DTEND;VALUE=DATE:20290203
DTSTAMP:20260423T113038
CREATED:20260305T035246Z
LAST-MODIFIED:20260305T042019Z
UID:10000734-1864684800-1864771199@comunidad.nexthaz.com
SUMMARY:💡Nuevas Ideas de Negocio
DESCRIPTION:
URL:https://comunidad.nexthaz.com/event/nuevas-ideas-de-negocio/2029-02-02/
END:VEVENT
BEGIN:VEVENT
DTSTART;VALUE=DATE:20290205
DTEND;VALUE=DATE:20290206
DTSTAMP:20260423T113038
CREATED:20260305T041627Z
LAST-MODIFIED:20260305T042125Z
UID:10000414-1864944000-1865030399@comunidad.nexthaz.com
SUMMARY:📲Llamadas Semanal
DESCRIPTION:
URL:https://comunidad.nexthaz.com/event/llamadas-semanal/2029-02-05/
END:VEVENT
BEGIN:VEVENT
DTSTART;VALUE=DATE:20290209
DTEND;VALUE=DATE:20290210
DTSTAMP:20260423T113038
CREATED:20260305T035246Z
LAST-MODIFIED:20260305T042019Z
UID:10000735-1865289600-1865375999@comunidad.nexthaz.com
SUMMARY:💡Nuevas Ideas de Negocio
DESCRIPTION:
URL:https://comunidad.nexthaz.com/event/nuevas-ideas-de-negocio/2029-02-09/
END:VEVENT
BEGIN:VEVENT
DTSTART;VALUE=DATE:20290212
DTEND;VALUE=DATE:20290213
DTSTAMP:20260423T113038
CREATED:20260305T041627Z
LAST-MODIFIED:20260305T042125Z
UID:10000415-1865548800-1865635199@comunidad.nexthaz.com
SUMMARY:📲Llamadas Semanal
DESCRIPTION:
URL:https://comunidad.nexthaz.com/event/llamadas-semanal/2029-02-12/
END:VEVENT
BEGIN:VEVENT
DTSTART;VALUE=DATE:20290216
DTEND;VALUE=DATE:20290217
DTSTAMP:20260423T113038
CREATED:20260305T035246Z
LAST-MODIFIED:20260305T042019Z
UID:10000736-1865894400-1865980799@comunidad.nexthaz.com
SUMMARY:💡Nuevas Ideas de Negocio
DESCRIPTION:
URL:https://comunidad.nexthaz.com/event/nuevas-ideas-de-negocio/2029-02-16/
END:VEVENT
BEGIN:VEVENT
DTSTART;VALUE=DATE:20290219
DTEND;VALUE=DATE:20290220
DTSTAMP:20260423T113038
CREATED:20260305T041627Z
LAST-MODIFIED:20260305T042125Z
UID:10000416-1866153600-1866239999@comunidad.nexthaz.com
SUMMARY:📲Llamadas Semanal
DESCRIPTION:
URL:https://comunidad.nexthaz.com/event/llamadas-semanal/2029-02-19/
END:VEVENT
BEGIN:VEVENT
DTSTART;VALUE=DATE:20290221
DTEND;VALUE=DATE:20290222
DTSTAMP:20260423T113038
CREATED:20260305T041842Z
LAST-MODIFIED:20260305T041842Z
UID:10000558-1866326400-1866412799@comunidad.nexthaz.com
SUMMARY:⭐Curso Nuevo
DESCRIPTION:
URL:https://comunidad.nexthaz.com/event/%e2%ad%90curso-nuevo/2029-02-21/
END:VEVENT
BEGIN:VEVENT
DTSTART;VALUE=DATE:20290223
DTEND;VALUE=DATE:20290224
DTSTAMP:20260423T113038
CREATED:20260305T035246Z
LAST-MODIFIED:20260305T042019Z
UID:10000737-1866499200-1866585599@comunidad.nexthaz.com
SUMMARY:💡Nuevas Ideas de Negocio
DESCRIPTION:
URL:https://comunidad.nexthaz.com/event/nuevas-ideas-de-negocio/2029-02-23/
END:VEVENT
BEGIN:VEVENT
DTSTART;VALUE=DATE:20290226
DTEND;VALUE=DATE:20290227
DTSTAMP:20260423T113038
CREATED:20260305T041627Z
LAST-MODIFIED:20260305T042125Z
UID:10000417-1866758400-1866844799@comunidad.nexthaz.com
SUMMARY:📲Llamadas Semanal
DESCRIPTION:
URL:https://comunidad.nexthaz.com/event/llamadas-semanal/2029-02-26/
END:VEVENT
BEGIN:VEVENT
DTSTART;VALUE=DATE:20290302
DTEND;VALUE=DATE:20290303
DTSTAMP:20260423T113038
CREATED:20260305T035246Z
LAST-MODIFIED:20260305T042019Z
UID:10000738-1867104000-1867190399@comunidad.nexthaz.com
SUMMARY:💡Nuevas Ideas de Negocio
DESCRIPTION:
URL:https://comunidad.nexthaz.com/event/nuevas-ideas-de-negocio/2029-03-02/
END:VEVENT
BEGIN:VEVENT
DTSTART;VALUE=DATE:20290305
DTEND;VALUE=DATE:20290306
DTSTAMP:20260423T113038
CREATED:20260305T041627Z
LAST-MODIFIED:20260305T042125Z
UID:10000418-1867363200-1867449599@comunidad.nexthaz.com
SUMMARY:📲Llamadas Semanal
DESCRIPTION:
URL:https://comunidad.nexthaz.com/event/llamadas-semanal/2029-03-05/
END:VEVENT
BEGIN:VEVENT
DTSTART;VALUE=DATE:20290309
DTEND;VALUE=DATE:20290310
DTSTAMP:20260423T113038
CREATED:20260305T035246Z
LAST-MODIFIED:20260305T042019Z
UID:10000739-1867708800-1867795199@comunidad.nexthaz.com
SUMMARY:💡Nuevas Ideas de Negocio
DESCRIPTION:
URL:https://comunidad.nexthaz.com/event/nuevas-ideas-de-negocio/2029-03-09/
END:VEVENT
BEGIN:VEVENT
DTSTART;VALUE=DATE:20290312
DTEND;VALUE=DATE:20290313
DTSTAMP:20260423T113038
CREATED:20260305T041627Z
LAST-MODIFIED:20260305T042125Z
UID:10000419-1867968000-1868054399@comunidad.nexthaz.com
SUMMARY:📲Llamadas Semanal
DESCRIPTION:
URL:https://comunidad.nexthaz.com/event/llamadas-semanal/2029-03-12/
END:VEVENT
BEGIN:VEVENT
DTSTART;VALUE=DATE:20290316
DTEND;VALUE=DATE:20290317
DTSTAMP:20260423T113038
CREATED:20260305T035246Z
LAST-MODIFIED:20260305T042019Z
UID:10000740-1868313600-1868399999@comunidad.nexthaz.com
SUMMARY:💡Nuevas Ideas de Negocio
DESCRIPTION:
URL:https://comunidad.nexthaz.com/event/nuevas-ideas-de-negocio/2029-03-16/
END:VEVENT
BEGIN:VEVENT
DTSTART;VALUE=DATE:20290319
DTEND;VALUE=DATE:20290320
DTSTAMP:20260423T113038
CREATED:20260305T041627Z
LAST-MODIFIED:20260305T042125Z
UID:10000420-1868572800-1868659199@comunidad.nexthaz.com
SUMMARY:📲Llamadas Semanal
DESCRIPTION:
URL:https://comunidad.nexthaz.com/event/llamadas-semanal/2029-03-19/
END:VEVENT
BEGIN:VEVENT
DTSTART;VALUE=DATE:20290321
DTEND;VALUE=DATE:20290322
DTSTAMP:20260423T113038
CREATED:20260305T041842Z
LAST-MODIFIED:20260305T041842Z
UID:10000559-1868745600-1868831999@comunidad.nexthaz.com
SUMMARY:⭐Curso Nuevo
DESCRIPTION:
URL:https://comunidad.nexthaz.com/event/%e2%ad%90curso-nuevo/2029-03-21/
END:VEVENT
BEGIN:VEVENT
DTSTART;VALUE=DATE:20290323
DTEND;VALUE=DATE:20290324
DTSTAMP:20260423T113038
CREATED:20260305T035246Z
LAST-MODIFIED:20260305T042019Z
UID:10000741-1868918400-1869004799@comunidad.nexthaz.com
SUMMARY:💡Nuevas Ideas de Negocio
DESCRIPTION:
URL:https://comunidad.nexthaz.com/event/nuevas-ideas-de-negocio/2029-03-23/
END:VEVENT
BEGIN:VEVENT
DTSTART;VALUE=DATE:20290326
DTEND;VALUE=DATE:20290327
DTSTAMP:20260423T113038
CREATED:20260305T041627Z
LAST-MODIFIED:20260305T042125Z
UID:10000421-1869177600-1869263999@comunidad.nexthaz.com
SUMMARY:📲Llamadas Semanal
DESCRIPTION:
URL:https://comunidad.nexthaz.com/event/llamadas-semanal/2029-03-26/
END:VEVENT
BEGIN:VEVENT
DTSTART;VALUE=DATE:20290330
DTEND;VALUE=DATE:20290331
DTSTAMP:20260423T113038
CREATED:20260305T035246Z
LAST-MODIFIED:20260305T042019Z
UID:10000742-1869523200-1869609599@comunidad.nexthaz.com
SUMMARY:💡Nuevas Ideas de Negocio
DESCRIPTION:
URL:https://comunidad.nexthaz.com/event/nuevas-ideas-de-negocio/2029-03-30/
END:VEVENT
BEGIN:VEVENT
DTSTART;VALUE=DATE:20290402
DTEND;VALUE=DATE:20290403
DTSTAMP:20260423T113038
CREATED:20260305T041627Z
LAST-MODIFIED:20260305T042125Z
UID:10000422-1869782400-1869868799@comunidad.nexthaz.com
SUMMARY:📲Llamadas Semanal
DESCRIPTION:
URL:https://comunidad.nexthaz.com/event/llamadas-semanal/2029-04-02/
END:VEVENT
BEGIN:VEVENT
DTSTART;VALUE=DATE:20290406
DTEND;VALUE=DATE:20290407
DTSTAMP:20260423T113038
CREATED:20260305T035246Z
LAST-MODIFIED:20260305T042019Z
UID:10000743-1870128000-1870214399@comunidad.nexthaz.com
SUMMARY:💡Nuevas Ideas de Negocio
DESCRIPTION:
URL:https://comunidad.nexthaz.com/event/nuevas-ideas-de-negocio/2029-04-06/
END:VEVENT
END:VCALENDAR