BEGIN:VCALENDAR
VERSION:2.0
PRODID:-//Comunidad Nexthaz - ECPv6.15.17//NONSGML v1.0//EN
CALSCALE:GREGORIAN
METHOD:PUBLISH
X-WR-CALNAME:Comunidad Nexthaz
X-ORIGINAL-URL:https://comunidad.nexthaz.com
X-WR-CALDESC:Eventos para Comunidad Nexthaz
REFRESH-INTERVAL;VALUE=DURATION:PT1H
X-Robots-Tag:noindex
X-PUBLISHED-TTL:PT1H
BEGIN:VTIMEZONE
TZID:UTC
BEGIN:STANDARD
TZOFFSETFROM:+0000
TZOFFSETTO:+0000
TZNAME:UTC
DTSTART:20260101T000000
END:STANDARD
END:VTIMEZONE
BEGIN:VEVENT
DTSTART;VALUE=DATE:20270827
DTEND;VALUE=DATE:20270828
DTSTAMP:20260421T083716
CREATED:20260305T035246Z
LAST-MODIFIED:20260305T042019Z
UID:10000659-1819324800-1819411199@comunidad.nexthaz.com
SUMMARY:💡Nuevas Ideas de Negocio
DESCRIPTION:
URL:https://comunidad.nexthaz.com/event/nuevas-ideas-de-negocio/2027-08-27/
END:VEVENT
BEGIN:VEVENT
DTSTART;VALUE=DATE:20270830
DTEND;VALUE=DATE:20270831
DTSTAMP:20260421T083716
CREATED:20260305T041627Z
LAST-MODIFIED:20260305T042125Z
UID:10000339-1819584000-1819670399@comunidad.nexthaz.com
SUMMARY:📲Llamadas Semanal
DESCRIPTION:
URL:https://comunidad.nexthaz.com/event/llamadas-semanal/2027-08-30/
END:VEVENT
BEGIN:VEVENT
DTSTART;VALUE=DATE:20270903
DTEND;VALUE=DATE:20270904
DTSTAMP:20260421T083716
CREATED:20260305T035246Z
LAST-MODIFIED:20260305T042019Z
UID:10000660-1819929600-1820015999@comunidad.nexthaz.com
SUMMARY:💡Nuevas Ideas de Negocio
DESCRIPTION:
URL:https://comunidad.nexthaz.com/event/nuevas-ideas-de-negocio/2027-09-03/
END:VEVENT
BEGIN:VEVENT
DTSTART;VALUE=DATE:20270906
DTEND;VALUE=DATE:20270907
DTSTAMP:20260421T083716
CREATED:20260305T041627Z
LAST-MODIFIED:20260305T042125Z
UID:10000340-1820188800-1820275199@comunidad.nexthaz.com
SUMMARY:📲Llamadas Semanal
DESCRIPTION:
URL:https://comunidad.nexthaz.com/event/llamadas-semanal/2027-09-06/
END:VEVENT
BEGIN:VEVENT
DTSTART;VALUE=DATE:20270910
DTEND;VALUE=DATE:20270911
DTSTAMP:20260421T083716
CREATED:20260305T035246Z
LAST-MODIFIED:20260305T042019Z
UID:10000661-1820534400-1820620799@comunidad.nexthaz.com
SUMMARY:💡Nuevas Ideas de Negocio
DESCRIPTION:
URL:https://comunidad.nexthaz.com/event/nuevas-ideas-de-negocio/2027-09-10/
END:VEVENT
BEGIN:VEVENT
DTSTART;VALUE=DATE:20270913
DTEND;VALUE=DATE:20270914
DTSTAMP:20260421T083716
CREATED:20260305T041627Z
LAST-MODIFIED:20260305T042125Z
UID:10000341-1820793600-1820879999@comunidad.nexthaz.com
SUMMARY:📲Llamadas Semanal
DESCRIPTION:
URL:https://comunidad.nexthaz.com/event/llamadas-semanal/2027-09-13/
END:VEVENT
BEGIN:VEVENT
DTSTART;VALUE=DATE:20270915
DTEND;VALUE=DATE:20270916
DTSTAMP:20260421T083716
CREATED:20260305T041842Z
LAST-MODIFIED:20260305T041842Z
UID:10000541-1820966400-1821052799@comunidad.nexthaz.com
SUMMARY:⭐Curso Nuevo
DESCRIPTION:
URL:https://comunidad.nexthaz.com/event/%e2%ad%90curso-nuevo/2027-09-15/
END:VEVENT
BEGIN:VEVENT
DTSTART;VALUE=DATE:20270917
DTEND;VALUE=DATE:20270918
DTSTAMP:20260421T083716
CREATED:20260305T035246Z
LAST-MODIFIED:20260305T042019Z
UID:10000662-1821139200-1821225599@comunidad.nexthaz.com
SUMMARY:💡Nuevas Ideas de Negocio
DESCRIPTION:
URL:https://comunidad.nexthaz.com/event/nuevas-ideas-de-negocio/2027-09-17/
END:VEVENT
BEGIN:VEVENT
DTSTART;VALUE=DATE:20270920
DTEND;VALUE=DATE:20270921
DTSTAMP:20260421T083716
CREATED:20260305T041627Z
LAST-MODIFIED:20260305T042125Z
UID:10000342-1821398400-1821484799@comunidad.nexthaz.com
SUMMARY:📲Llamadas Semanal
DESCRIPTION:
URL:https://comunidad.nexthaz.com/event/llamadas-semanal/2027-09-20/
END:VEVENT
BEGIN:VEVENT
DTSTART;VALUE=DATE:20270924
DTEND;VALUE=DATE:20270925
DTSTAMP:20260421T083716
CREATED:20260305T035246Z
LAST-MODIFIED:20260305T042019Z
UID:10000663-1821744000-1821830399@comunidad.nexthaz.com
SUMMARY:💡Nuevas Ideas de Negocio
DESCRIPTION:
URL:https://comunidad.nexthaz.com/event/nuevas-ideas-de-negocio/2027-09-24/
END:VEVENT
BEGIN:VEVENT
DTSTART;VALUE=DATE:20270927
DTEND;VALUE=DATE:20270928
DTSTAMP:20260421T083716
CREATED:20260305T041627Z
LAST-MODIFIED:20260305T042125Z
UID:10000343-1822003200-1822089599@comunidad.nexthaz.com
SUMMARY:📲Llamadas Semanal
DESCRIPTION:
URL:https://comunidad.nexthaz.com/event/llamadas-semanal/2027-09-27/
END:VEVENT
BEGIN:VEVENT
DTSTART;VALUE=DATE:20271001
DTEND;VALUE=DATE:20271002
DTSTAMP:20260421T083716
CREATED:20260305T035246Z
LAST-MODIFIED:20260305T042019Z
UID:10000664-1822348800-1822435199@comunidad.nexthaz.com
SUMMARY:💡Nuevas Ideas de Negocio
DESCRIPTION:
URL:https://comunidad.nexthaz.com/event/nuevas-ideas-de-negocio/2027-10-01/
END:VEVENT
BEGIN:VEVENT
DTSTART;VALUE=DATE:20271004
DTEND;VALUE=DATE:20271005
DTSTAMP:20260421T083716
CREATED:20260305T041627Z
LAST-MODIFIED:20260305T042125Z
UID:10000344-1822608000-1822694399@comunidad.nexthaz.com
SUMMARY:📲Llamadas Semanal
DESCRIPTION:
URL:https://comunidad.nexthaz.com/event/llamadas-semanal/2027-10-04/
END:VEVENT
BEGIN:VEVENT
DTSTART;VALUE=DATE:20271008
DTEND;VALUE=DATE:20271009
DTSTAMP:20260421T083716
CREATED:20260305T035246Z
LAST-MODIFIED:20260305T042019Z
UID:10000665-1822953600-1823039999@comunidad.nexthaz.com
SUMMARY:💡Nuevas Ideas de Negocio
DESCRIPTION:
URL:https://comunidad.nexthaz.com/event/nuevas-ideas-de-negocio/2027-10-08/
END:VEVENT
BEGIN:VEVENT
DTSTART;VALUE=DATE:20271011
DTEND;VALUE=DATE:20271012
DTSTAMP:20260421T083716
CREATED:20260305T041627Z
LAST-MODIFIED:20260305T042125Z
UID:10000345-1823212800-1823299199@comunidad.nexthaz.com
SUMMARY:📲Llamadas Semanal
DESCRIPTION:
URL:https://comunidad.nexthaz.com/event/llamadas-semanal/2027-10-11/
END:VEVENT
BEGIN:VEVENT
DTSTART;VALUE=DATE:20271015
DTEND;VALUE=DATE:20271016
DTSTAMP:20260421T083716
CREATED:20260305T035246Z
LAST-MODIFIED:20260305T042019Z
UID:10000666-1823558400-1823644799@comunidad.nexthaz.com
SUMMARY:💡Nuevas Ideas de Negocio
DESCRIPTION:
URL:https://comunidad.nexthaz.com/event/nuevas-ideas-de-negocio/2027-10-15/
END:VEVENT
BEGIN:VEVENT
DTSTART;VALUE=DATE:20271018
DTEND;VALUE=DATE:20271019
DTSTAMP:20260421T083716
CREATED:20260305T041627Z
LAST-MODIFIED:20260305T042125Z
UID:10000346-1823817600-1823903999@comunidad.nexthaz.com
SUMMARY:📲Llamadas Semanal
DESCRIPTION:
URL:https://comunidad.nexthaz.com/event/llamadas-semanal/2027-10-18/
END:VEVENT
BEGIN:VEVENT
DTSTART;VALUE=DATE:20271020
DTEND;VALUE=DATE:20271021
DTSTAMP:20260421T083716
CREATED:20260305T041842Z
LAST-MODIFIED:20260305T041842Z
UID:10000542-1823990400-1824076799@comunidad.nexthaz.com
SUMMARY:⭐Curso Nuevo
DESCRIPTION:
URL:https://comunidad.nexthaz.com/event/%e2%ad%90curso-nuevo/2027-10-20/
END:VEVENT
BEGIN:VEVENT
DTSTART;VALUE=DATE:20271022
DTEND;VALUE=DATE:20271023
DTSTAMP:20260421T083716
CREATED:20260305T035246Z
LAST-MODIFIED:20260305T042019Z
UID:10000667-1824163200-1824249599@comunidad.nexthaz.com
SUMMARY:💡Nuevas Ideas de Negocio
DESCRIPTION:
URL:https://comunidad.nexthaz.com/event/nuevas-ideas-de-negocio/2027-10-22/
END:VEVENT
BEGIN:VEVENT
DTSTART;VALUE=DATE:20271025
DTEND;VALUE=DATE:20271026
DTSTAMP:20260421T083716
CREATED:20260305T041627Z
LAST-MODIFIED:20260305T042125Z
UID:10000347-1824422400-1824508799@comunidad.nexthaz.com
SUMMARY:📲Llamadas Semanal
DESCRIPTION:
URL:https://comunidad.nexthaz.com/event/llamadas-semanal/2027-10-25/
END:VEVENT
BEGIN:VEVENT
DTSTART;VALUE=DATE:20271029
DTEND;VALUE=DATE:20271030
DTSTAMP:20260421T083716
CREATED:20260305T035246Z
LAST-MODIFIED:20260305T042019Z
UID:10000668-1824768000-1824854399@comunidad.nexthaz.com
SUMMARY:💡Nuevas Ideas de Negocio
DESCRIPTION:
URL:https://comunidad.nexthaz.com/event/nuevas-ideas-de-negocio/2027-10-29/
END:VEVENT
BEGIN:VEVENT
DTSTART;VALUE=DATE:20271101
DTEND;VALUE=DATE:20271102
DTSTAMP:20260421T083716
CREATED:20260305T041627Z
LAST-MODIFIED:20260305T042125Z
UID:10000348-1825027200-1825113599@comunidad.nexthaz.com
SUMMARY:📲Llamadas Semanal
DESCRIPTION:
URL:https://comunidad.nexthaz.com/event/llamadas-semanal/2027-11-01/
END:VEVENT
BEGIN:VEVENT
DTSTART;VALUE=DATE:20271105
DTEND;VALUE=DATE:20271106
DTSTAMP:20260421T083716
CREATED:20260305T035246Z
LAST-MODIFIED:20260305T042019Z
UID:10000669-1825372800-1825459199@comunidad.nexthaz.com
SUMMARY:💡Nuevas Ideas de Negocio
DESCRIPTION:
URL:https://comunidad.nexthaz.com/event/nuevas-ideas-de-negocio/2027-11-05/
END:VEVENT
BEGIN:VEVENT
DTSTART;VALUE=DATE:20271108
DTEND;VALUE=DATE:20271109
DTSTAMP:20260421T083716
CREATED:20260305T041627Z
LAST-MODIFIED:20260305T042125Z
UID:10000349-1825632000-1825718399@comunidad.nexthaz.com
SUMMARY:📲Llamadas Semanal
DESCRIPTION:
URL:https://comunidad.nexthaz.com/event/llamadas-semanal/2027-11-08/
END:VEVENT
BEGIN:VEVENT
DTSTART;VALUE=DATE:20271112
DTEND;VALUE=DATE:20271113
DTSTAMP:20260421T083716
CREATED:20260305T035246Z
LAST-MODIFIED:20260305T042019Z
UID:10000670-1825977600-1826063999@comunidad.nexthaz.com
SUMMARY:💡Nuevas Ideas de Negocio
DESCRIPTION:
URL:https://comunidad.nexthaz.com/event/nuevas-ideas-de-negocio/2027-11-12/
END:VEVENT
BEGIN:VEVENT
DTSTART;VALUE=DATE:20271115
DTEND;VALUE=DATE:20271116
DTSTAMP:20260421T083716
CREATED:20260305T041627Z
LAST-MODIFIED:20260305T042125Z
UID:10000350-1826236800-1826323199@comunidad.nexthaz.com
SUMMARY:📲Llamadas Semanal
DESCRIPTION:
URL:https://comunidad.nexthaz.com/event/llamadas-semanal/2027-11-15/
END:VEVENT
BEGIN:VEVENT
DTSTART;VALUE=DATE:20271117
DTEND;VALUE=DATE:20271118
DTSTAMP:20260421T083716
CREATED:20260305T041842Z
LAST-MODIFIED:20260305T041842Z
UID:10000543-1826409600-1826495999@comunidad.nexthaz.com
SUMMARY:⭐Curso Nuevo
DESCRIPTION:
URL:https://comunidad.nexthaz.com/event/%e2%ad%90curso-nuevo/2027-11-17/
END:VEVENT
BEGIN:VEVENT
DTSTART;VALUE=DATE:20271119
DTEND;VALUE=DATE:20271120
DTSTAMP:20260421T083716
CREATED:20260305T035246Z
LAST-MODIFIED:20260305T042019Z
UID:10000671-1826582400-1826668799@comunidad.nexthaz.com
SUMMARY:💡Nuevas Ideas de Negocio
DESCRIPTION:
URL:https://comunidad.nexthaz.com/event/nuevas-ideas-de-negocio/2027-11-19/
END:VEVENT
BEGIN:VEVENT
DTSTART;VALUE=DATE:20271122
DTEND;VALUE=DATE:20271123
DTSTAMP:20260421T083716
CREATED:20260305T041627Z
LAST-MODIFIED:20260305T042125Z
UID:10000351-1826841600-1826927999@comunidad.nexthaz.com
SUMMARY:📲Llamadas Semanal
DESCRIPTION:
URL:https://comunidad.nexthaz.com/event/llamadas-semanal/2027-11-22/
END:VEVENT
BEGIN:VEVENT
DTSTART;VALUE=DATE:20271126
DTEND;VALUE=DATE:20271127
DTSTAMP:20260421T083716
CREATED:20260305T035246Z
LAST-MODIFIED:20260305T042019Z
UID:10000672-1827187200-1827273599@comunidad.nexthaz.com
SUMMARY:💡Nuevas Ideas de Negocio
DESCRIPTION:
URL:https://comunidad.nexthaz.com/event/nuevas-ideas-de-negocio/2027-11-26/
END:VEVENT
END:VCALENDAR