BEGIN:VCALENDAR
VERSION:2.0
PRODID:-//Comunidad Nexthaz - ECPv6.15.17//NONSGML v1.0//EN
CALSCALE:GREGORIAN
METHOD:PUBLISH
X-ORIGINAL-URL:https://comunidad.nexthaz.com
X-WR-CALDESC:Eventos para Comunidad Nexthaz
REFRESH-INTERVAL;VALUE=DURATION:PT1H
X-Robots-Tag:noindex
X-PUBLISHED-TTL:PT1H
BEGIN:VTIMEZONE
TZID:UTC
BEGIN:STANDARD
TZOFFSETFROM:+0000
TZOFFSETTO:+0000
TZNAME:UTC
DTSTART:20260101T000000
END:STANDARD
END:VTIMEZONE
BEGIN:VEVENT
DTSTART;VALUE=DATE:20271215
DTEND;VALUE=DATE:20271216
DTSTAMP:20260419T212229
CREATED:20260305T041842Z
LAST-MODIFIED:20260305T041842Z
UID:10000544-1828828800-1828915199@comunidad.nexthaz.com
SUMMARY:⭐Curso Nuevo
DESCRIPTION:
URL:https://comunidad.nexthaz.com/event/%e2%ad%90curso-nuevo/2027-12-15/
END:VEVENT
BEGIN:VEVENT
DTSTART;VALUE=DATE:20271217
DTEND;VALUE=DATE:20271218
DTSTAMP:20260419T212229
CREATED:20260305T035246Z
LAST-MODIFIED:20260305T042019Z
UID:10000675-1829001600-1829087999@comunidad.nexthaz.com
SUMMARY:💡Nuevas Ideas de Negocio
DESCRIPTION:
URL:https://comunidad.nexthaz.com/event/nuevas-ideas-de-negocio/2027-12-17/
END:VEVENT
BEGIN:VEVENT
DTSTART;VALUE=DATE:20271220
DTEND;VALUE=DATE:20271221
DTSTAMP:20260419T212229
CREATED:20260305T041627Z
LAST-MODIFIED:20260305T042125Z
UID:10000355-1829260800-1829347199@comunidad.nexthaz.com
SUMMARY:📲Llamadas Semanal
DESCRIPTION:
URL:https://comunidad.nexthaz.com/event/llamadas-semanal/2027-12-20/
END:VEVENT
BEGIN:VEVENT
DTSTART;VALUE=DATE:20271224
DTEND;VALUE=DATE:20271225
DTSTAMP:20260419T212229
CREATED:20260305T035246Z
LAST-MODIFIED:20260305T042019Z
UID:10000676-1829606400-1829692799@comunidad.nexthaz.com
SUMMARY:💡Nuevas Ideas de Negocio
DESCRIPTION:
URL:https://comunidad.nexthaz.com/event/nuevas-ideas-de-negocio/2027-12-24/
END:VEVENT
BEGIN:VEVENT
DTSTART;VALUE=DATE:20271227
DTEND;VALUE=DATE:20271228
DTSTAMP:20260419T212229
CREATED:20260305T041627Z
LAST-MODIFIED:20260305T042125Z
UID:10000356-1829865600-1829951999@comunidad.nexthaz.com
SUMMARY:📲Llamadas Semanal
DESCRIPTION:
URL:https://comunidad.nexthaz.com/event/llamadas-semanal/2027-12-27/
END:VEVENT
BEGIN:VEVENT
DTSTART;VALUE=DATE:20271231
DTEND;VALUE=DATE:20280101
DTSTAMP:20260419T212229
CREATED:20260305T035246Z
LAST-MODIFIED:20260305T042019Z
UID:10000677-1830211200-1830297599@comunidad.nexthaz.com
SUMMARY:💡Nuevas Ideas de Negocio
DESCRIPTION:
URL:https://comunidad.nexthaz.com/event/nuevas-ideas-de-negocio/2027-12-31/
END:VEVENT
BEGIN:VEVENT
DTSTART;VALUE=DATE:20280103
DTEND;VALUE=DATE:20280104
DTSTAMP:20260419T212229
CREATED:20260305T041627Z
LAST-MODIFIED:20260305T042125Z
UID:10000357-1830470400-1830556799@comunidad.nexthaz.com
SUMMARY:📲Llamadas Semanal
DESCRIPTION:
URL:https://comunidad.nexthaz.com/event/llamadas-semanal/2028-01-03/
END:VEVENT
BEGIN:VEVENT
DTSTART;VALUE=DATE:20280107
DTEND;VALUE=DATE:20280108
DTSTAMP:20260419T212229
CREATED:20260305T035246Z
LAST-MODIFIED:20260305T042019Z
UID:10000678-1830816000-1830902399@comunidad.nexthaz.com
SUMMARY:💡Nuevas Ideas de Negocio
DESCRIPTION:
URL:https://comunidad.nexthaz.com/event/nuevas-ideas-de-negocio/2028-01-07/
END:VEVENT
BEGIN:VEVENT
DTSTART;VALUE=DATE:20280110
DTEND;VALUE=DATE:20280111
DTSTAMP:20260419T212229
CREATED:20260305T041627Z
LAST-MODIFIED:20260305T042125Z
UID:10000358-1831075200-1831161599@comunidad.nexthaz.com
SUMMARY:📲Llamadas Semanal
DESCRIPTION:
URL:https://comunidad.nexthaz.com/event/llamadas-semanal/2028-01-10/
END:VEVENT
BEGIN:VEVENT
DTSTART;VALUE=DATE:20280114
DTEND;VALUE=DATE:20280115
DTSTAMP:20260419T212229
CREATED:20260305T035246Z
LAST-MODIFIED:20260305T042019Z
UID:10000679-1831420800-1831507199@comunidad.nexthaz.com
SUMMARY:💡Nuevas Ideas de Negocio
DESCRIPTION:
URL:https://comunidad.nexthaz.com/event/nuevas-ideas-de-negocio/2028-01-14/
END:VEVENT
BEGIN:VEVENT
DTSTART;VALUE=DATE:20280117
DTEND;VALUE=DATE:20280118
DTSTAMP:20260419T212229
CREATED:20260305T041627Z
LAST-MODIFIED:20260305T042125Z
UID:10000359-1831680000-1831766399@comunidad.nexthaz.com
SUMMARY:📲Llamadas Semanal
DESCRIPTION:
URL:https://comunidad.nexthaz.com/event/llamadas-semanal/2028-01-17/
END:VEVENT
BEGIN:VEVENT
DTSTART;VALUE=DATE:20280119
DTEND;VALUE=DATE:20280120
DTSTAMP:20260419T212229
CREATED:20260305T041842Z
LAST-MODIFIED:20260305T041842Z
UID:10000545-1831852800-1831939199@comunidad.nexthaz.com
SUMMARY:⭐Curso Nuevo
DESCRIPTION:
URL:https://comunidad.nexthaz.com/event/%e2%ad%90curso-nuevo/2028-01-19/
END:VEVENT
BEGIN:VEVENT
DTSTART;VALUE=DATE:20280121
DTEND;VALUE=DATE:20280122
DTSTAMP:20260419T212229
CREATED:20260305T035246Z
LAST-MODIFIED:20260305T042019Z
UID:10000680-1832025600-1832111999@comunidad.nexthaz.com
SUMMARY:💡Nuevas Ideas de Negocio
DESCRIPTION:
URL:https://comunidad.nexthaz.com/event/nuevas-ideas-de-negocio/2028-01-21/
END:VEVENT
BEGIN:VEVENT
DTSTART;VALUE=DATE:20280124
DTEND;VALUE=DATE:20280125
DTSTAMP:20260419T212229
CREATED:20260305T041627Z
LAST-MODIFIED:20260305T042125Z
UID:10000360-1832284800-1832371199@comunidad.nexthaz.com
SUMMARY:📲Llamadas Semanal
DESCRIPTION:
URL:https://comunidad.nexthaz.com/event/llamadas-semanal/2028-01-24/
END:VEVENT
BEGIN:VEVENT
DTSTART;VALUE=DATE:20280128
DTEND;VALUE=DATE:20280129
DTSTAMP:20260419T212229
CREATED:20260305T035246Z
LAST-MODIFIED:20260305T042019Z
UID:10000681-1832630400-1832716799@comunidad.nexthaz.com
SUMMARY:💡Nuevas Ideas de Negocio
DESCRIPTION:
URL:https://comunidad.nexthaz.com/event/nuevas-ideas-de-negocio/2028-01-28/
END:VEVENT
BEGIN:VEVENT
DTSTART;VALUE=DATE:20280131
DTEND;VALUE=DATE:20280201
DTSTAMP:20260419T212229
CREATED:20260305T041627Z
LAST-MODIFIED:20260305T042125Z
UID:10000361-1832889600-1832975999@comunidad.nexthaz.com
SUMMARY:📲Llamadas Semanal
DESCRIPTION:
URL:https://comunidad.nexthaz.com/event/llamadas-semanal/2028-01-31/
END:VEVENT
BEGIN:VEVENT
DTSTART;VALUE=DATE:20280204
DTEND;VALUE=DATE:20280205
DTSTAMP:20260419T212229
CREATED:20260305T035246Z
LAST-MODIFIED:20260305T042019Z
UID:10000682-1833235200-1833321599@comunidad.nexthaz.com
SUMMARY:💡Nuevas Ideas de Negocio
DESCRIPTION:
URL:https://comunidad.nexthaz.com/event/nuevas-ideas-de-negocio/2028-02-04/
END:VEVENT
BEGIN:VEVENT
DTSTART;VALUE=DATE:20280207
DTEND;VALUE=DATE:20280208
DTSTAMP:20260419T212229
CREATED:20260305T041627Z
LAST-MODIFIED:20260305T042125Z
UID:10000362-1833494400-1833580799@comunidad.nexthaz.com
SUMMARY:📲Llamadas Semanal
DESCRIPTION:
URL:https://comunidad.nexthaz.com/event/llamadas-semanal/2028-02-07/
END:VEVENT
BEGIN:VEVENT
DTSTART;VALUE=DATE:20280211
DTEND;VALUE=DATE:20280212
DTSTAMP:20260419T212229
CREATED:20260305T035246Z
LAST-MODIFIED:20260305T042019Z
UID:10000683-1833840000-1833926399@comunidad.nexthaz.com
SUMMARY:💡Nuevas Ideas de Negocio
DESCRIPTION:
URL:https://comunidad.nexthaz.com/event/nuevas-ideas-de-negocio/2028-02-11/
END:VEVENT
BEGIN:VEVENT
DTSTART;VALUE=DATE:20280214
DTEND;VALUE=DATE:20280215
DTSTAMP:20260419T212229
CREATED:20260305T041627Z
LAST-MODIFIED:20260305T042125Z
UID:10000363-1834099200-1834185599@comunidad.nexthaz.com
SUMMARY:📲Llamadas Semanal
DESCRIPTION:
URL:https://comunidad.nexthaz.com/event/llamadas-semanal/2028-02-14/
END:VEVENT
BEGIN:VEVENT
DTSTART;VALUE=DATE:20280216
DTEND;VALUE=DATE:20280217
DTSTAMP:20260419T212229
CREATED:20260305T041842Z
LAST-MODIFIED:20260305T041842Z
UID:10000546-1834272000-1834358399@comunidad.nexthaz.com
SUMMARY:⭐Curso Nuevo
DESCRIPTION:
URL:https://comunidad.nexthaz.com/event/%e2%ad%90curso-nuevo/2028-02-16/
END:VEVENT
BEGIN:VEVENT
DTSTART;VALUE=DATE:20280218
DTEND;VALUE=DATE:20280219
DTSTAMP:20260419T212229
CREATED:20260305T035246Z
LAST-MODIFIED:20260305T042019Z
UID:10000684-1834444800-1834531199@comunidad.nexthaz.com
SUMMARY:💡Nuevas Ideas de Negocio
DESCRIPTION:
URL:https://comunidad.nexthaz.com/event/nuevas-ideas-de-negocio/2028-02-18/
END:VEVENT
BEGIN:VEVENT
DTSTART;VALUE=DATE:20280221
DTEND;VALUE=DATE:20280222
DTSTAMP:20260419T212229
CREATED:20260305T041627Z
LAST-MODIFIED:20260305T042125Z
UID:10000364-1834704000-1834790399@comunidad.nexthaz.com
SUMMARY:📲Llamadas Semanal
DESCRIPTION:
URL:https://comunidad.nexthaz.com/event/llamadas-semanal/2028-02-21/
END:VEVENT
BEGIN:VEVENT
DTSTART;VALUE=DATE:20280225
DTEND;VALUE=DATE:20280226
DTSTAMP:20260419T212229
CREATED:20260305T035246Z
LAST-MODIFIED:20260305T042019Z
UID:10000685-1835049600-1835135999@comunidad.nexthaz.com
SUMMARY:💡Nuevas Ideas de Negocio
DESCRIPTION:
URL:https://comunidad.nexthaz.com/event/nuevas-ideas-de-negocio/2028-02-25/
END:VEVENT
BEGIN:VEVENT
DTSTART;VALUE=DATE:20280228
DTEND;VALUE=DATE:20280229
DTSTAMP:20260419T212229
CREATED:20260305T041627Z
LAST-MODIFIED:20260305T042125Z
UID:10000365-1835308800-1835395199@comunidad.nexthaz.com
SUMMARY:📲Llamadas Semanal
DESCRIPTION:
URL:https://comunidad.nexthaz.com/event/llamadas-semanal/2028-02-28/
END:VEVENT
BEGIN:VEVENT
DTSTART;VALUE=DATE:20280303
DTEND;VALUE=DATE:20280304
DTSTAMP:20260419T212229
CREATED:20260305T035246Z
LAST-MODIFIED:20260305T042019Z
UID:10000686-1835654400-1835740799@comunidad.nexthaz.com
SUMMARY:💡Nuevas Ideas de Negocio
DESCRIPTION:
URL:https://comunidad.nexthaz.com/event/nuevas-ideas-de-negocio/2028-03-03/
END:VEVENT
BEGIN:VEVENT
DTSTART;VALUE=DATE:20280306
DTEND;VALUE=DATE:20280307
DTSTAMP:20260419T212229
CREATED:20260305T041627Z
LAST-MODIFIED:20260305T042125Z
UID:10000366-1835913600-1835999999@comunidad.nexthaz.com
SUMMARY:📲Llamadas Semanal
DESCRIPTION:
URL:https://comunidad.nexthaz.com/event/llamadas-semanal/2028-03-06/
END:VEVENT
BEGIN:VEVENT
DTSTART;VALUE=DATE:20280310
DTEND;VALUE=DATE:20280311
DTSTAMP:20260419T212229
CREATED:20260305T035246Z
LAST-MODIFIED:20260305T042019Z
UID:10000687-1836259200-1836345599@comunidad.nexthaz.com
SUMMARY:💡Nuevas Ideas de Negocio
DESCRIPTION:
URL:https://comunidad.nexthaz.com/event/nuevas-ideas-de-negocio/2028-03-10/
END:VEVENT
BEGIN:VEVENT
DTSTART;VALUE=DATE:20280313
DTEND;VALUE=DATE:20280314
DTSTAMP:20260419T212229
CREATED:20260305T041627Z
LAST-MODIFIED:20260305T042125Z
UID:10000367-1836518400-1836604799@comunidad.nexthaz.com
SUMMARY:📲Llamadas Semanal
DESCRIPTION:
URL:https://comunidad.nexthaz.com/event/llamadas-semanal/2028-03-13/
END:VEVENT
BEGIN:VEVENT
DTSTART;VALUE=DATE:20280315
DTEND;VALUE=DATE:20280316
DTSTAMP:20260419T212229
CREATED:20260305T041842Z
LAST-MODIFIED:20260305T041842Z
UID:10000547-1836691200-1836777599@comunidad.nexthaz.com
SUMMARY:⭐Curso Nuevo
DESCRIPTION:
URL:https://comunidad.nexthaz.com/event/%e2%ad%90curso-nuevo/2028-03-15/
END:VEVENT
END:VCALENDAR