BEGIN:VCALENDAR
VERSION:2.0
PRODID:-//Comunidad Nexthaz - ECPv6.15.17//NONSGML v1.0//EN
CALSCALE:GREGORIAN
METHOD:PUBLISH
X-ORIGINAL-URL:https://comunidad.nexthaz.com
X-WR-CALDESC:Eventos para Comunidad Nexthaz
REFRESH-INTERVAL;VALUE=DURATION:PT1H
X-Robots-Tag:noindex
X-PUBLISHED-TTL:PT1H
BEGIN:VTIMEZONE
TZID:UTC
BEGIN:STANDARD
TZOFFSETFROM:+0000
TZOFFSETTO:+0000
TZNAME:UTC
DTSTART:20270101T000000
END:STANDARD
END:VTIMEZONE
BEGIN:VEVENT
DTSTART;VALUE=DATE:20280228
DTEND;VALUE=DATE:20280229
DTSTAMP:20260420T004111
CREATED:20260305T041627Z
LAST-MODIFIED:20260305T042125Z
UID:10000365-1835308800-1835395199@comunidad.nexthaz.com
SUMMARY:📲Llamadas Semanal
DESCRIPTION:
URL:https://comunidad.nexthaz.com/event/llamadas-semanal/2028-02-28/
END:VEVENT
BEGIN:VEVENT
DTSTART;VALUE=DATE:20280303
DTEND;VALUE=DATE:20280304
DTSTAMP:20260420T004111
CREATED:20260305T035246Z
LAST-MODIFIED:20260305T042019Z
UID:10000686-1835654400-1835740799@comunidad.nexthaz.com
SUMMARY:💡Nuevas Ideas de Negocio
DESCRIPTION:
URL:https://comunidad.nexthaz.com/event/nuevas-ideas-de-negocio/2028-03-03/
END:VEVENT
BEGIN:VEVENT
DTSTART;VALUE=DATE:20280306
DTEND;VALUE=DATE:20280307
DTSTAMP:20260420T004111
CREATED:20260305T041627Z
LAST-MODIFIED:20260305T042125Z
UID:10000366-1835913600-1835999999@comunidad.nexthaz.com
SUMMARY:📲Llamadas Semanal
DESCRIPTION:
URL:https://comunidad.nexthaz.com/event/llamadas-semanal/2028-03-06/
END:VEVENT
BEGIN:VEVENT
DTSTART;VALUE=DATE:20280310
DTEND;VALUE=DATE:20280311
DTSTAMP:20260420T004111
CREATED:20260305T035246Z
LAST-MODIFIED:20260305T042019Z
UID:10000687-1836259200-1836345599@comunidad.nexthaz.com
SUMMARY:💡Nuevas Ideas de Negocio
DESCRIPTION:
URL:https://comunidad.nexthaz.com/event/nuevas-ideas-de-negocio/2028-03-10/
END:VEVENT
BEGIN:VEVENT
DTSTART;VALUE=DATE:20280313
DTEND;VALUE=DATE:20280314
DTSTAMP:20260420T004111
CREATED:20260305T041627Z
LAST-MODIFIED:20260305T042125Z
UID:10000367-1836518400-1836604799@comunidad.nexthaz.com
SUMMARY:📲Llamadas Semanal
DESCRIPTION:
URL:https://comunidad.nexthaz.com/event/llamadas-semanal/2028-03-13/
END:VEVENT
BEGIN:VEVENT
DTSTART;VALUE=DATE:20280315
DTEND;VALUE=DATE:20280316
DTSTAMP:20260420T004111
CREATED:20260305T041842Z
LAST-MODIFIED:20260305T041842Z
UID:10000547-1836691200-1836777599@comunidad.nexthaz.com
SUMMARY:⭐Curso Nuevo
DESCRIPTION:
URL:https://comunidad.nexthaz.com/event/%e2%ad%90curso-nuevo/2028-03-15/
END:VEVENT
BEGIN:VEVENT
DTSTART;VALUE=DATE:20280317
DTEND;VALUE=DATE:20280318
DTSTAMP:20260420T004111
CREATED:20260305T035246Z
LAST-MODIFIED:20260305T042019Z
UID:10000688-1836864000-1836950399@comunidad.nexthaz.com
SUMMARY:💡Nuevas Ideas de Negocio
DESCRIPTION:
URL:https://comunidad.nexthaz.com/event/nuevas-ideas-de-negocio/2028-03-17/
END:VEVENT
BEGIN:VEVENT
DTSTART;VALUE=DATE:20280320
DTEND;VALUE=DATE:20280321
DTSTAMP:20260420T004111
CREATED:20260305T041627Z
LAST-MODIFIED:20260305T042125Z
UID:10000368-1837123200-1837209599@comunidad.nexthaz.com
SUMMARY:📲Llamadas Semanal
DESCRIPTION:
URL:https://comunidad.nexthaz.com/event/llamadas-semanal/2028-03-20/
END:VEVENT
BEGIN:VEVENT
DTSTART;VALUE=DATE:20280324
DTEND;VALUE=DATE:20280325
DTSTAMP:20260420T004111
CREATED:20260305T035246Z
LAST-MODIFIED:20260305T042019Z
UID:10000689-1837468800-1837555199@comunidad.nexthaz.com
SUMMARY:💡Nuevas Ideas de Negocio
DESCRIPTION:
URL:https://comunidad.nexthaz.com/event/nuevas-ideas-de-negocio/2028-03-24/
END:VEVENT
BEGIN:VEVENT
DTSTART;VALUE=DATE:20280327
DTEND;VALUE=DATE:20280328
DTSTAMP:20260420T004111
CREATED:20260305T041627Z
LAST-MODIFIED:20260305T042125Z
UID:10000369-1837728000-1837814399@comunidad.nexthaz.com
SUMMARY:📲Llamadas Semanal
DESCRIPTION:
URL:https://comunidad.nexthaz.com/event/llamadas-semanal/2028-03-27/
END:VEVENT
BEGIN:VEVENT
DTSTART;VALUE=DATE:20280331
DTEND;VALUE=DATE:20280401
DTSTAMP:20260420T004111
CREATED:20260305T035246Z
LAST-MODIFIED:20260305T042019Z
UID:10000690-1838073600-1838159999@comunidad.nexthaz.com
SUMMARY:💡Nuevas Ideas de Negocio
DESCRIPTION:
URL:https://comunidad.nexthaz.com/event/nuevas-ideas-de-negocio/2028-03-31/
END:VEVENT
BEGIN:VEVENT
DTSTART;VALUE=DATE:20280403
DTEND;VALUE=DATE:20280404
DTSTAMP:20260420T004111
CREATED:20260305T041627Z
LAST-MODIFIED:20260305T042125Z
UID:10000370-1838332800-1838419199@comunidad.nexthaz.com
SUMMARY:📲Llamadas Semanal
DESCRIPTION:
URL:https://comunidad.nexthaz.com/event/llamadas-semanal/2028-04-03/
END:VEVENT
BEGIN:VEVENT
DTSTART;VALUE=DATE:20280407
DTEND;VALUE=DATE:20280408
DTSTAMP:20260420T004111
CREATED:20260305T035246Z
LAST-MODIFIED:20260305T042019Z
UID:10000691-1838678400-1838764799@comunidad.nexthaz.com
SUMMARY:💡Nuevas Ideas de Negocio
DESCRIPTION:
URL:https://comunidad.nexthaz.com/event/nuevas-ideas-de-negocio/2028-04-07/
END:VEVENT
BEGIN:VEVENT
DTSTART;VALUE=DATE:20280410
DTEND;VALUE=DATE:20280411
DTSTAMP:20260420T004111
CREATED:20260305T041627Z
LAST-MODIFIED:20260305T042125Z
UID:10000371-1838937600-1839023999@comunidad.nexthaz.com
SUMMARY:📲Llamadas Semanal
DESCRIPTION:
URL:https://comunidad.nexthaz.com/event/llamadas-semanal/2028-04-10/
END:VEVENT
BEGIN:VEVENT
DTSTART;VALUE=DATE:20280414
DTEND;VALUE=DATE:20280415
DTSTAMP:20260420T004111
CREATED:20260305T035246Z
LAST-MODIFIED:20260305T042019Z
UID:10000692-1839283200-1839369599@comunidad.nexthaz.com
SUMMARY:💡Nuevas Ideas de Negocio
DESCRIPTION:
URL:https://comunidad.nexthaz.com/event/nuevas-ideas-de-negocio/2028-04-14/
END:VEVENT
BEGIN:VEVENT
DTSTART;VALUE=DATE:20280417
DTEND;VALUE=DATE:20280418
DTSTAMP:20260420T004111
CREATED:20260305T041627Z
LAST-MODIFIED:20260305T042125Z
UID:10000372-1839542400-1839628799@comunidad.nexthaz.com
SUMMARY:📲Llamadas Semanal
DESCRIPTION:
URL:https://comunidad.nexthaz.com/event/llamadas-semanal/2028-04-17/
END:VEVENT
BEGIN:VEVENT
DTSTART;VALUE=DATE:20280419
DTEND;VALUE=DATE:20280420
DTSTAMP:20260420T004111
CREATED:20260305T041842Z
LAST-MODIFIED:20260305T041842Z
UID:10000548-1839715200-1839801599@comunidad.nexthaz.com
SUMMARY:⭐Curso Nuevo
DESCRIPTION:
URL:https://comunidad.nexthaz.com/event/%e2%ad%90curso-nuevo/2028-04-19/
END:VEVENT
BEGIN:VEVENT
DTSTART;VALUE=DATE:20280421
DTEND;VALUE=DATE:20280422
DTSTAMP:20260420T004111
CREATED:20260305T035246Z
LAST-MODIFIED:20260305T042019Z
UID:10000693-1839888000-1839974399@comunidad.nexthaz.com
SUMMARY:💡Nuevas Ideas de Negocio
DESCRIPTION:
URL:https://comunidad.nexthaz.com/event/nuevas-ideas-de-negocio/2028-04-21/
END:VEVENT
BEGIN:VEVENT
DTSTART;VALUE=DATE:20280424
DTEND;VALUE=DATE:20280425
DTSTAMP:20260420T004111
CREATED:20260305T041627Z
LAST-MODIFIED:20260305T042125Z
UID:10000373-1840147200-1840233599@comunidad.nexthaz.com
SUMMARY:📲Llamadas Semanal
DESCRIPTION:
URL:https://comunidad.nexthaz.com/event/llamadas-semanal/2028-04-24/
END:VEVENT
BEGIN:VEVENT
DTSTART;VALUE=DATE:20280428
DTEND;VALUE=DATE:20280429
DTSTAMP:20260420T004111
CREATED:20260305T035246Z
LAST-MODIFIED:20260305T042019Z
UID:10000694-1840492800-1840579199@comunidad.nexthaz.com
SUMMARY:💡Nuevas Ideas de Negocio
DESCRIPTION:
URL:https://comunidad.nexthaz.com/event/nuevas-ideas-de-negocio/2028-04-28/
END:VEVENT
BEGIN:VEVENT
DTSTART;VALUE=DATE:20280501
DTEND;VALUE=DATE:20280502
DTSTAMP:20260420T004111
CREATED:20260305T041627Z
LAST-MODIFIED:20260305T042125Z
UID:10000374-1840752000-1840838399@comunidad.nexthaz.com
SUMMARY:📲Llamadas Semanal
DESCRIPTION:
URL:https://comunidad.nexthaz.com/event/llamadas-semanal/2028-05-01/
END:VEVENT
BEGIN:VEVENT
DTSTART;VALUE=DATE:20280505
DTEND;VALUE=DATE:20280506
DTSTAMP:20260420T004111
CREATED:20260305T035246Z
LAST-MODIFIED:20260305T042019Z
UID:10000695-1841097600-1841183999@comunidad.nexthaz.com
SUMMARY:💡Nuevas Ideas de Negocio
DESCRIPTION:
URL:https://comunidad.nexthaz.com/event/nuevas-ideas-de-negocio/2028-05-05/
END:VEVENT
BEGIN:VEVENT
DTSTART;VALUE=DATE:20280508
DTEND;VALUE=DATE:20280509
DTSTAMP:20260420T004111
CREATED:20260305T041627Z
LAST-MODIFIED:20260305T042125Z
UID:10000375-1841356800-1841443199@comunidad.nexthaz.com
SUMMARY:📲Llamadas Semanal
DESCRIPTION:
URL:https://comunidad.nexthaz.com/event/llamadas-semanal/2028-05-08/
END:VEVENT
BEGIN:VEVENT
DTSTART;VALUE=DATE:20280512
DTEND;VALUE=DATE:20280513
DTSTAMP:20260420T004111
CREATED:20260305T035246Z
LAST-MODIFIED:20260305T042019Z
UID:10000696-1841702400-1841788799@comunidad.nexthaz.com
SUMMARY:💡Nuevas Ideas de Negocio
DESCRIPTION:
URL:https://comunidad.nexthaz.com/event/nuevas-ideas-de-negocio/2028-05-12/
END:VEVENT
BEGIN:VEVENT
DTSTART;VALUE=DATE:20280515
DTEND;VALUE=DATE:20280516
DTSTAMP:20260420T004111
CREATED:20260305T041627Z
LAST-MODIFIED:20260305T042125Z
UID:10000376-1841961600-1842047999@comunidad.nexthaz.com
SUMMARY:📲Llamadas Semanal
DESCRIPTION:
URL:https://comunidad.nexthaz.com/event/llamadas-semanal/2028-05-15/
END:VEVENT
BEGIN:VEVENT
DTSTART;VALUE=DATE:20280517
DTEND;VALUE=DATE:20280518
DTSTAMP:20260420T004111
CREATED:20260305T041842Z
LAST-MODIFIED:20260305T041842Z
UID:10000549-1842134400-1842220799@comunidad.nexthaz.com
SUMMARY:⭐Curso Nuevo
DESCRIPTION:
URL:https://comunidad.nexthaz.com/event/%e2%ad%90curso-nuevo/2028-05-17/
END:VEVENT
BEGIN:VEVENT
DTSTART;VALUE=DATE:20280519
DTEND;VALUE=DATE:20280520
DTSTAMP:20260420T004111
CREATED:20260305T035246Z
LAST-MODIFIED:20260305T042019Z
UID:10000697-1842307200-1842393599@comunidad.nexthaz.com
SUMMARY:💡Nuevas Ideas de Negocio
DESCRIPTION:
URL:https://comunidad.nexthaz.com/event/nuevas-ideas-de-negocio/2028-05-19/
END:VEVENT
BEGIN:VEVENT
DTSTART;VALUE=DATE:20280522
DTEND;VALUE=DATE:20280523
DTSTAMP:20260420T004111
CREATED:20260305T041627Z
LAST-MODIFIED:20260305T042125Z
UID:10000377-1842566400-1842652799@comunidad.nexthaz.com
SUMMARY:📲Llamadas Semanal
DESCRIPTION:
URL:https://comunidad.nexthaz.com/event/llamadas-semanal/2028-05-22/
END:VEVENT
BEGIN:VEVENT
DTSTART;VALUE=DATE:20280526
DTEND;VALUE=DATE:20280527
DTSTAMP:20260420T004111
CREATED:20260305T035246Z
LAST-MODIFIED:20260305T042019Z
UID:10000698-1842912000-1842998399@comunidad.nexthaz.com
SUMMARY:💡Nuevas Ideas de Negocio
DESCRIPTION:
URL:https://comunidad.nexthaz.com/event/nuevas-ideas-de-negocio/2028-05-26/
END:VEVENT
BEGIN:VEVENT
DTSTART;VALUE=DATE:20280529
DTEND;VALUE=DATE:20280530
DTSTAMP:20260420T004111
CREATED:20260305T041627Z
LAST-MODIFIED:20260305T042125Z
UID:10000378-1843171200-1843257599@comunidad.nexthaz.com
SUMMARY:📲Llamadas Semanal
DESCRIPTION:
URL:https://comunidad.nexthaz.com/event/llamadas-semanal/2028-05-29/
END:VEVENT
END:VCALENDAR