BEGIN:VCALENDAR
VERSION:2.0
PRODID:-//Comunidad Nexthaz - ECPv6.15.17//NONSGML v1.0//EN
CALSCALE:GREGORIAN
METHOD:PUBLISH
X-WR-CALNAME:Comunidad Nexthaz
X-ORIGINAL-URL:https://comunidad.nexthaz.com
X-WR-CALDESC:Eventos para Comunidad Nexthaz
REFRESH-INTERVAL;VALUE=DURATION:PT1H
X-Robots-Tag:noindex
X-PUBLISHED-TTL:PT1H
BEGIN:VTIMEZONE
TZID:UTC
BEGIN:STANDARD
TZOFFSETFROM:+0000
TZOFFSETTO:+0000
TZNAME:UTC
DTSTART:20280101T000000
END:STANDARD
END:VTIMEZONE
BEGIN:VEVENT
DTSTART;VALUE=DATE:20290316
DTEND;VALUE=DATE:20290317
DTSTAMP:20260422T090417
CREATED:20260305T035246Z
LAST-MODIFIED:20260305T042019Z
UID:10000740-1868313600-1868399999@comunidad.nexthaz.com
SUMMARY:💡Nuevas Ideas de Negocio
DESCRIPTION:
URL:https://comunidad.nexthaz.com/event/nuevas-ideas-de-negocio/2029-03-16/
END:VEVENT
BEGIN:VEVENT
DTSTART;VALUE=DATE:20290319
DTEND;VALUE=DATE:20290320
DTSTAMP:20260422T090417
CREATED:20260305T041627Z
LAST-MODIFIED:20260305T042125Z
UID:10000420-1868572800-1868659199@comunidad.nexthaz.com
SUMMARY:📲Llamadas Semanal
DESCRIPTION:
URL:https://comunidad.nexthaz.com/event/llamadas-semanal/2029-03-19/
END:VEVENT
BEGIN:VEVENT
DTSTART;VALUE=DATE:20290321
DTEND;VALUE=DATE:20290322
DTSTAMP:20260422T090417
CREATED:20260305T041842Z
LAST-MODIFIED:20260305T041842Z
UID:10000559-1868745600-1868831999@comunidad.nexthaz.com
SUMMARY:⭐Curso Nuevo
DESCRIPTION:
URL:https://comunidad.nexthaz.com/event/%e2%ad%90curso-nuevo/2029-03-21/
END:VEVENT
BEGIN:VEVENT
DTSTART;VALUE=DATE:20290323
DTEND;VALUE=DATE:20290324
DTSTAMP:20260422T090417
CREATED:20260305T035246Z
LAST-MODIFIED:20260305T042019Z
UID:10000741-1868918400-1869004799@comunidad.nexthaz.com
SUMMARY:💡Nuevas Ideas de Negocio
DESCRIPTION:
URL:https://comunidad.nexthaz.com/event/nuevas-ideas-de-negocio/2029-03-23/
END:VEVENT
BEGIN:VEVENT
DTSTART;VALUE=DATE:20290326
DTEND;VALUE=DATE:20290327
DTSTAMP:20260422T090417
CREATED:20260305T041627Z
LAST-MODIFIED:20260305T042125Z
UID:10000421-1869177600-1869263999@comunidad.nexthaz.com
SUMMARY:📲Llamadas Semanal
DESCRIPTION:
URL:https://comunidad.nexthaz.com/event/llamadas-semanal/2029-03-26/
END:VEVENT
BEGIN:VEVENT
DTSTART;VALUE=DATE:20290330
DTEND;VALUE=DATE:20290331
DTSTAMP:20260422T090417
CREATED:20260305T035246Z
LAST-MODIFIED:20260305T042019Z
UID:10000742-1869523200-1869609599@comunidad.nexthaz.com
SUMMARY:💡Nuevas Ideas de Negocio
DESCRIPTION:
URL:https://comunidad.nexthaz.com/event/nuevas-ideas-de-negocio/2029-03-30/
END:VEVENT
BEGIN:VEVENT
DTSTART;VALUE=DATE:20290402
DTEND;VALUE=DATE:20290403
DTSTAMP:20260422T090417
CREATED:20260305T041627Z
LAST-MODIFIED:20260305T042125Z
UID:10000422-1869782400-1869868799@comunidad.nexthaz.com
SUMMARY:📲Llamadas Semanal
DESCRIPTION:
URL:https://comunidad.nexthaz.com/event/llamadas-semanal/2029-04-02/
END:VEVENT
BEGIN:VEVENT
DTSTART;VALUE=DATE:20290406
DTEND;VALUE=DATE:20290407
DTSTAMP:20260422T090417
CREATED:20260305T035246Z
LAST-MODIFIED:20260305T042019Z
UID:10000743-1870128000-1870214399@comunidad.nexthaz.com
SUMMARY:💡Nuevas Ideas de Negocio
DESCRIPTION:
URL:https://comunidad.nexthaz.com/event/nuevas-ideas-de-negocio/2029-04-06/
END:VEVENT
BEGIN:VEVENT
DTSTART;VALUE=DATE:20290409
DTEND;VALUE=DATE:20290410
DTSTAMP:20260422T090417
CREATED:20260305T041627Z
LAST-MODIFIED:20260305T042125Z
UID:10000423-1870387200-1870473599@comunidad.nexthaz.com
SUMMARY:📲Llamadas Semanal
DESCRIPTION:
URL:https://comunidad.nexthaz.com/event/llamadas-semanal/2029-04-09/
END:VEVENT
BEGIN:VEVENT
DTSTART;VALUE=DATE:20290413
DTEND;VALUE=DATE:20290414
DTSTAMP:20260422T090417
CREATED:20260305T035246Z
LAST-MODIFIED:20260305T042019Z
UID:10000744-1870732800-1870819199@comunidad.nexthaz.com
SUMMARY:💡Nuevas Ideas de Negocio
DESCRIPTION:
URL:https://comunidad.nexthaz.com/event/nuevas-ideas-de-negocio/2029-04-13/
END:VEVENT
BEGIN:VEVENT
DTSTART;VALUE=DATE:20290416
DTEND;VALUE=DATE:20290417
DTSTAMP:20260422T090417
CREATED:20260305T041627Z
LAST-MODIFIED:20260305T042125Z
UID:10000424-1870992000-1871078399@comunidad.nexthaz.com
SUMMARY:📲Llamadas Semanal
DESCRIPTION:
URL:https://comunidad.nexthaz.com/event/llamadas-semanal/2029-04-16/
END:VEVENT
BEGIN:VEVENT
DTSTART;VALUE=DATE:20290418
DTEND;VALUE=DATE:20290419
DTSTAMP:20260422T090417
CREATED:20260305T041842Z
LAST-MODIFIED:20260305T041842Z
UID:10000560-1871164800-1871251199@comunidad.nexthaz.com
SUMMARY:⭐Curso Nuevo
DESCRIPTION:
URL:https://comunidad.nexthaz.com/event/%e2%ad%90curso-nuevo/2029-04-18/
END:VEVENT
BEGIN:VEVENT
DTSTART;VALUE=DATE:20290420
DTEND;VALUE=DATE:20290421
DTSTAMP:20260422T090417
CREATED:20260305T035246Z
LAST-MODIFIED:20260305T042019Z
UID:10000745-1871337600-1871423999@comunidad.nexthaz.com
SUMMARY:💡Nuevas Ideas de Negocio
DESCRIPTION:
URL:https://comunidad.nexthaz.com/event/nuevas-ideas-de-negocio/2029-04-20/
END:VEVENT
BEGIN:VEVENT
DTSTART;VALUE=DATE:20290423
DTEND;VALUE=DATE:20290424
DTSTAMP:20260422T090417
CREATED:20260305T041627Z
LAST-MODIFIED:20260305T042125Z
UID:10000425-1871596800-1871683199@comunidad.nexthaz.com
SUMMARY:📲Llamadas Semanal
DESCRIPTION:
URL:https://comunidad.nexthaz.com/event/llamadas-semanal/2029-04-23/
END:VEVENT
BEGIN:VEVENT
DTSTART;VALUE=DATE:20290427
DTEND;VALUE=DATE:20290428
DTSTAMP:20260422T090417
CREATED:20260305T035246Z
LAST-MODIFIED:20260305T042019Z
UID:10000746-1871942400-1872028799@comunidad.nexthaz.com
SUMMARY:💡Nuevas Ideas de Negocio
DESCRIPTION:
URL:https://comunidad.nexthaz.com/event/nuevas-ideas-de-negocio/2029-04-27/
END:VEVENT
BEGIN:VEVENT
DTSTART;VALUE=DATE:20290430
DTEND;VALUE=DATE:20290501
DTSTAMP:20260422T090417
CREATED:20260305T041627Z
LAST-MODIFIED:20260305T042125Z
UID:10000426-1872201600-1872287999@comunidad.nexthaz.com
SUMMARY:📲Llamadas Semanal
DESCRIPTION:
URL:https://comunidad.nexthaz.com/event/llamadas-semanal/2029-04-30/
END:VEVENT
BEGIN:VEVENT
DTSTART;VALUE=DATE:20290504
DTEND;VALUE=DATE:20290505
DTSTAMP:20260422T090417
CREATED:20260305T035246Z
LAST-MODIFIED:20260305T042019Z
UID:10000747-1872547200-1872633599@comunidad.nexthaz.com
SUMMARY:💡Nuevas Ideas de Negocio
DESCRIPTION:
URL:https://comunidad.nexthaz.com/event/nuevas-ideas-de-negocio/2029-05-04/
END:VEVENT
BEGIN:VEVENT
DTSTART;VALUE=DATE:20290507
DTEND;VALUE=DATE:20290508
DTSTAMP:20260422T090417
CREATED:20260305T041627Z
LAST-MODIFIED:20260305T042125Z
UID:10000427-1872806400-1872892799@comunidad.nexthaz.com
SUMMARY:📲Llamadas Semanal
DESCRIPTION:
URL:https://comunidad.nexthaz.com/event/llamadas-semanal/2029-05-07/
END:VEVENT
BEGIN:VEVENT
DTSTART;VALUE=DATE:20290511
DTEND;VALUE=DATE:20290512
DTSTAMP:20260422T090417
CREATED:20260305T035246Z
LAST-MODIFIED:20260305T042019Z
UID:10000748-1873152000-1873238399@comunidad.nexthaz.com
SUMMARY:💡Nuevas Ideas de Negocio
DESCRIPTION:
URL:https://comunidad.nexthaz.com/event/nuevas-ideas-de-negocio/2029-05-11/
END:VEVENT
BEGIN:VEVENT
DTSTART;VALUE=DATE:20290514
DTEND;VALUE=DATE:20290515
DTSTAMP:20260422T090417
CREATED:20260305T041627Z
LAST-MODIFIED:20260305T042125Z
UID:10000428-1873411200-1873497599@comunidad.nexthaz.com
SUMMARY:📲Llamadas Semanal
DESCRIPTION:
URL:https://comunidad.nexthaz.com/event/llamadas-semanal/2029-05-14/
END:VEVENT
BEGIN:VEVENT
DTSTART;VALUE=DATE:20290516
DTEND;VALUE=DATE:20290517
DTSTAMP:20260422T090417
CREATED:20260305T041842Z
LAST-MODIFIED:20260305T041842Z
UID:10000561-1873584000-1873670399@comunidad.nexthaz.com
SUMMARY:⭐Curso Nuevo
DESCRIPTION:
URL:https://comunidad.nexthaz.com/event/%e2%ad%90curso-nuevo/2029-05-16/
END:VEVENT
BEGIN:VEVENT
DTSTART;VALUE=DATE:20290518
DTEND;VALUE=DATE:20290519
DTSTAMP:20260422T090417
CREATED:20260305T035246Z
LAST-MODIFIED:20260305T042019Z
UID:10000749-1873756800-1873843199@comunidad.nexthaz.com
SUMMARY:💡Nuevas Ideas de Negocio
DESCRIPTION:
URL:https://comunidad.nexthaz.com/event/nuevas-ideas-de-negocio/2029-05-18/
END:VEVENT
BEGIN:VEVENT
DTSTART;VALUE=DATE:20290521
DTEND;VALUE=DATE:20290522
DTSTAMP:20260422T090417
CREATED:20260305T041627Z
LAST-MODIFIED:20260305T042125Z
UID:10000429-1874016000-1874102399@comunidad.nexthaz.com
SUMMARY:📲Llamadas Semanal
DESCRIPTION:
URL:https://comunidad.nexthaz.com/event/llamadas-semanal/2029-05-21/
END:VEVENT
BEGIN:VEVENT
DTSTART;VALUE=DATE:20290525
DTEND;VALUE=DATE:20290526
DTSTAMP:20260422T090417
CREATED:20260305T035246Z
LAST-MODIFIED:20260305T042019Z
UID:10000750-1874361600-1874447999@comunidad.nexthaz.com
SUMMARY:💡Nuevas Ideas de Negocio
DESCRIPTION:
URL:https://comunidad.nexthaz.com/event/nuevas-ideas-de-negocio/2029-05-25/
END:VEVENT
BEGIN:VEVENT
DTSTART;VALUE=DATE:20290528
DTEND;VALUE=DATE:20290529
DTSTAMP:20260422T090417
CREATED:20260305T041627Z
LAST-MODIFIED:20260305T042125Z
UID:10000430-1874620800-1874707199@comunidad.nexthaz.com
SUMMARY:📲Llamadas Semanal
DESCRIPTION:
URL:https://comunidad.nexthaz.com/event/llamadas-semanal/2029-05-28/
END:VEVENT
BEGIN:VEVENT
DTSTART;VALUE=DATE:20290601
DTEND;VALUE=DATE:20290602
DTSTAMP:20260422T090417
CREATED:20260305T035246Z
LAST-MODIFIED:20260305T042019Z
UID:10000751-1874966400-1875052799@comunidad.nexthaz.com
SUMMARY:💡Nuevas Ideas de Negocio
DESCRIPTION:
URL:https://comunidad.nexthaz.com/event/nuevas-ideas-de-negocio/2029-06-01/
END:VEVENT
BEGIN:VEVENT
DTSTART;VALUE=DATE:20290604
DTEND;VALUE=DATE:20290605
DTSTAMP:20260422T090417
CREATED:20260305T041627Z
LAST-MODIFIED:20260305T042125Z
UID:10000431-1875225600-1875311999@comunidad.nexthaz.com
SUMMARY:📲Llamadas Semanal
DESCRIPTION:
URL:https://comunidad.nexthaz.com/event/llamadas-semanal/2029-06-04/
END:VEVENT
BEGIN:VEVENT
DTSTART;VALUE=DATE:20290608
DTEND;VALUE=DATE:20290609
DTSTAMP:20260422T090417
CREATED:20260305T035246Z
LAST-MODIFIED:20260305T042019Z
UID:10000752-1875571200-1875657599@comunidad.nexthaz.com
SUMMARY:💡Nuevas Ideas de Negocio
DESCRIPTION:
URL:https://comunidad.nexthaz.com/event/nuevas-ideas-de-negocio/2029-06-08/
END:VEVENT
BEGIN:VEVENT
DTSTART;VALUE=DATE:20290611
DTEND;VALUE=DATE:20290612
DTSTAMP:20260422T090417
CREATED:20260305T041627Z
LAST-MODIFIED:20260305T042125Z
UID:10000432-1875830400-1875916799@comunidad.nexthaz.com
SUMMARY:📲Llamadas Semanal
DESCRIPTION:
URL:https://comunidad.nexthaz.com/event/llamadas-semanal/2029-06-11/
END:VEVENT
BEGIN:VEVENT
DTSTART;VALUE=DATE:20290615
DTEND;VALUE=DATE:20290616
DTSTAMP:20260422T090417
CREATED:20260305T035246Z
LAST-MODIFIED:20260305T042019Z
UID:10000753-1876176000-1876262399@comunidad.nexthaz.com
SUMMARY:💡Nuevas Ideas de Negocio
DESCRIPTION:
URL:https://comunidad.nexthaz.com/event/nuevas-ideas-de-negocio/2029-06-15/
END:VEVENT
END:VCALENDAR