BEGIN:VCALENDAR
VERSION:2.0
PRODID:-//Comunidad Nexthaz - ECPv6.15.17//NONSGML v1.0//EN
CALSCALE:GREGORIAN
METHOD:PUBLISH
X-WR-CALNAME:Comunidad Nexthaz
X-ORIGINAL-URL:https://comunidad.nexthaz.com
X-WR-CALDESC:Eventos para Comunidad Nexthaz
REFRESH-INTERVAL;VALUE=DURATION:PT1H
X-Robots-Tag:noindex
X-PUBLISHED-TTL:PT1H
BEGIN:VTIMEZONE
TZID:UTC
BEGIN:STANDARD
TZOFFSETFROM:+0000
TZOFFSETTO:+0000
TZNAME:UTC
DTSTART:20280101T000000
END:STANDARD
END:VTIMEZONE
BEGIN:VEVENT
DTSTART;VALUE=DATE:20290813
DTEND;VALUE=DATE:20290814
DTSTAMP:20260422T145012
CREATED:20260305T041627Z
LAST-MODIFIED:20260305T042125Z
UID:10000441-1881273600-1881359999@comunidad.nexthaz.com
SUMMARY:📲Llamadas Semanal
DESCRIPTION:
URL:https://comunidad.nexthaz.com/event/llamadas-semanal/2029-08-13/
END:VEVENT
BEGIN:VEVENT
DTSTART;VALUE=DATE:20290815
DTEND;VALUE=DATE:20290816
DTSTAMP:20260422T145012
CREATED:20260305T041842Z
LAST-MODIFIED:20260305T041842Z
UID:10000564-1881446400-1881532799@comunidad.nexthaz.com
SUMMARY:⭐Curso Nuevo
DESCRIPTION:
URL:https://comunidad.nexthaz.com/event/%e2%ad%90curso-nuevo/2029-08-15/
END:VEVENT
BEGIN:VEVENT
DTSTART;VALUE=DATE:20290817
DTEND;VALUE=DATE:20290818
DTSTAMP:20260422T145012
CREATED:20260305T035246Z
LAST-MODIFIED:20260305T042019Z
UID:10000762-1881619200-1881705599@comunidad.nexthaz.com
SUMMARY:💡Nuevas Ideas de Negocio
DESCRIPTION:
URL:https://comunidad.nexthaz.com/event/nuevas-ideas-de-negocio/2029-08-17/
END:VEVENT
BEGIN:VEVENT
DTSTART;VALUE=DATE:20290820
DTEND;VALUE=DATE:20290821
DTSTAMP:20260422T145012
CREATED:20260305T041627Z
LAST-MODIFIED:20260305T042125Z
UID:10000442-1881878400-1881964799@comunidad.nexthaz.com
SUMMARY:📲Llamadas Semanal
DESCRIPTION:
URL:https://comunidad.nexthaz.com/event/llamadas-semanal/2029-08-20/
END:VEVENT
BEGIN:VEVENT
DTSTART;VALUE=DATE:20290824
DTEND;VALUE=DATE:20290825
DTSTAMP:20260422T145012
CREATED:20260305T035246Z
LAST-MODIFIED:20260305T042019Z
UID:10000763-1882224000-1882310399@comunidad.nexthaz.com
SUMMARY:💡Nuevas Ideas de Negocio
DESCRIPTION:
URL:https://comunidad.nexthaz.com/event/nuevas-ideas-de-negocio/2029-08-24/
END:VEVENT
BEGIN:VEVENT
DTSTART;VALUE=DATE:20290827
DTEND;VALUE=DATE:20290828
DTSTAMP:20260422T145012
CREATED:20260305T041627Z
LAST-MODIFIED:20260305T042125Z
UID:10000443-1882483200-1882569599@comunidad.nexthaz.com
SUMMARY:📲Llamadas Semanal
DESCRIPTION:
URL:https://comunidad.nexthaz.com/event/llamadas-semanal/2029-08-27/
END:VEVENT
BEGIN:VEVENT
DTSTART;VALUE=DATE:20290831
DTEND;VALUE=DATE:20290901
DTSTAMP:20260422T145012
CREATED:20260305T035246Z
LAST-MODIFIED:20260305T042019Z
UID:10000764-1882828800-1882915199@comunidad.nexthaz.com
SUMMARY:💡Nuevas Ideas de Negocio
DESCRIPTION:
URL:https://comunidad.nexthaz.com/event/nuevas-ideas-de-negocio/2029-08-31/
END:VEVENT
BEGIN:VEVENT
DTSTART;VALUE=DATE:20290903
DTEND;VALUE=DATE:20290904
DTSTAMP:20260422T145012
CREATED:20260305T041627Z
LAST-MODIFIED:20260305T042125Z
UID:10000444-1883088000-1883174399@comunidad.nexthaz.com
SUMMARY:📲Llamadas Semanal
DESCRIPTION:
URL:https://comunidad.nexthaz.com/event/llamadas-semanal/2029-09-03/
END:VEVENT
BEGIN:VEVENT
DTSTART;VALUE=DATE:20290907
DTEND;VALUE=DATE:20290908
DTSTAMP:20260422T145012
CREATED:20260305T035246Z
LAST-MODIFIED:20260305T042019Z
UID:10000765-1883433600-1883519999@comunidad.nexthaz.com
SUMMARY:💡Nuevas Ideas de Negocio
DESCRIPTION:
URL:https://comunidad.nexthaz.com/event/nuevas-ideas-de-negocio/2029-09-07/
END:VEVENT
BEGIN:VEVENT
DTSTART;VALUE=DATE:20290910
DTEND;VALUE=DATE:20290911
DTSTAMP:20260422T145012
CREATED:20260305T041627Z
LAST-MODIFIED:20260305T042125Z
UID:10000445-1883692800-1883779199@comunidad.nexthaz.com
SUMMARY:📲Llamadas Semanal
DESCRIPTION:
URL:https://comunidad.nexthaz.com/event/llamadas-semanal/2029-09-10/
END:VEVENT
BEGIN:VEVENT
DTSTART;VALUE=DATE:20290914
DTEND;VALUE=DATE:20290915
DTSTAMP:20260422T145012
CREATED:20260305T035246Z
LAST-MODIFIED:20260305T042019Z
UID:10000766-1884038400-1884124799@comunidad.nexthaz.com
SUMMARY:💡Nuevas Ideas de Negocio
DESCRIPTION:
URL:https://comunidad.nexthaz.com/event/nuevas-ideas-de-negocio/2029-09-14/
END:VEVENT
BEGIN:VEVENT
DTSTART;VALUE=DATE:20290917
DTEND;VALUE=DATE:20290918
DTSTAMP:20260422T145012
CREATED:20260305T041627Z
LAST-MODIFIED:20260305T042125Z
UID:10000446-1884297600-1884383999@comunidad.nexthaz.com
SUMMARY:📲Llamadas Semanal
DESCRIPTION:
URL:https://comunidad.nexthaz.com/event/llamadas-semanal/2029-09-17/
END:VEVENT
BEGIN:VEVENT
DTSTART;VALUE=DATE:20290919
DTEND;VALUE=DATE:20290920
DTSTAMP:20260422T145012
CREATED:20260305T041842Z
LAST-MODIFIED:20260305T041842Z
UID:10000565-1884470400-1884556799@comunidad.nexthaz.com
SUMMARY:⭐Curso Nuevo
DESCRIPTION:
URL:https://comunidad.nexthaz.com/event/%e2%ad%90curso-nuevo/2029-09-19/
END:VEVENT
BEGIN:VEVENT
DTSTART;VALUE=DATE:20290921
DTEND;VALUE=DATE:20290922
DTSTAMP:20260422T145012
CREATED:20260305T035246Z
LAST-MODIFIED:20260305T042019Z
UID:10000767-1884643200-1884729599@comunidad.nexthaz.com
SUMMARY:💡Nuevas Ideas de Negocio
DESCRIPTION:
URL:https://comunidad.nexthaz.com/event/nuevas-ideas-de-negocio/2029-09-21/
END:VEVENT
BEGIN:VEVENT
DTSTART;VALUE=DATE:20290924
DTEND;VALUE=DATE:20290925
DTSTAMP:20260422T145012
CREATED:20260305T041627Z
LAST-MODIFIED:20260305T042125Z
UID:10000447-1884902400-1884988799@comunidad.nexthaz.com
SUMMARY:📲Llamadas Semanal
DESCRIPTION:
URL:https://comunidad.nexthaz.com/event/llamadas-semanal/2029-09-24/
END:VEVENT
BEGIN:VEVENT
DTSTART;VALUE=DATE:20290928
DTEND;VALUE=DATE:20290929
DTSTAMP:20260422T145012
CREATED:20260305T035246Z
LAST-MODIFIED:20260305T042019Z
UID:10000768-1885248000-1885334399@comunidad.nexthaz.com
SUMMARY:💡Nuevas Ideas de Negocio
DESCRIPTION:
URL:https://comunidad.nexthaz.com/event/nuevas-ideas-de-negocio/2029-09-28/
END:VEVENT
BEGIN:VEVENT
DTSTART;VALUE=DATE:20291001
DTEND;VALUE=DATE:20291002
DTSTAMP:20260422T145012
CREATED:20260305T041627Z
LAST-MODIFIED:20260305T042125Z
UID:10000448-1885507200-1885593599@comunidad.nexthaz.com
SUMMARY:📲Llamadas Semanal
DESCRIPTION:
URL:https://comunidad.nexthaz.com/event/llamadas-semanal/2029-10-01/
END:VEVENT
BEGIN:VEVENT
DTSTART;VALUE=DATE:20291005
DTEND;VALUE=DATE:20291006
DTSTAMP:20260422T145012
CREATED:20260305T035246Z
LAST-MODIFIED:20260305T042019Z
UID:10000769-1885852800-1885939199@comunidad.nexthaz.com
SUMMARY:💡Nuevas Ideas de Negocio
DESCRIPTION:
URL:https://comunidad.nexthaz.com/event/nuevas-ideas-de-negocio/2029-10-05/
END:VEVENT
BEGIN:VEVENT
DTSTART;VALUE=DATE:20291008
DTEND;VALUE=DATE:20291009
DTSTAMP:20260422T145012
CREATED:20260305T041627Z
LAST-MODIFIED:20260305T042125Z
UID:10000449-1886112000-1886198399@comunidad.nexthaz.com
SUMMARY:📲Llamadas Semanal
DESCRIPTION:
URL:https://comunidad.nexthaz.com/event/llamadas-semanal/2029-10-08/
END:VEVENT
BEGIN:VEVENT
DTSTART;VALUE=DATE:20291012
DTEND;VALUE=DATE:20291013
DTSTAMP:20260422T145012
CREATED:20260305T035246Z
LAST-MODIFIED:20260305T042019Z
UID:10000770-1886457600-1886543999@comunidad.nexthaz.com
SUMMARY:💡Nuevas Ideas de Negocio
DESCRIPTION:
URL:https://comunidad.nexthaz.com/event/nuevas-ideas-de-negocio/2029-10-12/
END:VEVENT
BEGIN:VEVENT
DTSTART;VALUE=DATE:20291015
DTEND;VALUE=DATE:20291016
DTSTAMP:20260422T145012
CREATED:20260305T041627Z
LAST-MODIFIED:20260305T042125Z
UID:10000450-1886716800-1886803199@comunidad.nexthaz.com
SUMMARY:📲Llamadas Semanal
DESCRIPTION:
URL:https://comunidad.nexthaz.com/event/llamadas-semanal/2029-10-15/
END:VEVENT
BEGIN:VEVENT
DTSTART;VALUE=DATE:20291017
DTEND;VALUE=DATE:20291018
DTSTAMP:20260422T145012
CREATED:20260305T041842Z
LAST-MODIFIED:20260305T041842Z
UID:10000566-1886889600-1886975999@comunidad.nexthaz.com
SUMMARY:⭐Curso Nuevo
DESCRIPTION:
URL:https://comunidad.nexthaz.com/event/%e2%ad%90curso-nuevo/2029-10-17/
END:VEVENT
BEGIN:VEVENT
DTSTART;VALUE=DATE:20291019
DTEND;VALUE=DATE:20291020
DTSTAMP:20260422T145012
CREATED:20260305T035246Z
LAST-MODIFIED:20260305T042019Z
UID:10000771-1887062400-1887148799@comunidad.nexthaz.com
SUMMARY:💡Nuevas Ideas de Negocio
DESCRIPTION:
URL:https://comunidad.nexthaz.com/event/nuevas-ideas-de-negocio/2029-10-19/
END:VEVENT
BEGIN:VEVENT
DTSTART;VALUE=DATE:20291022
DTEND;VALUE=DATE:20291023
DTSTAMP:20260422T145012
CREATED:20260305T041627Z
LAST-MODIFIED:20260305T042125Z
UID:10000451-1887321600-1887407999@comunidad.nexthaz.com
SUMMARY:📲Llamadas Semanal
DESCRIPTION:
URL:https://comunidad.nexthaz.com/event/llamadas-semanal/2029-10-22/
END:VEVENT
BEGIN:VEVENT
DTSTART;VALUE=DATE:20291026
DTEND;VALUE=DATE:20291027
DTSTAMP:20260422T145012
CREATED:20260305T035246Z
LAST-MODIFIED:20260305T042019Z
UID:10000772-1887667200-1887753599@comunidad.nexthaz.com
SUMMARY:💡Nuevas Ideas de Negocio
DESCRIPTION:
URL:https://comunidad.nexthaz.com/event/nuevas-ideas-de-negocio/2029-10-26/
END:VEVENT
BEGIN:VEVENT
DTSTART;VALUE=DATE:20291029
DTEND;VALUE=DATE:20291030
DTSTAMP:20260422T145012
CREATED:20260305T041627Z
LAST-MODIFIED:20260305T042125Z
UID:10000452-1887926400-1888012799@comunidad.nexthaz.com
SUMMARY:📲Llamadas Semanal
DESCRIPTION:
URL:https://comunidad.nexthaz.com/event/llamadas-semanal/2029-10-29/
END:VEVENT
BEGIN:VEVENT
DTSTART;VALUE=DATE:20291102
DTEND;VALUE=DATE:20291103
DTSTAMP:20260422T145012
CREATED:20260305T035246Z
LAST-MODIFIED:20260305T042019Z
UID:10000773-1888272000-1888358399@comunidad.nexthaz.com
SUMMARY:💡Nuevas Ideas de Negocio
DESCRIPTION:
URL:https://comunidad.nexthaz.com/event/nuevas-ideas-de-negocio/2029-11-02/
END:VEVENT
BEGIN:VEVENT
DTSTART;VALUE=DATE:20291105
DTEND;VALUE=DATE:20291106
DTSTAMP:20260422T145012
CREATED:20260305T041627Z
LAST-MODIFIED:20260305T042125Z
UID:10000453-1888531200-1888617599@comunidad.nexthaz.com
SUMMARY:📲Llamadas Semanal
DESCRIPTION:
URL:https://comunidad.nexthaz.com/event/llamadas-semanal/2029-11-05/
END:VEVENT
BEGIN:VEVENT
DTSTART;VALUE=DATE:20291109
DTEND;VALUE=DATE:20291110
DTSTAMP:20260422T145012
CREATED:20260305T035246Z
LAST-MODIFIED:20260305T042019Z
UID:10000774-1888876800-1888963199@comunidad.nexthaz.com
SUMMARY:💡Nuevas Ideas de Negocio
DESCRIPTION:
URL:https://comunidad.nexthaz.com/event/nuevas-ideas-de-negocio/2029-11-09/
END:VEVENT
BEGIN:VEVENT
DTSTART;VALUE=DATE:20291112
DTEND;VALUE=DATE:20291113
DTSTAMP:20260422T145012
CREATED:20260305T041627Z
LAST-MODIFIED:20260305T042125Z
UID:10000454-1889136000-1889222399@comunidad.nexthaz.com
SUMMARY:📲Llamadas Semanal
DESCRIPTION:
URL:https://comunidad.nexthaz.com/event/llamadas-semanal/2029-11-12/
END:VEVENT
END:VCALENDAR