BEGIN:VCALENDAR
VERSION:2.0
PRODID:-//Comunidad Nexthaz - ECPv6.15.17//NONSGML v1.0//EN
CALSCALE:GREGORIAN
METHOD:PUBLISH
X-WR-CALNAME:Comunidad Nexthaz
X-ORIGINAL-URL:https://comunidad.nexthaz.com
X-WR-CALDESC:Eventos para Comunidad Nexthaz
REFRESH-INTERVAL;VALUE=DURATION:PT1H
X-Robots-Tag:noindex
X-PUBLISHED-TTL:PT1H
BEGIN:VTIMEZONE
TZID:UTC
BEGIN:STANDARD
TZOFFSETFROM:+0000
TZOFFSETTO:+0000
TZNAME:UTC
DTSTART:20280101T000000
END:STANDARD
END:VTIMEZONE
BEGIN:VEVENT
DTSTART;VALUE=DATE:20291026
DTEND;VALUE=DATE:20291027
DTSTAMP:20260422T183045
CREATED:20260305T035246Z
LAST-MODIFIED:20260305T042019Z
UID:10000772-1887667200-1887753599@comunidad.nexthaz.com
SUMMARY:💡Nuevas Ideas de Negocio
DESCRIPTION:
URL:https://comunidad.nexthaz.com/event/nuevas-ideas-de-negocio/2029-10-26/
END:VEVENT
BEGIN:VEVENT
DTSTART;VALUE=DATE:20291029
DTEND;VALUE=DATE:20291030
DTSTAMP:20260422T183045
CREATED:20260305T041627Z
LAST-MODIFIED:20260305T042125Z
UID:10000452-1887926400-1888012799@comunidad.nexthaz.com
SUMMARY:📲Llamadas Semanal
DESCRIPTION:
URL:https://comunidad.nexthaz.com/event/llamadas-semanal/2029-10-29/
END:VEVENT
BEGIN:VEVENT
DTSTART;VALUE=DATE:20291102
DTEND;VALUE=DATE:20291103
DTSTAMP:20260422T183045
CREATED:20260305T035246Z
LAST-MODIFIED:20260305T042019Z
UID:10000773-1888272000-1888358399@comunidad.nexthaz.com
SUMMARY:💡Nuevas Ideas de Negocio
DESCRIPTION:
URL:https://comunidad.nexthaz.com/event/nuevas-ideas-de-negocio/2029-11-02/
END:VEVENT
BEGIN:VEVENT
DTSTART;VALUE=DATE:20291105
DTEND;VALUE=DATE:20291106
DTSTAMP:20260422T183045
CREATED:20260305T041627Z
LAST-MODIFIED:20260305T042125Z
UID:10000453-1888531200-1888617599@comunidad.nexthaz.com
SUMMARY:📲Llamadas Semanal
DESCRIPTION:
URL:https://comunidad.nexthaz.com/event/llamadas-semanal/2029-11-05/
END:VEVENT
BEGIN:VEVENT
DTSTART;VALUE=DATE:20291109
DTEND;VALUE=DATE:20291110
DTSTAMP:20260422T183045
CREATED:20260305T035246Z
LAST-MODIFIED:20260305T042019Z
UID:10000774-1888876800-1888963199@comunidad.nexthaz.com
SUMMARY:💡Nuevas Ideas de Negocio
DESCRIPTION:
URL:https://comunidad.nexthaz.com/event/nuevas-ideas-de-negocio/2029-11-09/
END:VEVENT
BEGIN:VEVENT
DTSTART;VALUE=DATE:20291112
DTEND;VALUE=DATE:20291113
DTSTAMP:20260422T183045
CREATED:20260305T041627Z
LAST-MODIFIED:20260305T042125Z
UID:10000454-1889136000-1889222399@comunidad.nexthaz.com
SUMMARY:📲Llamadas Semanal
DESCRIPTION:
URL:https://comunidad.nexthaz.com/event/llamadas-semanal/2029-11-12/
END:VEVENT
BEGIN:VEVENT
DTSTART;VALUE=DATE:20291116
DTEND;VALUE=DATE:20291117
DTSTAMP:20260422T183045
CREATED:20260305T035246Z
LAST-MODIFIED:20260305T042019Z
UID:10000775-1889481600-1889567999@comunidad.nexthaz.com
SUMMARY:💡Nuevas Ideas de Negocio
DESCRIPTION:
URL:https://comunidad.nexthaz.com/event/nuevas-ideas-de-negocio/2029-11-16/
END:VEVENT
BEGIN:VEVENT
DTSTART;VALUE=DATE:20291119
DTEND;VALUE=DATE:20291120
DTSTAMP:20260422T183045
CREATED:20260305T041627Z
LAST-MODIFIED:20260305T042125Z
UID:10000455-1889740800-1889827199@comunidad.nexthaz.com
SUMMARY:📲Llamadas Semanal
DESCRIPTION:
URL:https://comunidad.nexthaz.com/event/llamadas-semanal/2029-11-19/
END:VEVENT
BEGIN:VEVENT
DTSTART;VALUE=DATE:20291121
DTEND;VALUE=DATE:20291122
DTSTAMP:20260422T183045
CREATED:20260305T041842Z
LAST-MODIFIED:20260305T041842Z
UID:10000567-1889913600-1889999999@comunidad.nexthaz.com
SUMMARY:⭐Curso Nuevo
DESCRIPTION:
URL:https://comunidad.nexthaz.com/event/%e2%ad%90curso-nuevo/2029-11-21/
END:VEVENT
BEGIN:VEVENT
DTSTART;VALUE=DATE:20291123
DTEND;VALUE=DATE:20291124
DTSTAMP:20260422T183045
CREATED:20260305T035246Z
LAST-MODIFIED:20260305T042019Z
UID:10000776-1890086400-1890172799@comunidad.nexthaz.com
SUMMARY:💡Nuevas Ideas de Negocio
DESCRIPTION:
URL:https://comunidad.nexthaz.com/event/nuevas-ideas-de-negocio/2029-11-23/
END:VEVENT
BEGIN:VEVENT
DTSTART;VALUE=DATE:20291126
DTEND;VALUE=DATE:20291127
DTSTAMP:20260422T183045
CREATED:20260305T041627Z
LAST-MODIFIED:20260305T042125Z
UID:10000456-1890345600-1890431999@comunidad.nexthaz.com
SUMMARY:📲Llamadas Semanal
DESCRIPTION:
URL:https://comunidad.nexthaz.com/event/llamadas-semanal/2029-11-26/
END:VEVENT
BEGIN:VEVENT
DTSTART;VALUE=DATE:20291130
DTEND;VALUE=DATE:20291201
DTSTAMP:20260422T183045
CREATED:20260305T035246Z
LAST-MODIFIED:20260305T042019Z
UID:10000777-1890691200-1890777599@comunidad.nexthaz.com
SUMMARY:💡Nuevas Ideas de Negocio
DESCRIPTION:
URL:https://comunidad.nexthaz.com/event/nuevas-ideas-de-negocio/2029-11-30/
END:VEVENT
BEGIN:VEVENT
DTSTART;VALUE=DATE:20291203
DTEND;VALUE=DATE:20291204
DTSTAMP:20260422T183045
CREATED:20260305T041627Z
LAST-MODIFIED:20260305T042125Z
UID:10000457-1890950400-1891036799@comunidad.nexthaz.com
SUMMARY:📲Llamadas Semanal
DESCRIPTION:
URL:https://comunidad.nexthaz.com/event/llamadas-semanal/2029-12-03/
END:VEVENT
BEGIN:VEVENT
DTSTART;VALUE=DATE:20291207
DTEND;VALUE=DATE:20291208
DTSTAMP:20260422T183045
CREATED:20260305T035246Z
LAST-MODIFIED:20260305T042019Z
UID:10000778-1891296000-1891382399@comunidad.nexthaz.com
SUMMARY:💡Nuevas Ideas de Negocio
DESCRIPTION:
URL:https://comunidad.nexthaz.com/event/nuevas-ideas-de-negocio/2029-12-07/
END:VEVENT
BEGIN:VEVENT
DTSTART;VALUE=DATE:20291210
DTEND;VALUE=DATE:20291211
DTSTAMP:20260422T183045
CREATED:20260305T041627Z
LAST-MODIFIED:20260305T042125Z
UID:10000458-1891555200-1891641599@comunidad.nexthaz.com
SUMMARY:📲Llamadas Semanal
DESCRIPTION:
URL:https://comunidad.nexthaz.com/event/llamadas-semanal/2029-12-10/
END:VEVENT
BEGIN:VEVENT
DTSTART;VALUE=DATE:20291214
DTEND;VALUE=DATE:20291215
DTSTAMP:20260422T183045
CREATED:20260305T035246Z
LAST-MODIFIED:20260305T042019Z
UID:10000779-1891900800-1891987199@comunidad.nexthaz.com
SUMMARY:💡Nuevas Ideas de Negocio
DESCRIPTION:
URL:https://comunidad.nexthaz.com/event/nuevas-ideas-de-negocio/2029-12-14/
END:VEVENT
BEGIN:VEVENT
DTSTART;VALUE=DATE:20291217
DTEND;VALUE=DATE:20291218
DTSTAMP:20260422T183045
CREATED:20260305T041627Z
LAST-MODIFIED:20260305T042125Z
UID:10000459-1892160000-1892246399@comunidad.nexthaz.com
SUMMARY:📲Llamadas Semanal
DESCRIPTION:
URL:https://comunidad.nexthaz.com/event/llamadas-semanal/2029-12-17/
END:VEVENT
BEGIN:VEVENT
DTSTART;VALUE=DATE:20291219
DTEND;VALUE=DATE:20291220
DTSTAMP:20260422T183045
CREATED:20260305T041842Z
LAST-MODIFIED:20260305T041842Z
UID:10000568-1892332800-1892419199@comunidad.nexthaz.com
SUMMARY:⭐Curso Nuevo
DESCRIPTION:
URL:https://comunidad.nexthaz.com/event/%e2%ad%90curso-nuevo/2029-12-19/
END:VEVENT
BEGIN:VEVENT
DTSTART;VALUE=DATE:20291221
DTEND;VALUE=DATE:20291222
DTSTAMP:20260422T183046
CREATED:20260305T035246Z
LAST-MODIFIED:20260305T042019Z
UID:10000780-1892505600-1892591999@comunidad.nexthaz.com
SUMMARY:💡Nuevas Ideas de Negocio
DESCRIPTION:
URL:https://comunidad.nexthaz.com/event/nuevas-ideas-de-negocio/2029-12-21/
END:VEVENT
BEGIN:VEVENT
DTSTART;VALUE=DATE:20291224
DTEND;VALUE=DATE:20291225
DTSTAMP:20260422T183046
CREATED:20260305T041627Z
LAST-MODIFIED:20260305T042125Z
UID:10000460-1892764800-1892851199@comunidad.nexthaz.com
SUMMARY:📲Llamadas Semanal
DESCRIPTION:
URL:https://comunidad.nexthaz.com/event/llamadas-semanal/2029-12-24/
END:VEVENT
BEGIN:VEVENT
DTSTART;VALUE=DATE:20291228
DTEND;VALUE=DATE:20291229
DTSTAMP:20260422T183046
CREATED:20260305T035246Z
LAST-MODIFIED:20260305T042019Z
UID:10000781-1893110400-1893196799@comunidad.nexthaz.com
SUMMARY:💡Nuevas Ideas de Negocio
DESCRIPTION:
URL:https://comunidad.nexthaz.com/event/nuevas-ideas-de-negocio/2029-12-28/
END:VEVENT
BEGIN:VEVENT
DTSTART;VALUE=DATE:20291231
DTEND;VALUE=DATE:20300101
DTSTAMP:20260422T183046
CREATED:20260305T041627Z
LAST-MODIFIED:20260305T042125Z
UID:10000461-1893369600-1893455999@comunidad.nexthaz.com
SUMMARY:📲Llamadas Semanal
DESCRIPTION:
URL:https://comunidad.nexthaz.com/event/llamadas-semanal/2029-12-31/
END:VEVENT
BEGIN:VEVENT
DTSTART;VALUE=DATE:20300104
DTEND;VALUE=DATE:20300105
DTSTAMP:20260422T183046
CREATED:20260305T035246Z
LAST-MODIFIED:20260305T042019Z
UID:10000782-1893715200-1893801599@comunidad.nexthaz.com
SUMMARY:💡Nuevas Ideas de Negocio
DESCRIPTION:
URL:https://comunidad.nexthaz.com/event/nuevas-ideas-de-negocio/2030-01-04/
END:VEVENT
BEGIN:VEVENT
DTSTART;VALUE=DATE:20300107
DTEND;VALUE=DATE:20300108
DTSTAMP:20260422T183046
CREATED:20260305T041627Z
LAST-MODIFIED:20260305T042125Z
UID:10000462-1893974400-1894060799@comunidad.nexthaz.com
SUMMARY:📲Llamadas Semanal
DESCRIPTION:
URL:https://comunidad.nexthaz.com/event/llamadas-semanal/2030-01-07/
END:VEVENT
BEGIN:VEVENT
DTSTART;VALUE=DATE:20300111
DTEND;VALUE=DATE:20300112
DTSTAMP:20260422T183046
CREATED:20260305T035246Z
LAST-MODIFIED:20260305T042019Z
UID:10000783-1894320000-1894406399@comunidad.nexthaz.com
SUMMARY:💡Nuevas Ideas de Negocio
DESCRIPTION:
URL:https://comunidad.nexthaz.com/event/nuevas-ideas-de-negocio/2030-01-11/
END:VEVENT
BEGIN:VEVENT
DTSTART;VALUE=DATE:20300114
DTEND;VALUE=DATE:20300115
DTSTAMP:20260422T183046
CREATED:20260305T041627Z
LAST-MODIFIED:20260305T042125Z
UID:10000463-1894579200-1894665599@comunidad.nexthaz.com
SUMMARY:📲Llamadas Semanal
DESCRIPTION:
URL:https://comunidad.nexthaz.com/event/llamadas-semanal/2030-01-14/
END:VEVENT
BEGIN:VEVENT
DTSTART;VALUE=DATE:20300116
DTEND;VALUE=DATE:20300117
DTSTAMP:20260422T183046
CREATED:20260305T041842Z
LAST-MODIFIED:20260305T041842Z
UID:10000569-1894752000-1894838399@comunidad.nexthaz.com
SUMMARY:⭐Curso Nuevo
DESCRIPTION:
URL:https://comunidad.nexthaz.com/event/%e2%ad%90curso-nuevo/2030-01-16/
END:VEVENT
BEGIN:VEVENT
DTSTART;VALUE=DATE:20300118
DTEND;VALUE=DATE:20300119
DTSTAMP:20260422T183046
CREATED:20260305T035246Z
LAST-MODIFIED:20260305T042019Z
UID:10000784-1894924800-1895011199@comunidad.nexthaz.com
SUMMARY:💡Nuevas Ideas de Negocio
DESCRIPTION:
URL:https://comunidad.nexthaz.com/event/nuevas-ideas-de-negocio/2030-01-18/
END:VEVENT
BEGIN:VEVENT
DTSTART;VALUE=DATE:20300121
DTEND;VALUE=DATE:20300122
DTSTAMP:20260422T183046
CREATED:20260305T041627Z
LAST-MODIFIED:20260305T042125Z
UID:10000464-1895184000-1895270399@comunidad.nexthaz.com
SUMMARY:📲Llamadas Semanal
DESCRIPTION:
URL:https://comunidad.nexthaz.com/event/llamadas-semanal/2030-01-21/
END:VEVENT
BEGIN:VEVENT
DTSTART;VALUE=DATE:20300125
DTEND;VALUE=DATE:20300126
DTSTAMP:20260422T183046
CREATED:20260305T035246Z
LAST-MODIFIED:20260305T042019Z
UID:10000785-1895529600-1895615999@comunidad.nexthaz.com
SUMMARY:💡Nuevas Ideas de Negocio
DESCRIPTION:
URL:https://comunidad.nexthaz.com/event/nuevas-ideas-de-negocio/2030-01-25/
END:VEVENT
END:VCALENDAR