BEGIN:VCALENDAR
VERSION:2.0
PRODID:-//Comunidad Nexthaz - ECPv6.15.20//NONSGML v1.0//EN
CALSCALE:GREGORIAN
METHOD:PUBLISH
X-ORIGINAL-URL:https://comunidad.nexthaz.com
X-WR-CALDESC:Eventos para Comunidad Nexthaz
REFRESH-INTERVAL;VALUE=DURATION:PT1H
X-Robots-Tag:noindex
X-PUBLISHED-TTL:PT1H
BEGIN:VTIMEZONE
TZID:UTC
BEGIN:STANDARD
TZOFFSETFROM:+0000
TZOFFSETTO:+0000
TZNAME:UTC
DTSTART:20290101T000000
END:STANDARD
END:VTIMEZONE
BEGIN:VEVENT
DTSTART;VALUE=DATE:20300218
DTEND;VALUE=DATE:20300219
DTSTAMP:20260422T225321
CREATED:20260305T041627Z
LAST-MODIFIED:20260305T042125Z
UID:10000468-1897603200-1897689599@comunidad.nexthaz.com
SUMMARY:📲Llamadas Semanal
DESCRIPTION:
URL:https://comunidad.nexthaz.com/event/llamadas-semanal/2030-02-18/
END:VEVENT
BEGIN:VEVENT
DTSTART;VALUE=DATE:20300220
DTEND;VALUE=DATE:20300221
DTSTAMP:20260422T225321
CREATED:20260305T041842Z
LAST-MODIFIED:20260305T041842Z
UID:10000570-1897776000-1897862399@comunidad.nexthaz.com
SUMMARY:⭐Curso Nuevo
DESCRIPTION:
URL:https://comunidad.nexthaz.com/event/%e2%ad%90curso-nuevo/2030-02-20/
END:VEVENT
BEGIN:VEVENT
DTSTART;VALUE=DATE:20300222
DTEND;VALUE=DATE:20300223
DTSTAMP:20260422T225322
CREATED:20260305T035246Z
LAST-MODIFIED:20260305T042019Z
UID:10000789-1897948800-1898035199@comunidad.nexthaz.com
SUMMARY:💡Nuevas Ideas de Negocio
DESCRIPTION:
URL:https://comunidad.nexthaz.com/event/nuevas-ideas-de-negocio/2030-02-22/
END:VEVENT
BEGIN:VEVENT
DTSTART;VALUE=DATE:20300225
DTEND;VALUE=DATE:20300226
DTSTAMP:20260422T225322
CREATED:20260305T041627Z
LAST-MODIFIED:20260305T042125Z
UID:10000469-1898208000-1898294399@comunidad.nexthaz.com
SUMMARY:📲Llamadas Semanal
DESCRIPTION:
URL:https://comunidad.nexthaz.com/event/llamadas-semanal/2030-02-25/
END:VEVENT
BEGIN:VEVENT
DTSTART;VALUE=DATE:20300301
DTEND;VALUE=DATE:20300302
DTSTAMP:20260422T225322
CREATED:20260305T035246Z
LAST-MODIFIED:20260305T042019Z
UID:10000790-1898553600-1898639999@comunidad.nexthaz.com
SUMMARY:💡Nuevas Ideas de Negocio
DESCRIPTION:
URL:https://comunidad.nexthaz.com/event/nuevas-ideas-de-negocio/2030-03-01/
END:VEVENT
BEGIN:VEVENT
DTSTART;VALUE=DATE:20300304
DTEND;VALUE=DATE:20300305
DTSTAMP:20260422T225322
CREATED:20260305T041627Z
LAST-MODIFIED:20260305T042125Z
UID:10000470-1898812800-1898899199@comunidad.nexthaz.com
SUMMARY:📲Llamadas Semanal
DESCRIPTION:
URL:https://comunidad.nexthaz.com/event/llamadas-semanal/2030-03-04/
END:VEVENT
BEGIN:VEVENT
DTSTART;VALUE=DATE:20300308
DTEND;VALUE=DATE:20300309
DTSTAMP:20260422T225322
CREATED:20260305T035246Z
LAST-MODIFIED:20260305T042019Z
UID:10000791-1899158400-1899244799@comunidad.nexthaz.com
SUMMARY:💡Nuevas Ideas de Negocio
DESCRIPTION:
URL:https://comunidad.nexthaz.com/event/nuevas-ideas-de-negocio/2030-03-08/
END:VEVENT
BEGIN:VEVENT
DTSTART;VALUE=DATE:20300311
DTEND;VALUE=DATE:20300312
DTSTAMP:20260422T225322
CREATED:20260305T041627Z
LAST-MODIFIED:20260305T042125Z
UID:10000471-1899417600-1899503999@comunidad.nexthaz.com
SUMMARY:📲Llamadas Semanal
DESCRIPTION:
URL:https://comunidad.nexthaz.com/event/llamadas-semanal/2030-03-11/
END:VEVENT
BEGIN:VEVENT
DTSTART;VALUE=DATE:20300315
DTEND;VALUE=DATE:20300316
DTSTAMP:20260422T225322
CREATED:20260305T035246Z
LAST-MODIFIED:20260305T042019Z
UID:10000792-1899763200-1899849599@comunidad.nexthaz.com
SUMMARY:💡Nuevas Ideas de Negocio
DESCRIPTION:
URL:https://comunidad.nexthaz.com/event/nuevas-ideas-de-negocio/2030-03-15/
END:VEVENT
BEGIN:VEVENT
DTSTART;VALUE=DATE:20300318
DTEND;VALUE=DATE:20300319
DTSTAMP:20260422T225322
CREATED:20260305T041627Z
LAST-MODIFIED:20260305T042125Z
UID:10000472-1900022400-1900108799@comunidad.nexthaz.com
SUMMARY:📲Llamadas Semanal
DESCRIPTION:
URL:https://comunidad.nexthaz.com/event/llamadas-semanal/2030-03-18/
END:VEVENT
BEGIN:VEVENT
DTSTART;VALUE=DATE:20300320
DTEND;VALUE=DATE:20300321
DTSTAMP:20260422T225322
CREATED:20260305T041842Z
LAST-MODIFIED:20260305T041842Z
UID:10000571-1900195200-1900281599@comunidad.nexthaz.com
SUMMARY:⭐Curso Nuevo
DESCRIPTION:
URL:https://comunidad.nexthaz.com/event/%e2%ad%90curso-nuevo/2030-03-20/
END:VEVENT
BEGIN:VEVENT
DTSTART;VALUE=DATE:20300322
DTEND;VALUE=DATE:20300323
DTSTAMP:20260422T225322
CREATED:20260305T035246Z
LAST-MODIFIED:20260305T042019Z
UID:10000793-1900368000-1900454399@comunidad.nexthaz.com
SUMMARY:💡Nuevas Ideas de Negocio
DESCRIPTION:
URL:https://comunidad.nexthaz.com/event/nuevas-ideas-de-negocio/2030-03-22/
END:VEVENT
BEGIN:VEVENT
DTSTART;VALUE=DATE:20300325
DTEND;VALUE=DATE:20300326
DTSTAMP:20260422T225322
CREATED:20260305T041627Z
LAST-MODIFIED:20260305T042125Z
UID:10000473-1900627200-1900713599@comunidad.nexthaz.com
SUMMARY:📲Llamadas Semanal
DESCRIPTION:
URL:https://comunidad.nexthaz.com/event/llamadas-semanal/2030-03-25/
END:VEVENT
BEGIN:VEVENT
DTSTART;VALUE=DATE:20300329
DTEND;VALUE=DATE:20300330
DTSTAMP:20260422T225322
CREATED:20260305T035246Z
LAST-MODIFIED:20260305T042019Z
UID:10000794-1900972800-1901059199@comunidad.nexthaz.com
SUMMARY:💡Nuevas Ideas de Negocio
DESCRIPTION:
URL:https://comunidad.nexthaz.com/event/nuevas-ideas-de-negocio/2030-03-29/
END:VEVENT
BEGIN:VEVENT
DTSTART;VALUE=DATE:20300401
DTEND;VALUE=DATE:20300402
DTSTAMP:20260422T225322
CREATED:20260305T041627Z
LAST-MODIFIED:20260305T042125Z
UID:10000474-1901232000-1901318399@comunidad.nexthaz.com
SUMMARY:📲Llamadas Semanal
DESCRIPTION:
URL:https://comunidad.nexthaz.com/event/llamadas-semanal/2030-04-01/
END:VEVENT
BEGIN:VEVENT
DTSTART;VALUE=DATE:20300405
DTEND;VALUE=DATE:20300406
DTSTAMP:20260422T225322
CREATED:20260305T035246Z
LAST-MODIFIED:20260305T042019Z
UID:10000795-1901577600-1901663999@comunidad.nexthaz.com
SUMMARY:💡Nuevas Ideas de Negocio
DESCRIPTION:
URL:https://comunidad.nexthaz.com/event/nuevas-ideas-de-negocio/2030-04-05/
END:VEVENT
BEGIN:VEVENT
DTSTART;VALUE=DATE:20300408
DTEND;VALUE=DATE:20300409
DTSTAMP:20260422T225322
CREATED:20260305T041627Z
LAST-MODIFIED:20260305T042125Z
UID:10000475-1901836800-1901923199@comunidad.nexthaz.com
SUMMARY:📲Llamadas Semanal
DESCRIPTION:
URL:https://comunidad.nexthaz.com/event/llamadas-semanal/2030-04-08/
END:VEVENT
BEGIN:VEVENT
DTSTART;VALUE=DATE:20300412
DTEND;VALUE=DATE:20300413
DTSTAMP:20260422T225322
CREATED:20260305T035246Z
LAST-MODIFIED:20260305T042019Z
UID:10000796-1902182400-1902268799@comunidad.nexthaz.com
SUMMARY:💡Nuevas Ideas de Negocio
DESCRIPTION:
URL:https://comunidad.nexthaz.com/event/nuevas-ideas-de-negocio/2030-04-12/
END:VEVENT
BEGIN:VEVENT
DTSTART;VALUE=DATE:20300415
DTEND;VALUE=DATE:20300416
DTSTAMP:20260422T225322
CREATED:20260305T041627Z
LAST-MODIFIED:20260305T042125Z
UID:10000476-1902441600-1902527999@comunidad.nexthaz.com
SUMMARY:📲Llamadas Semanal
DESCRIPTION:
URL:https://comunidad.nexthaz.com/event/llamadas-semanal/2030-04-15/
END:VEVENT
BEGIN:VEVENT
DTSTART;VALUE=DATE:20300417
DTEND;VALUE=DATE:20300418
DTSTAMP:20260422T225322
CREATED:20260305T041842Z
LAST-MODIFIED:20260305T041842Z
UID:10000572-1902614400-1902700799@comunidad.nexthaz.com
SUMMARY:⭐Curso Nuevo
DESCRIPTION:
URL:https://comunidad.nexthaz.com/event/%e2%ad%90curso-nuevo/2030-04-17/
END:VEVENT
BEGIN:VEVENT
DTSTART;VALUE=DATE:20300419
DTEND;VALUE=DATE:20300420
DTSTAMP:20260422T225322
CREATED:20260305T035246Z
LAST-MODIFIED:20260305T042019Z
UID:10000797-1902787200-1902873599@comunidad.nexthaz.com
SUMMARY:💡Nuevas Ideas de Negocio
DESCRIPTION:
URL:https://comunidad.nexthaz.com/event/nuevas-ideas-de-negocio/2030-04-19/
END:VEVENT
BEGIN:VEVENT
DTSTART;VALUE=DATE:20300422
DTEND;VALUE=DATE:20300423
DTSTAMP:20260422T225322
CREATED:20260305T041627Z
LAST-MODIFIED:20260305T042125Z
UID:10000477-1903046400-1903132799@comunidad.nexthaz.com
SUMMARY:📲Llamadas Semanal
DESCRIPTION:
URL:https://comunidad.nexthaz.com/event/llamadas-semanal/2030-04-22/
END:VEVENT
BEGIN:VEVENT
DTSTART;VALUE=DATE:20300426
DTEND;VALUE=DATE:20300427
DTSTAMP:20260422T225322
CREATED:20260305T035246Z
LAST-MODIFIED:20260305T042019Z
UID:10000798-1903392000-1903478399@comunidad.nexthaz.com
SUMMARY:💡Nuevas Ideas de Negocio
DESCRIPTION:
URL:https://comunidad.nexthaz.com/event/nuevas-ideas-de-negocio/2030-04-26/
END:VEVENT
BEGIN:VEVENT
DTSTART;VALUE=DATE:20300429
DTEND;VALUE=DATE:20300430
DTSTAMP:20260422T225322
CREATED:20260305T041627Z
LAST-MODIFIED:20260305T042125Z
UID:10000478-1903651200-1903737599@comunidad.nexthaz.com
SUMMARY:📲Llamadas Semanal
DESCRIPTION:
URL:https://comunidad.nexthaz.com/event/llamadas-semanal/2030-04-29/
END:VEVENT
BEGIN:VEVENT
DTSTART;VALUE=DATE:20300503
DTEND;VALUE=DATE:20300504
DTSTAMP:20260422T225322
CREATED:20260305T035246Z
LAST-MODIFIED:20260305T042019Z
UID:10000799-1903996800-1904083199@comunidad.nexthaz.com
SUMMARY:💡Nuevas Ideas de Negocio
DESCRIPTION:
URL:https://comunidad.nexthaz.com/event/nuevas-ideas-de-negocio/2030-05-03/
END:VEVENT
BEGIN:VEVENT
DTSTART;VALUE=DATE:20300506
DTEND;VALUE=DATE:20300507
DTSTAMP:20260422T225322
CREATED:20260305T041627Z
LAST-MODIFIED:20260305T042125Z
UID:10000479-1904256000-1904342399@comunidad.nexthaz.com
SUMMARY:📲Llamadas Semanal
DESCRIPTION:
URL:https://comunidad.nexthaz.com/event/llamadas-semanal/2030-05-06/
END:VEVENT
BEGIN:VEVENT
DTSTART;VALUE=DATE:20300510
DTEND;VALUE=DATE:20300511
DTSTAMP:20260422T225322
CREATED:20260305T035246Z
LAST-MODIFIED:20260305T042019Z
UID:10000800-1904601600-1904687999@comunidad.nexthaz.com
SUMMARY:💡Nuevas Ideas de Negocio
DESCRIPTION:
URL:https://comunidad.nexthaz.com/event/nuevas-ideas-de-negocio/2030-05-10/
END:VEVENT
BEGIN:VEVENT
DTSTART;VALUE=DATE:20300513
DTEND;VALUE=DATE:20300514
DTSTAMP:20260422T225322
CREATED:20260305T041627Z
LAST-MODIFIED:20260305T042125Z
UID:10000480-1904860800-1904947199@comunidad.nexthaz.com
SUMMARY:📲Llamadas Semanal
DESCRIPTION:
URL:https://comunidad.nexthaz.com/event/llamadas-semanal/2030-05-13/
END:VEVENT
BEGIN:VEVENT
DTSTART;VALUE=DATE:20300515
DTEND;VALUE=DATE:20300516
DTSTAMP:20260422T225322
CREATED:20260305T041842Z
LAST-MODIFIED:20260305T041842Z
UID:10000573-1905033600-1905119999@comunidad.nexthaz.com
SUMMARY:⭐Curso Nuevo
DESCRIPTION:
URL:https://comunidad.nexthaz.com/event/%e2%ad%90curso-nuevo/2030-05-15/
END:VEVENT
BEGIN:VEVENT
DTSTART;VALUE=DATE:20300517
DTEND;VALUE=DATE:20300518
DTSTAMP:20260422T225322
CREATED:20260305T035246Z
LAST-MODIFIED:20260305T042019Z
UID:10000801-1905206400-1905292799@comunidad.nexthaz.com
SUMMARY:💡Nuevas Ideas de Negocio
DESCRIPTION:
URL:https://comunidad.nexthaz.com/event/nuevas-ideas-de-negocio/2030-05-17/
END:VEVENT
END:VCALENDAR