BEGIN:VCALENDAR
VERSION:2.0
PRODID:-//Comunidad Nexthaz - ECPv6.15.20//NONSGML v1.0//EN
CALSCALE:GREGORIAN
METHOD:PUBLISH
X-WR-CALNAME:Comunidad Nexthaz
X-ORIGINAL-URL:https://comunidad.nexthaz.com
X-WR-CALDESC:Eventos para Comunidad Nexthaz
REFRESH-INTERVAL;VALUE=DURATION:PT1H
X-Robots-Tag:noindex
X-PUBLISHED-TTL:PT1H
BEGIN:VTIMEZONE
TZID:UTC
BEGIN:STANDARD
TZOFFSETFROM:+0000
TZOFFSETTO:+0000
TZNAME:UTC
DTSTART:20290101T000000
END:STANDARD
END:VTIMEZONE
BEGIN:VEVENT
DTSTART;VALUE=DATE:20300610
DTEND;VALUE=DATE:20300611
DTSTAMP:20260423T034028
CREATED:20260305T041627Z
LAST-MODIFIED:20260305T042125Z
UID:10000484-1907280000-1907366399@comunidad.nexthaz.com
SUMMARY:📲Llamadas Semanal
DESCRIPTION:
URL:https://comunidad.nexthaz.com/event/llamadas-semanal/2030-06-10/
END:VEVENT
BEGIN:VEVENT
DTSTART;VALUE=DATE:20300614
DTEND;VALUE=DATE:20300615
DTSTAMP:20260423T034028
CREATED:20260305T035246Z
LAST-MODIFIED:20260305T042019Z
UID:10000805-1907625600-1907711999@comunidad.nexthaz.com
SUMMARY:💡Nuevas Ideas de Negocio
DESCRIPTION:
URL:https://comunidad.nexthaz.com/event/nuevas-ideas-de-negocio/2030-06-14/
END:VEVENT
BEGIN:VEVENT
DTSTART;VALUE=DATE:20300617
DTEND;VALUE=DATE:20300618
DTSTAMP:20260423T034028
CREATED:20260305T041627Z
LAST-MODIFIED:20260305T042125Z
UID:10000485-1907884800-1907971199@comunidad.nexthaz.com
SUMMARY:📲Llamadas Semanal
DESCRIPTION:
URL:https://comunidad.nexthaz.com/event/llamadas-semanal/2030-06-17/
END:VEVENT
BEGIN:VEVENT
DTSTART;VALUE=DATE:20300619
DTEND;VALUE=DATE:20300620
DTSTAMP:20260423T034028
CREATED:20260305T041842Z
LAST-MODIFIED:20260305T041842Z
UID:10000574-1908057600-1908143999@comunidad.nexthaz.com
SUMMARY:⭐Curso Nuevo
DESCRIPTION:
URL:https://comunidad.nexthaz.com/event/%e2%ad%90curso-nuevo/2030-06-19/
END:VEVENT
BEGIN:VEVENT
DTSTART;VALUE=DATE:20300621
DTEND;VALUE=DATE:20300622
DTSTAMP:20260423T034028
CREATED:20260305T035246Z
LAST-MODIFIED:20260305T042019Z
UID:10000806-1908230400-1908316799@comunidad.nexthaz.com
SUMMARY:💡Nuevas Ideas de Negocio
DESCRIPTION:
URL:https://comunidad.nexthaz.com/event/nuevas-ideas-de-negocio/2030-06-21/
END:VEVENT
BEGIN:VEVENT
DTSTART;VALUE=DATE:20300624
DTEND;VALUE=DATE:20300625
DTSTAMP:20260423T034028
CREATED:20260305T041627Z
LAST-MODIFIED:20260305T042125Z
UID:10000486-1908489600-1908575999@comunidad.nexthaz.com
SUMMARY:📲Llamadas Semanal
DESCRIPTION:
URL:https://comunidad.nexthaz.com/event/llamadas-semanal/2030-06-24/
END:VEVENT
BEGIN:VEVENT
DTSTART;VALUE=DATE:20300628
DTEND;VALUE=DATE:20300629
DTSTAMP:20260423T034028
CREATED:20260305T035246Z
LAST-MODIFIED:20260305T042019Z
UID:10000807-1908835200-1908921599@comunidad.nexthaz.com
SUMMARY:💡Nuevas Ideas de Negocio
DESCRIPTION:
URL:https://comunidad.nexthaz.com/event/nuevas-ideas-de-negocio/2030-06-28/
END:VEVENT
BEGIN:VEVENT
DTSTART;VALUE=DATE:20300701
DTEND;VALUE=DATE:20300702
DTSTAMP:20260423T034028
CREATED:20260305T041627Z
LAST-MODIFIED:20260305T042125Z
UID:10000487-1909094400-1909180799@comunidad.nexthaz.com
SUMMARY:📲Llamadas Semanal
DESCRIPTION:
URL:https://comunidad.nexthaz.com/event/llamadas-semanal/2030-07-01/
END:VEVENT
BEGIN:VEVENT
DTSTART;VALUE=DATE:20300705
DTEND;VALUE=DATE:20300706
DTSTAMP:20260423T034028
CREATED:20260305T035246Z
LAST-MODIFIED:20260305T042019Z
UID:10000808-1909440000-1909526399@comunidad.nexthaz.com
SUMMARY:💡Nuevas Ideas de Negocio
DESCRIPTION:
URL:https://comunidad.nexthaz.com/event/nuevas-ideas-de-negocio/2030-07-05/
END:VEVENT
BEGIN:VEVENT
DTSTART;VALUE=DATE:20300708
DTEND;VALUE=DATE:20300709
DTSTAMP:20260423T034028
CREATED:20260305T041627Z
LAST-MODIFIED:20260305T042125Z
UID:10000488-1909699200-1909785599@comunidad.nexthaz.com
SUMMARY:📲Llamadas Semanal
DESCRIPTION:
URL:https://comunidad.nexthaz.com/event/llamadas-semanal/2030-07-08/
END:VEVENT
BEGIN:VEVENT
DTSTART;VALUE=DATE:20300712
DTEND;VALUE=DATE:20300713
DTSTAMP:20260423T034028
CREATED:20260305T035246Z
LAST-MODIFIED:20260305T042019Z
UID:10000809-1910044800-1910131199@comunidad.nexthaz.com
SUMMARY:💡Nuevas Ideas de Negocio
DESCRIPTION:
URL:https://comunidad.nexthaz.com/event/nuevas-ideas-de-negocio/2030-07-12/
END:VEVENT
BEGIN:VEVENT
DTSTART;VALUE=DATE:20300715
DTEND;VALUE=DATE:20300716
DTSTAMP:20260423T034028
CREATED:20260305T041627Z
LAST-MODIFIED:20260305T042125Z
UID:10000489-1910304000-1910390399@comunidad.nexthaz.com
SUMMARY:📲Llamadas Semanal
DESCRIPTION:
URL:https://comunidad.nexthaz.com/event/llamadas-semanal/2030-07-15/
END:VEVENT
BEGIN:VEVENT
DTSTART;VALUE=DATE:20300717
DTEND;VALUE=DATE:20300718
DTSTAMP:20260423T034028
CREATED:20260305T041842Z
LAST-MODIFIED:20260305T041842Z
UID:10000575-1910476800-1910563199@comunidad.nexthaz.com
SUMMARY:⭐Curso Nuevo
DESCRIPTION:
URL:https://comunidad.nexthaz.com/event/%e2%ad%90curso-nuevo/2030-07-17/
END:VEVENT
BEGIN:VEVENT
DTSTART;VALUE=DATE:20300719
DTEND;VALUE=DATE:20300720
DTSTAMP:20260423T034028
CREATED:20260305T035246Z
LAST-MODIFIED:20260305T042019Z
UID:10000810-1910649600-1910735999@comunidad.nexthaz.com
SUMMARY:💡Nuevas Ideas de Negocio
DESCRIPTION:
URL:https://comunidad.nexthaz.com/event/nuevas-ideas-de-negocio/2030-07-19/
END:VEVENT
BEGIN:VEVENT
DTSTART;VALUE=DATE:20300722
DTEND;VALUE=DATE:20300723
DTSTAMP:20260423T034028
CREATED:20260305T041627Z
LAST-MODIFIED:20260305T042125Z
UID:10000490-1910908800-1910995199@comunidad.nexthaz.com
SUMMARY:📲Llamadas Semanal
DESCRIPTION:
URL:https://comunidad.nexthaz.com/event/llamadas-semanal/2030-07-22/
END:VEVENT
BEGIN:VEVENT
DTSTART;VALUE=DATE:20300726
DTEND;VALUE=DATE:20300727
DTSTAMP:20260423T034028
CREATED:20260305T035246Z
LAST-MODIFIED:20260305T042019Z
UID:10000811-1911254400-1911340799@comunidad.nexthaz.com
SUMMARY:💡Nuevas Ideas de Negocio
DESCRIPTION:
URL:https://comunidad.nexthaz.com/event/nuevas-ideas-de-negocio/2030-07-26/
END:VEVENT
BEGIN:VEVENT
DTSTART;VALUE=DATE:20300729
DTEND;VALUE=DATE:20300730
DTSTAMP:20260423T034028
CREATED:20260305T041627Z
LAST-MODIFIED:20260305T042125Z
UID:10000491-1911513600-1911599999@comunidad.nexthaz.com
SUMMARY:📲Llamadas Semanal
DESCRIPTION:
URL:https://comunidad.nexthaz.com/event/llamadas-semanal/2030-07-29/
END:VEVENT
BEGIN:VEVENT
DTSTART;VALUE=DATE:20300802
DTEND;VALUE=DATE:20300803
DTSTAMP:20260423T034028
CREATED:20260305T035246Z
LAST-MODIFIED:20260305T042019Z
UID:10000812-1911859200-1911945599@comunidad.nexthaz.com
SUMMARY:💡Nuevas Ideas de Negocio
DESCRIPTION:
URL:https://comunidad.nexthaz.com/event/nuevas-ideas-de-negocio/2030-08-02/
END:VEVENT
BEGIN:VEVENT
DTSTART;VALUE=DATE:20300805
DTEND;VALUE=DATE:20300806
DTSTAMP:20260423T034028
CREATED:20260305T041627Z
LAST-MODIFIED:20260305T042125Z
UID:10000492-1912118400-1912204799@comunidad.nexthaz.com
SUMMARY:📲Llamadas Semanal
DESCRIPTION:
URL:https://comunidad.nexthaz.com/event/llamadas-semanal/2030-08-05/
END:VEVENT
BEGIN:VEVENT
DTSTART;VALUE=DATE:20300809
DTEND;VALUE=DATE:20300810
DTSTAMP:20260423T034028
CREATED:20260305T035246Z
LAST-MODIFIED:20260305T042019Z
UID:10000813-1912464000-1912550399@comunidad.nexthaz.com
SUMMARY:💡Nuevas Ideas de Negocio
DESCRIPTION:
URL:https://comunidad.nexthaz.com/event/nuevas-ideas-de-negocio/2030-08-09/
END:VEVENT
BEGIN:VEVENT
DTSTART;VALUE=DATE:20300812
DTEND;VALUE=DATE:20300813
DTSTAMP:20260423T034028
CREATED:20260305T041627Z
LAST-MODIFIED:20260305T042125Z
UID:10000493-1912723200-1912809599@comunidad.nexthaz.com
SUMMARY:📲Llamadas Semanal
DESCRIPTION:
URL:https://comunidad.nexthaz.com/event/llamadas-semanal/2030-08-12/
END:VEVENT
BEGIN:VEVENT
DTSTART;VALUE=DATE:20300816
DTEND;VALUE=DATE:20300817
DTSTAMP:20260423T034028
CREATED:20260305T035246Z
LAST-MODIFIED:20260305T042019Z
UID:10000814-1913068800-1913155199@comunidad.nexthaz.com
SUMMARY:💡Nuevas Ideas de Negocio
DESCRIPTION:
URL:https://comunidad.nexthaz.com/event/nuevas-ideas-de-negocio/2030-08-16/
END:VEVENT
BEGIN:VEVENT
DTSTART;VALUE=DATE:20300819
DTEND;VALUE=DATE:20300820
DTSTAMP:20260423T034028
CREATED:20260305T041627Z
LAST-MODIFIED:20260305T042125Z
UID:10000494-1913328000-1913414399@comunidad.nexthaz.com
SUMMARY:📲Llamadas Semanal
DESCRIPTION:
URL:https://comunidad.nexthaz.com/event/llamadas-semanal/2030-08-19/
END:VEVENT
BEGIN:VEVENT
DTSTART;VALUE=DATE:20300821
DTEND;VALUE=DATE:20300822
DTSTAMP:20260423T034028
CREATED:20260305T041842Z
LAST-MODIFIED:20260305T041842Z
UID:10000576-1913500800-1913587199@comunidad.nexthaz.com
SUMMARY:⭐Curso Nuevo
DESCRIPTION:
URL:https://comunidad.nexthaz.com/event/%e2%ad%90curso-nuevo/2030-08-21/
END:VEVENT
BEGIN:VEVENT
DTSTART;VALUE=DATE:20300823
DTEND;VALUE=DATE:20300824
DTSTAMP:20260423T034028
CREATED:20260305T035246Z
LAST-MODIFIED:20260305T042019Z
UID:10000815-1913673600-1913759999@comunidad.nexthaz.com
SUMMARY:💡Nuevas Ideas de Negocio
DESCRIPTION:
URL:https://comunidad.nexthaz.com/event/nuevas-ideas-de-negocio/2030-08-23/
END:VEVENT
BEGIN:VEVENT
DTSTART;VALUE=DATE:20300826
DTEND;VALUE=DATE:20300827
DTSTAMP:20260423T034028
CREATED:20260305T041627Z
LAST-MODIFIED:20260305T042125Z
UID:10000495-1913932800-1914019199@comunidad.nexthaz.com
SUMMARY:📲Llamadas Semanal
DESCRIPTION:
URL:https://comunidad.nexthaz.com/event/llamadas-semanal/2030-08-26/
END:VEVENT
BEGIN:VEVENT
DTSTART;VALUE=DATE:20300830
DTEND;VALUE=DATE:20300831
DTSTAMP:20260423T034028
CREATED:20260305T035246Z
LAST-MODIFIED:20260305T042019Z
UID:10000816-1914278400-1914364799@comunidad.nexthaz.com
SUMMARY:💡Nuevas Ideas de Negocio
DESCRIPTION:
URL:https://comunidad.nexthaz.com/event/nuevas-ideas-de-negocio/2030-08-30/
END:VEVENT
BEGIN:VEVENT
DTSTART;VALUE=DATE:20300902
DTEND;VALUE=DATE:20300903
DTSTAMP:20260423T034028
CREATED:20260305T041627Z
LAST-MODIFIED:20260305T042125Z
UID:10000496-1914537600-1914623999@comunidad.nexthaz.com
SUMMARY:📲Llamadas Semanal
DESCRIPTION:
URL:https://comunidad.nexthaz.com/event/llamadas-semanal/2030-09-02/
END:VEVENT
BEGIN:VEVENT
DTSTART;VALUE=DATE:20300906
DTEND;VALUE=DATE:20300907
DTSTAMP:20260423T034028
CREATED:20260305T035246Z
LAST-MODIFIED:20260305T042019Z
UID:10000817-1914883200-1914969599@comunidad.nexthaz.com
SUMMARY:💡Nuevas Ideas de Negocio
DESCRIPTION:
URL:https://comunidad.nexthaz.com/event/nuevas-ideas-de-negocio/2030-09-06/
END:VEVENT
BEGIN:VEVENT
DTSTART;VALUE=DATE:20300909
DTEND;VALUE=DATE:20300910
DTSTAMP:20260423T034028
CREATED:20260305T041627Z
LAST-MODIFIED:20260305T042125Z
UID:10000497-1915142400-1915228799@comunidad.nexthaz.com
SUMMARY:📲Llamadas Semanal
DESCRIPTION:
URL:https://comunidad.nexthaz.com/event/llamadas-semanal/2030-09-09/
END:VEVENT
END:VCALENDAR