BEGIN:VCALENDAR
VERSION:2.0
PRODID:-//Comunidad Nexthaz - ECPv6.15.20//NONSGML v1.0//EN
CALSCALE:GREGORIAN
METHOD:PUBLISH
X-WR-CALNAME:Comunidad Nexthaz
X-ORIGINAL-URL:https://comunidad.nexthaz.com
X-WR-CALDESC:Eventos para Comunidad Nexthaz
REFRESH-INTERVAL;VALUE=DURATION:PT1H
X-Robots-Tag:noindex
X-PUBLISHED-TTL:PT1H
BEGIN:VTIMEZONE
TZID:UTC
BEGIN:STANDARD
TZOFFSETFROM:+0000
TZOFFSETTO:+0000
TZNAME:UTC
DTSTART:20290101T000000
END:STANDARD
END:VTIMEZONE
BEGIN:VEVENT
DTSTART;VALUE=DATE:20300823
DTEND;VALUE=DATE:20300824
DTSTAMP:20260423T073909
CREATED:20260305T035246Z
LAST-MODIFIED:20260305T042019Z
UID:10000815-1913673600-1913759999@comunidad.nexthaz.com
SUMMARY:💡Nuevas Ideas de Negocio
DESCRIPTION:
URL:https://comunidad.nexthaz.com/event/nuevas-ideas-de-negocio/2030-08-23/
END:VEVENT
BEGIN:VEVENT
DTSTART;VALUE=DATE:20300826
DTEND;VALUE=DATE:20300827
DTSTAMP:20260423T073909
CREATED:20260305T041627Z
LAST-MODIFIED:20260305T042125Z
UID:10000495-1913932800-1914019199@comunidad.nexthaz.com
SUMMARY:📲Llamadas Semanal
DESCRIPTION:
URL:https://comunidad.nexthaz.com/event/llamadas-semanal/2030-08-26/
END:VEVENT
BEGIN:VEVENT
DTSTART;VALUE=DATE:20300830
DTEND;VALUE=DATE:20300831
DTSTAMP:20260423T073909
CREATED:20260305T035246Z
LAST-MODIFIED:20260305T042019Z
UID:10000816-1914278400-1914364799@comunidad.nexthaz.com
SUMMARY:💡Nuevas Ideas de Negocio
DESCRIPTION:
URL:https://comunidad.nexthaz.com/event/nuevas-ideas-de-negocio/2030-08-30/
END:VEVENT
BEGIN:VEVENT
DTSTART;VALUE=DATE:20300902
DTEND;VALUE=DATE:20300903
DTSTAMP:20260423T073909
CREATED:20260305T041627Z
LAST-MODIFIED:20260305T042125Z
UID:10000496-1914537600-1914623999@comunidad.nexthaz.com
SUMMARY:📲Llamadas Semanal
DESCRIPTION:
URL:https://comunidad.nexthaz.com/event/llamadas-semanal/2030-09-02/
END:VEVENT
BEGIN:VEVENT
DTSTART;VALUE=DATE:20300906
DTEND;VALUE=DATE:20300907
DTSTAMP:20260423T073909
CREATED:20260305T035246Z
LAST-MODIFIED:20260305T042019Z
UID:10000817-1914883200-1914969599@comunidad.nexthaz.com
SUMMARY:💡Nuevas Ideas de Negocio
DESCRIPTION:
URL:https://comunidad.nexthaz.com/event/nuevas-ideas-de-negocio/2030-09-06/
END:VEVENT
BEGIN:VEVENT
DTSTART;VALUE=DATE:20300909
DTEND;VALUE=DATE:20300910
DTSTAMP:20260423T073909
CREATED:20260305T041627Z
LAST-MODIFIED:20260305T042125Z
UID:10000497-1915142400-1915228799@comunidad.nexthaz.com
SUMMARY:📲Llamadas Semanal
DESCRIPTION:
URL:https://comunidad.nexthaz.com/event/llamadas-semanal/2030-09-09/
END:VEVENT
BEGIN:VEVENT
DTSTART;VALUE=DATE:20300913
DTEND;VALUE=DATE:20300914
DTSTAMP:20260423T073909
CREATED:20260305T035246Z
LAST-MODIFIED:20260305T042019Z
UID:10000818-1915488000-1915574399@comunidad.nexthaz.com
SUMMARY:💡Nuevas Ideas de Negocio
DESCRIPTION:
URL:https://comunidad.nexthaz.com/event/nuevas-ideas-de-negocio/2030-09-13/
END:VEVENT
BEGIN:VEVENT
DTSTART;VALUE=DATE:20300916
DTEND;VALUE=DATE:20300917
DTSTAMP:20260423T073909
CREATED:20260305T041627Z
LAST-MODIFIED:20260305T042125Z
UID:10000498-1915747200-1915833599@comunidad.nexthaz.com
SUMMARY:📲Llamadas Semanal
DESCRIPTION:
URL:https://comunidad.nexthaz.com/event/llamadas-semanal/2030-09-16/
END:VEVENT
BEGIN:VEVENT
DTSTART;VALUE=DATE:20300918
DTEND;VALUE=DATE:20300919
DTSTAMP:20260423T073909
CREATED:20260305T041842Z
LAST-MODIFIED:20260305T041842Z
UID:10000577-1915920000-1916006399@comunidad.nexthaz.com
SUMMARY:⭐Curso Nuevo
DESCRIPTION:
URL:https://comunidad.nexthaz.com/event/%e2%ad%90curso-nuevo/2030-09-18/
END:VEVENT
BEGIN:VEVENT
DTSTART;VALUE=DATE:20300920
DTEND;VALUE=DATE:20300921
DTSTAMP:20260423T073909
CREATED:20260305T035246Z
LAST-MODIFIED:20260305T042019Z
UID:10000819-1916092800-1916179199@comunidad.nexthaz.com
SUMMARY:💡Nuevas Ideas de Negocio
DESCRIPTION:
URL:https://comunidad.nexthaz.com/event/nuevas-ideas-de-negocio/2030-09-20/
END:VEVENT
BEGIN:VEVENT
DTSTART;VALUE=DATE:20300923
DTEND;VALUE=DATE:20300924
DTSTAMP:20260423T073909
CREATED:20260305T041627Z
LAST-MODIFIED:20260305T042125Z
UID:10000499-1916352000-1916438399@comunidad.nexthaz.com
SUMMARY:📲Llamadas Semanal
DESCRIPTION:
URL:https://comunidad.nexthaz.com/event/llamadas-semanal/2030-09-23/
END:VEVENT
BEGIN:VEVENT
DTSTART;VALUE=DATE:20300927
DTEND;VALUE=DATE:20300928
DTSTAMP:20260423T073909
CREATED:20260305T035246Z
LAST-MODIFIED:20260305T042019Z
UID:10000820-1916697600-1916783999@comunidad.nexthaz.com
SUMMARY:💡Nuevas Ideas de Negocio
DESCRIPTION:
URL:https://comunidad.nexthaz.com/event/nuevas-ideas-de-negocio/2030-09-27/
END:VEVENT
BEGIN:VEVENT
DTSTART;VALUE=DATE:20300930
DTEND;VALUE=DATE:20301001
DTSTAMP:20260423T073909
CREATED:20260305T041627Z
LAST-MODIFIED:20260305T042125Z
UID:10000500-1916956800-1917043199@comunidad.nexthaz.com
SUMMARY:📲Llamadas Semanal
DESCRIPTION:
URL:https://comunidad.nexthaz.com/event/llamadas-semanal/2030-09-30/
END:VEVENT
BEGIN:VEVENT
DTSTART;VALUE=DATE:20301004
DTEND;VALUE=DATE:20301005
DTSTAMP:20260423T073909
CREATED:20260305T035246Z
LAST-MODIFIED:20260305T042019Z
UID:10000821-1917302400-1917388799@comunidad.nexthaz.com
SUMMARY:💡Nuevas Ideas de Negocio
DESCRIPTION:
URL:https://comunidad.nexthaz.com/event/nuevas-ideas-de-negocio/2030-10-04/
END:VEVENT
BEGIN:VEVENT
DTSTART;VALUE=DATE:20301007
DTEND;VALUE=DATE:20301008
DTSTAMP:20260423T073909
CREATED:20260305T041627Z
LAST-MODIFIED:20260305T042125Z
UID:10000501-1917561600-1917647999@comunidad.nexthaz.com
SUMMARY:📲Llamadas Semanal
DESCRIPTION:
URL:https://comunidad.nexthaz.com/event/llamadas-semanal/2030-10-07/
END:VEVENT
BEGIN:VEVENT
DTSTART;VALUE=DATE:20301011
DTEND;VALUE=DATE:20301012
DTSTAMP:20260423T073909
CREATED:20260305T035246Z
LAST-MODIFIED:20260305T042019Z
UID:10000822-1917907200-1917993599@comunidad.nexthaz.com
SUMMARY:💡Nuevas Ideas de Negocio
DESCRIPTION:
URL:https://comunidad.nexthaz.com/event/nuevas-ideas-de-negocio/2030-10-11/
END:VEVENT
BEGIN:VEVENT
DTSTART;VALUE=DATE:20301014
DTEND;VALUE=DATE:20301015
DTSTAMP:20260423T073909
CREATED:20260305T041627Z
LAST-MODIFIED:20260305T042125Z
UID:10000502-1918166400-1918252799@comunidad.nexthaz.com
SUMMARY:📲Llamadas Semanal
DESCRIPTION:
URL:https://comunidad.nexthaz.com/event/llamadas-semanal/2030-10-14/
END:VEVENT
BEGIN:VEVENT
DTSTART;VALUE=DATE:20301016
DTEND;VALUE=DATE:20301017
DTSTAMP:20260423T073909
CREATED:20260305T041842Z
LAST-MODIFIED:20260305T041842Z
UID:10000578-1918339200-1918425599@comunidad.nexthaz.com
SUMMARY:⭐Curso Nuevo
DESCRIPTION:
URL:https://comunidad.nexthaz.com/event/%e2%ad%90curso-nuevo/2030-10-16/
END:VEVENT
BEGIN:VEVENT
DTSTART;VALUE=DATE:20301018
DTEND;VALUE=DATE:20301019
DTSTAMP:20260423T073909
CREATED:20260305T035246Z
LAST-MODIFIED:20260305T042019Z
UID:10000823-1918512000-1918598399@comunidad.nexthaz.com
SUMMARY:💡Nuevas Ideas de Negocio
DESCRIPTION:
URL:https://comunidad.nexthaz.com/event/nuevas-ideas-de-negocio/2030-10-18/
END:VEVENT
BEGIN:VEVENT
DTSTART;VALUE=DATE:20301021
DTEND;VALUE=DATE:20301022
DTSTAMP:20260423T073909
CREATED:20260305T041627Z
LAST-MODIFIED:20260305T042125Z
UID:10000503-1918771200-1918857599@comunidad.nexthaz.com
SUMMARY:📲Llamadas Semanal
DESCRIPTION:
URL:https://comunidad.nexthaz.com/event/llamadas-semanal/2030-10-21/
END:VEVENT
BEGIN:VEVENT
DTSTART;VALUE=DATE:20301025
DTEND;VALUE=DATE:20301026
DTSTAMP:20260423T073909
CREATED:20260305T035246Z
LAST-MODIFIED:20260305T042019Z
UID:10000824-1919116800-1919203199@comunidad.nexthaz.com
SUMMARY:💡Nuevas Ideas de Negocio
DESCRIPTION:
URL:https://comunidad.nexthaz.com/event/nuevas-ideas-de-negocio/2030-10-25/
END:VEVENT
BEGIN:VEVENT
DTSTART;VALUE=DATE:20301028
DTEND;VALUE=DATE:20301029
DTSTAMP:20260423T073909
CREATED:20260305T041627Z
LAST-MODIFIED:20260305T042125Z
UID:10000504-1919376000-1919462399@comunidad.nexthaz.com
SUMMARY:📲Llamadas Semanal
DESCRIPTION:
URL:https://comunidad.nexthaz.com/event/llamadas-semanal/2030-10-28/
END:VEVENT
BEGIN:VEVENT
DTSTART;VALUE=DATE:20301101
DTEND;VALUE=DATE:20301102
DTSTAMP:20260423T073909
CREATED:20260305T035246Z
LAST-MODIFIED:20260305T042019Z
UID:10000825-1919721600-1919807999@comunidad.nexthaz.com
SUMMARY:💡Nuevas Ideas de Negocio
DESCRIPTION:
URL:https://comunidad.nexthaz.com/event/nuevas-ideas-de-negocio/2030-11-01/
END:VEVENT
BEGIN:VEVENT
DTSTART;VALUE=DATE:20301104
DTEND;VALUE=DATE:20301105
DTSTAMP:20260423T073909
CREATED:20260305T041627Z
LAST-MODIFIED:20260305T042125Z
UID:10000505-1919980800-1920067199@comunidad.nexthaz.com
SUMMARY:📲Llamadas Semanal
DESCRIPTION:
URL:https://comunidad.nexthaz.com/event/llamadas-semanal/2030-11-04/
END:VEVENT
BEGIN:VEVENT
DTSTART;VALUE=DATE:20301108
DTEND;VALUE=DATE:20301109
DTSTAMP:20260423T073909
CREATED:20260305T035246Z
LAST-MODIFIED:20260305T042019Z
UID:10000826-1920326400-1920412799@comunidad.nexthaz.com
SUMMARY:💡Nuevas Ideas de Negocio
DESCRIPTION:
URL:https://comunidad.nexthaz.com/event/nuevas-ideas-de-negocio/2030-11-08/
END:VEVENT
BEGIN:VEVENT
DTSTART;VALUE=DATE:20301111
DTEND;VALUE=DATE:20301112
DTSTAMP:20260423T073909
CREATED:20260305T041627Z
LAST-MODIFIED:20260305T042125Z
UID:10000506-1920585600-1920671999@comunidad.nexthaz.com
SUMMARY:📲Llamadas Semanal
DESCRIPTION:
URL:https://comunidad.nexthaz.com/event/llamadas-semanal/2030-11-11/
END:VEVENT
BEGIN:VEVENT
DTSTART;VALUE=DATE:20301115
DTEND;VALUE=DATE:20301116
DTSTAMP:20260423T073909
CREATED:20260305T035246Z
LAST-MODIFIED:20260305T042019Z
UID:10000827-1920931200-1921017599@comunidad.nexthaz.com
SUMMARY:💡Nuevas Ideas de Negocio
DESCRIPTION:
URL:https://comunidad.nexthaz.com/event/nuevas-ideas-de-negocio/2030-11-15/
END:VEVENT
BEGIN:VEVENT
DTSTART;VALUE=DATE:20301118
DTEND;VALUE=DATE:20301119
DTSTAMP:20260423T073909
CREATED:20260305T041627Z
LAST-MODIFIED:20260305T042125Z
UID:10000507-1921190400-1921276799@comunidad.nexthaz.com
SUMMARY:📲Llamadas Semanal
DESCRIPTION:
URL:https://comunidad.nexthaz.com/event/llamadas-semanal/2030-11-18/
END:VEVENT
BEGIN:VEVENT
DTSTART;VALUE=DATE:20301120
DTEND;VALUE=DATE:20301121
DTSTAMP:20260423T073909
CREATED:20260305T041842Z
LAST-MODIFIED:20260305T041842Z
UID:10000579-1921363200-1921449599@comunidad.nexthaz.com
SUMMARY:⭐Curso Nuevo
DESCRIPTION:
URL:https://comunidad.nexthaz.com/event/%e2%ad%90curso-nuevo/2030-11-20/
END:VEVENT
BEGIN:VEVENT
DTSTART;VALUE=DATE:20301122
DTEND;VALUE=DATE:20301123
DTSTAMP:20260423T073909
CREATED:20260305T035246Z
LAST-MODIFIED:20260305T042019Z
UID:10000828-1921536000-1921622399@comunidad.nexthaz.com
SUMMARY:💡Nuevas Ideas de Negocio
DESCRIPTION:
URL:https://comunidad.nexthaz.com/event/nuevas-ideas-de-negocio/2030-11-22/
END:VEVENT
END:VCALENDAR