BEGIN:VCALENDAR
VERSION:2.0
PRODID:-//Comunidad Nexthaz - ECPv6.15.20//NONSGML v1.0//EN
CALSCALE:GREGORIAN
METHOD:PUBLISH
X-ORIGINAL-URL:https://comunidad.nexthaz.com
X-WR-CALDESC:Eventos para Comunidad Nexthaz
REFRESH-INTERVAL;VALUE=DURATION:PT1H
X-Robots-Tag:noindex
X-PUBLISHED-TTL:PT1H
BEGIN:VTIMEZONE
TZID:UTC
BEGIN:STANDARD
TZOFFSETFROM:+0000
TZOFFSETTO:+0000
TZNAME:UTC
DTSTART:20300101T000000
END:STANDARD
END:VTIMEZONE
BEGIN:VEVENT
DTSTART;VALUE=DATE:20310120
DTEND;VALUE=DATE:20310121
DTSTAMP:20260423T132038
CREATED:20260305T041627Z
LAST-MODIFIED:20260305T042125Z
UID:10000516-1926633600-1926719999@comunidad.nexthaz.com
SUMMARY:📲Llamadas Semanal
DESCRIPTION:
URL:https://comunidad.nexthaz.com/event/llamadas-semanal/2031-01-20/
END:VEVENT
BEGIN:VEVENT
DTSTART;VALUE=DATE:20310124
DTEND;VALUE=DATE:20310125
DTSTAMP:20260423T132038
CREATED:20260305T035246Z
LAST-MODIFIED:20260305T042019Z
UID:10000837-1926979200-1927065599@comunidad.nexthaz.com
SUMMARY:💡Nuevas Ideas de Negocio
DESCRIPTION:
URL:https://comunidad.nexthaz.com/event/nuevas-ideas-de-negocio/2031-01-24/
END:VEVENT
BEGIN:VEVENT
DTSTART;VALUE=DATE:20310127
DTEND;VALUE=DATE:20310128
DTSTAMP:20260423T132038
CREATED:20260305T041627Z
LAST-MODIFIED:20260305T042125Z
UID:10000517-1927238400-1927324799@comunidad.nexthaz.com
SUMMARY:📲Llamadas Semanal
DESCRIPTION:
URL:https://comunidad.nexthaz.com/event/llamadas-semanal/2031-01-27/
END:VEVENT
BEGIN:VEVENT
DTSTART;VALUE=DATE:20310131
DTEND;VALUE=DATE:20310201
DTSTAMP:20260423T132039
CREATED:20260305T035246Z
LAST-MODIFIED:20260305T042019Z
UID:10000838-1927584000-1927670399@comunidad.nexthaz.com
SUMMARY:💡Nuevas Ideas de Negocio
DESCRIPTION:
URL:https://comunidad.nexthaz.com/event/nuevas-ideas-de-negocio/2031-01-31/
END:VEVENT
BEGIN:VEVENT
DTSTART;VALUE=DATE:20310203
DTEND;VALUE=DATE:20310204
DTSTAMP:20260423T132039
CREATED:20260305T041627Z
LAST-MODIFIED:20260305T042125Z
UID:10000518-1927843200-1927929599@comunidad.nexthaz.com
SUMMARY:📲Llamadas Semanal
DESCRIPTION:
URL:https://comunidad.nexthaz.com/event/llamadas-semanal/2031-02-03/
END:VEVENT
BEGIN:VEVENT
DTSTART;VALUE=DATE:20310207
DTEND;VALUE=DATE:20310208
DTSTAMP:20260423T132039
CREATED:20260305T035246Z
LAST-MODIFIED:20260305T042019Z
UID:10000839-1928188800-1928275199@comunidad.nexthaz.com
SUMMARY:💡Nuevas Ideas de Negocio
DESCRIPTION:
URL:https://comunidad.nexthaz.com/event/nuevas-ideas-de-negocio/2031-02-07/
END:VEVENT
BEGIN:VEVENT
DTSTART;VALUE=DATE:20310210
DTEND;VALUE=DATE:20310211
DTSTAMP:20260423T132039
CREATED:20260305T041627Z
LAST-MODIFIED:20260305T042125Z
UID:10000519-1928448000-1928534399@comunidad.nexthaz.com
SUMMARY:📲Llamadas Semanal
DESCRIPTION:
URL:https://comunidad.nexthaz.com/event/llamadas-semanal/2031-02-10/
END:VEVENT
BEGIN:VEVENT
DTSTART;VALUE=DATE:20310214
DTEND;VALUE=DATE:20310215
DTSTAMP:20260423T132039
CREATED:20260305T035246Z
LAST-MODIFIED:20260305T042019Z
UID:10000840-1928793600-1928879999@comunidad.nexthaz.com
SUMMARY:💡Nuevas Ideas de Negocio
DESCRIPTION:
URL:https://comunidad.nexthaz.com/event/nuevas-ideas-de-negocio/2031-02-14/
END:VEVENT
BEGIN:VEVENT
DTSTART;VALUE=DATE:20310217
DTEND;VALUE=DATE:20310218
DTSTAMP:20260423T132039
CREATED:20260305T041627Z
LAST-MODIFIED:20260305T042125Z
UID:10000520-1929052800-1929139199@comunidad.nexthaz.com
SUMMARY:📲Llamadas Semanal
DESCRIPTION:
URL:https://comunidad.nexthaz.com/event/llamadas-semanal/2031-02-17/
END:VEVENT
BEGIN:VEVENT
DTSTART;VALUE=DATE:20310219
DTEND;VALUE=DATE:20310220
DTSTAMP:20260423T132039
CREATED:20260305T041842Z
LAST-MODIFIED:20260305T041842Z
UID:10000582-1929225600-1929311999@comunidad.nexthaz.com
SUMMARY:⭐Curso Nuevo
DESCRIPTION:
URL:https://comunidad.nexthaz.com/event/%e2%ad%90curso-nuevo/2031-02-19/
END:VEVENT
BEGIN:VEVENT
DTSTART;VALUE=DATE:20310221
DTEND;VALUE=DATE:20310222
DTSTAMP:20260423T132039
CREATED:20260305T035246Z
LAST-MODIFIED:20260305T042019Z
UID:10000841-1929398400-1929484799@comunidad.nexthaz.com
SUMMARY:💡Nuevas Ideas de Negocio
DESCRIPTION:
URL:https://comunidad.nexthaz.com/event/nuevas-ideas-de-negocio/2031-02-21/
END:VEVENT
BEGIN:VEVENT
DTSTART;VALUE=DATE:20310224
DTEND;VALUE=DATE:20310225
DTSTAMP:20260423T132039
CREATED:20260305T041627Z
LAST-MODIFIED:20260305T042125Z
UID:10000521-1929657600-1929743999@comunidad.nexthaz.com
SUMMARY:📲Llamadas Semanal
DESCRIPTION:
URL:https://comunidad.nexthaz.com/event/llamadas-semanal/2031-02-24/
END:VEVENT
BEGIN:VEVENT
DTSTART;VALUE=DATE:20310228
DTEND;VALUE=DATE:20310301
DTSTAMP:20260423T132039
CREATED:20260305T035246Z
LAST-MODIFIED:20260305T042019Z
UID:10000842-1930003200-1930089599@comunidad.nexthaz.com
SUMMARY:💡Nuevas Ideas de Negocio
DESCRIPTION:
URL:https://comunidad.nexthaz.com/event/nuevas-ideas-de-negocio/2031-02-28/
END:VEVENT
BEGIN:VEVENT
DTSTART;VALUE=DATE:20310303
DTEND;VALUE=DATE:20310304
DTSTAMP:20260423T132039
CREATED:20260305T041627Z
LAST-MODIFIED:20260305T042125Z
UID:10000522-1930262400-1930348799@comunidad.nexthaz.com
SUMMARY:📲Llamadas Semanal
DESCRIPTION:
URL:https://comunidad.nexthaz.com/event/llamadas-semanal/2031-03-03/
END:VEVENT
END:VCALENDAR