BEGIN:VCALENDAR
VERSION:2.0
PRODID:-//Comunidad Nexthaz - ECPv6.15.17//NONSGML v1.0//EN
CALSCALE:GREGORIAN
METHOD:PUBLISH
X-WR-CALNAME:Comunidad Nexthaz
X-ORIGINAL-URL:https://comunidad.nexthaz.com
X-WR-CALDESC:Eventos para Comunidad Nexthaz
REFRESH-INTERVAL;VALUE=DURATION:PT1H
X-Robots-Tag:noindex
X-PUBLISHED-TTL:PT1H
BEGIN:VTIMEZONE
TZID:UTC
BEGIN:STANDARD
TZOFFSETFROM:+0000
TZOFFSETTO:+0000
TZNAME:UTC
DTSTART:20250101T000000
END:STANDARD
END:VTIMEZONE
BEGIN:VEVENT
DTSTART;VALUE=DATE:20260803
DTEND;VALUE=DATE:20260804
DTSTAMP:20260421T091820
CREATED:20260305T041627Z
LAST-MODIFIED:20260305T042125Z
UID:10000283-1785715200-1785801599@comunidad.nexthaz.com
SUMMARY:📲Llamadas Semanal
DESCRIPTION:
URL:https://comunidad.nexthaz.com/event/llamadas-semanal/2026-08-03/
END:VEVENT
BEGIN:VEVENT
DTSTART;VALUE=DATE:20260807
DTEND;VALUE=DATE:20260808
DTSTAMP:20260421T091820
CREATED:20260305T035246Z
LAST-MODIFIED:20260305T042019Z
UID:10000604-1786060800-1786147199@comunidad.nexthaz.com
SUMMARY:💡Nuevas Ideas de Negocio
DESCRIPTION:
URL:https://comunidad.nexthaz.com/event/nuevas-ideas-de-negocio/2026-08-07/
END:VEVENT
BEGIN:VEVENT
DTSTART;VALUE=DATE:20260810
DTEND;VALUE=DATE:20260811
DTSTAMP:20260421T091820
CREATED:20260305T041627Z
LAST-MODIFIED:20260305T042125Z
UID:10000284-1786320000-1786406399@comunidad.nexthaz.com
SUMMARY:📲Llamadas Semanal
DESCRIPTION:
URL:https://comunidad.nexthaz.com/event/llamadas-semanal/2026-08-10/
END:VEVENT
BEGIN:VEVENT
DTSTART;VALUE=DATE:20260814
DTEND;VALUE=DATE:20260815
DTSTAMP:20260421T091820
CREATED:20260305T035246Z
LAST-MODIFIED:20260305T042019Z
UID:10000605-1786665600-1786751999@comunidad.nexthaz.com
SUMMARY:💡Nuevas Ideas de Negocio
DESCRIPTION:
URL:https://comunidad.nexthaz.com/event/nuevas-ideas-de-negocio/2026-08-14/
END:VEVENT
BEGIN:VEVENT
DTSTART;VALUE=DATE:20260817
DTEND;VALUE=DATE:20260818
DTSTAMP:20260421T091820
CREATED:20260305T041627Z
LAST-MODIFIED:20260305T042125Z
UID:10000285-1786924800-1787011199@comunidad.nexthaz.com
SUMMARY:📲Llamadas Semanal
DESCRIPTION:
URL:https://comunidad.nexthaz.com/event/llamadas-semanal/2026-08-17/
END:VEVENT
BEGIN:VEVENT
DTSTART;VALUE=DATE:20260819
DTEND;VALUE=DATE:20260820
DTSTAMP:20260421T091820
CREATED:20260305T041842Z
LAST-MODIFIED:20260305T041842Z
UID:10000528-1787097600-1787183999@comunidad.nexthaz.com
SUMMARY:⭐Curso Nuevo
DESCRIPTION:
URL:https://comunidad.nexthaz.com/event/%e2%ad%90curso-nuevo/2026-08-19/
END:VEVENT
BEGIN:VEVENT
DTSTART;VALUE=DATE:20260821
DTEND;VALUE=DATE:20260822
DTSTAMP:20260421T091820
CREATED:20260305T035246Z
LAST-MODIFIED:20260305T042019Z
UID:10000606-1787270400-1787356799@comunidad.nexthaz.com
SUMMARY:💡Nuevas Ideas de Negocio
DESCRIPTION:
URL:https://comunidad.nexthaz.com/event/nuevas-ideas-de-negocio/2026-08-21/
END:VEVENT
BEGIN:VEVENT
DTSTART;VALUE=DATE:20260824
DTEND;VALUE=DATE:20260825
DTSTAMP:20260421T091820
CREATED:20260305T041627Z
LAST-MODIFIED:20260305T042125Z
UID:10000286-1787529600-1787615999@comunidad.nexthaz.com
SUMMARY:📲Llamadas Semanal
DESCRIPTION:
URL:https://comunidad.nexthaz.com/event/llamadas-semanal/2026-08-24/
END:VEVENT
BEGIN:VEVENT
DTSTART;VALUE=DATE:20260828
DTEND;VALUE=DATE:20260829
DTSTAMP:20260421T091820
CREATED:20260305T035246Z
LAST-MODIFIED:20260305T042019Z
UID:10000607-1787875200-1787961599@comunidad.nexthaz.com
SUMMARY:💡Nuevas Ideas de Negocio
DESCRIPTION:
URL:https://comunidad.nexthaz.com/event/nuevas-ideas-de-negocio/2026-08-28/
END:VEVENT
BEGIN:VEVENT
DTSTART;VALUE=DATE:20260831
DTEND;VALUE=DATE:20260901
DTSTAMP:20260421T091820
CREATED:20260305T041627Z
LAST-MODIFIED:20260305T042125Z
UID:10000287-1788134400-1788220799@comunidad.nexthaz.com
SUMMARY:📲Llamadas Semanal
DESCRIPTION:
URL:https://comunidad.nexthaz.com/event/llamadas-semanal/2026-08-31/
END:VEVENT
END:VCALENDAR