BEGIN:VCALENDAR
VERSION:2.0
PRODID:-//Comunidad Nexthaz - ECPv6.15.17//NONSGML v1.0//EN
CALSCALE:GREGORIAN
METHOD:PUBLISH
X-ORIGINAL-URL:https://comunidad.nexthaz.com
X-WR-CALDESC:Eventos para Comunidad Nexthaz
REFRESH-INTERVAL;VALUE=DURATION:PT1H
X-Robots-Tag:noindex
X-PUBLISHED-TTL:PT1H
BEGIN:VTIMEZONE
TZID:UTC
BEGIN:STANDARD
TZOFFSETFROM:+0000
TZOFFSETTO:+0000
TZNAME:UTC
DTSTART:20260101T000000
END:STANDARD
END:VTIMEZONE
BEGIN:VEVENT
DTSTART;VALUE=DATE:20270604
DTEND;VALUE=DATE:20270605
DTSTAMP:20260422T013942
CREATED:20260305T035246Z
LAST-MODIFIED:20260305T042019Z
UID:10000647-1812067200-1812153599@comunidad.nexthaz.com
SUMMARY:💡Nuevas Ideas de Negocio
DESCRIPTION:
URL:https://comunidad.nexthaz.com/event/nuevas-ideas-de-negocio/2027-06-04/
END:VEVENT
BEGIN:VEVENT
DTSTART;VALUE=DATE:20270607
DTEND;VALUE=DATE:20270608
DTSTAMP:20260422T013942
CREATED:20260305T041627Z
LAST-MODIFIED:20260305T042125Z
UID:10000327-1812326400-1812412799@comunidad.nexthaz.com
SUMMARY:📲Llamadas Semanal
DESCRIPTION:
URL:https://comunidad.nexthaz.com/event/llamadas-semanal/2027-06-07/
END:VEVENT
BEGIN:VEVENT
DTSTART;VALUE=DATE:20270611
DTEND;VALUE=DATE:20270612
DTSTAMP:20260422T013942
CREATED:20260305T035246Z
LAST-MODIFIED:20260305T042019Z
UID:10000648-1812672000-1812758399@comunidad.nexthaz.com
SUMMARY:💡Nuevas Ideas de Negocio
DESCRIPTION:
URL:https://comunidad.nexthaz.com/event/nuevas-ideas-de-negocio/2027-06-11/
END:VEVENT
BEGIN:VEVENT
DTSTART;VALUE=DATE:20270614
DTEND;VALUE=DATE:20270615
DTSTAMP:20260422T013942
CREATED:20260305T041627Z
LAST-MODIFIED:20260305T042125Z
UID:10000328-1812931200-1813017599@comunidad.nexthaz.com
SUMMARY:📲Llamadas Semanal
DESCRIPTION:
URL:https://comunidad.nexthaz.com/event/llamadas-semanal/2027-06-14/
END:VEVENT
BEGIN:VEVENT
DTSTART;VALUE=DATE:20270616
DTEND;VALUE=DATE:20270617
DTSTAMP:20260422T013942
CREATED:20260305T041842Z
LAST-MODIFIED:20260305T041842Z
UID:10000538-1813104000-1813190399@comunidad.nexthaz.com
SUMMARY:⭐Curso Nuevo
DESCRIPTION:
URL:https://comunidad.nexthaz.com/event/%e2%ad%90curso-nuevo/2027-06-16/
END:VEVENT
BEGIN:VEVENT
DTSTART;VALUE=DATE:20270618
DTEND;VALUE=DATE:20270619
DTSTAMP:20260422T013942
CREATED:20260305T035246Z
LAST-MODIFIED:20260305T042019Z
UID:10000649-1813276800-1813363199@comunidad.nexthaz.com
SUMMARY:💡Nuevas Ideas de Negocio
DESCRIPTION:
URL:https://comunidad.nexthaz.com/event/nuevas-ideas-de-negocio/2027-06-18/
END:VEVENT
BEGIN:VEVENT
DTSTART;VALUE=DATE:20270621
DTEND;VALUE=DATE:20270622
DTSTAMP:20260422T013942
CREATED:20260305T041627Z
LAST-MODIFIED:20260305T042125Z
UID:10000329-1813536000-1813622399@comunidad.nexthaz.com
SUMMARY:📲Llamadas Semanal
DESCRIPTION:
URL:https://comunidad.nexthaz.com/event/llamadas-semanal/2027-06-21/
END:VEVENT
BEGIN:VEVENT
DTSTART;VALUE=DATE:20270625
DTEND;VALUE=DATE:20270626
DTSTAMP:20260422T013942
CREATED:20260305T035246Z
LAST-MODIFIED:20260305T042019Z
UID:10000650-1813881600-1813967999@comunidad.nexthaz.com
SUMMARY:💡Nuevas Ideas de Negocio
DESCRIPTION:
URL:https://comunidad.nexthaz.com/event/nuevas-ideas-de-negocio/2027-06-25/
END:VEVENT
BEGIN:VEVENT
DTSTART;VALUE=DATE:20270628
DTEND;VALUE=DATE:20270629
DTSTAMP:20260422T013942
CREATED:20260305T041627Z
LAST-MODIFIED:20260305T042125Z
UID:10000330-1814140800-1814227199@comunidad.nexthaz.com
SUMMARY:📲Llamadas Semanal
DESCRIPTION:
URL:https://comunidad.nexthaz.com/event/llamadas-semanal/2027-06-28/
END:VEVENT
END:VCALENDAR