BEGIN:VCALENDAR
VERSION:2.0
PRODID:-//Comunidad Nexthaz - ECPv6.15.17//NONSGML v1.0//EN
CALSCALE:GREGORIAN
METHOD:PUBLISH
X-WR-CALNAME:Comunidad Nexthaz
X-ORIGINAL-URL:https://comunidad.nexthaz.com
X-WR-CALDESC:Eventos para Comunidad Nexthaz
REFRESH-INTERVAL;VALUE=DURATION:PT1H
X-Robots-Tag:noindex
X-PUBLISHED-TTL:PT1H
BEGIN:VTIMEZONE
TZID:UTC
BEGIN:STANDARD
TZOFFSETFROM:+0000
TZOFFSETTO:+0000
TZNAME:UTC
DTSTART:20260101T000000
END:STANDARD
END:VTIMEZONE
BEGIN:VEVENT
DTSTART;VALUE=DATE:20270802
DTEND;VALUE=DATE:20270803
DTSTAMP:20260422T042838
CREATED:20260305T041627Z
LAST-MODIFIED:20260305T042125Z
UID:10000335-1817164800-1817251199@comunidad.nexthaz.com
SUMMARY:📲Llamadas Semanal
DESCRIPTION:
URL:https://comunidad.nexthaz.com/event/llamadas-semanal/2027-08-02/
END:VEVENT
BEGIN:VEVENT
DTSTART;VALUE=DATE:20270806
DTEND;VALUE=DATE:20270807
DTSTAMP:20260422T042838
CREATED:20260305T035246Z
LAST-MODIFIED:20260305T042019Z
UID:10000656-1817510400-1817596799@comunidad.nexthaz.com
SUMMARY:💡Nuevas Ideas de Negocio
DESCRIPTION:
URL:https://comunidad.nexthaz.com/event/nuevas-ideas-de-negocio/2027-08-06/
END:VEVENT
BEGIN:VEVENT
DTSTART;VALUE=DATE:20270809
DTEND;VALUE=DATE:20270810
DTSTAMP:20260422T042838
CREATED:20260305T041627Z
LAST-MODIFIED:20260305T042125Z
UID:10000336-1817769600-1817855999@comunidad.nexthaz.com
SUMMARY:📲Llamadas Semanal
DESCRIPTION:
URL:https://comunidad.nexthaz.com/event/llamadas-semanal/2027-08-09/
END:VEVENT
BEGIN:VEVENT
DTSTART;VALUE=DATE:20270813
DTEND;VALUE=DATE:20270814
DTSTAMP:20260422T042838
CREATED:20260305T035246Z
LAST-MODIFIED:20260305T042019Z
UID:10000657-1818115200-1818201599@comunidad.nexthaz.com
SUMMARY:💡Nuevas Ideas de Negocio
DESCRIPTION:
URL:https://comunidad.nexthaz.com/event/nuevas-ideas-de-negocio/2027-08-13/
END:VEVENT
BEGIN:VEVENT
DTSTART;VALUE=DATE:20270816
DTEND;VALUE=DATE:20270817
DTSTAMP:20260422T042838
CREATED:20260305T041627Z
LAST-MODIFIED:20260305T042125Z
UID:10000337-1818374400-1818460799@comunidad.nexthaz.com
SUMMARY:📲Llamadas Semanal
DESCRIPTION:
URL:https://comunidad.nexthaz.com/event/llamadas-semanal/2027-08-16/
END:VEVENT
BEGIN:VEVENT
DTSTART;VALUE=DATE:20270818
DTEND;VALUE=DATE:20270819
DTSTAMP:20260422T042838
CREATED:20260305T041842Z
LAST-MODIFIED:20260305T041842Z
UID:10000540-1818547200-1818633599@comunidad.nexthaz.com
SUMMARY:⭐Curso Nuevo
DESCRIPTION:
URL:https://comunidad.nexthaz.com/event/%e2%ad%90curso-nuevo/2027-08-18/
END:VEVENT
BEGIN:VEVENT
DTSTART;VALUE=DATE:20270820
DTEND;VALUE=DATE:20270821
DTSTAMP:20260422T042838
CREATED:20260305T035246Z
LAST-MODIFIED:20260305T042019Z
UID:10000658-1818720000-1818806399@comunidad.nexthaz.com
SUMMARY:💡Nuevas Ideas de Negocio
DESCRIPTION:
URL:https://comunidad.nexthaz.com/event/nuevas-ideas-de-negocio/2027-08-20/
END:VEVENT
BEGIN:VEVENT
DTSTART;VALUE=DATE:20270823
DTEND;VALUE=DATE:20270824
DTSTAMP:20260422T042838
CREATED:20260305T041627Z
LAST-MODIFIED:20260305T042125Z
UID:10000338-1818979200-1819065599@comunidad.nexthaz.com
SUMMARY:📲Llamadas Semanal
DESCRIPTION:
URL:https://comunidad.nexthaz.com/event/llamadas-semanal/2027-08-23/
END:VEVENT
BEGIN:VEVENT
DTSTART;VALUE=DATE:20270827
DTEND;VALUE=DATE:20270828
DTSTAMP:20260422T042838
CREATED:20260305T035246Z
LAST-MODIFIED:20260305T042019Z
UID:10000659-1819324800-1819411199@comunidad.nexthaz.com
SUMMARY:💡Nuevas Ideas de Negocio
DESCRIPTION:
URL:https://comunidad.nexthaz.com/event/nuevas-ideas-de-negocio/2027-08-27/
END:VEVENT
BEGIN:VEVENT
DTSTART;VALUE=DATE:20270830
DTEND;VALUE=DATE:20270831
DTSTAMP:20260422T042838
CREATED:20260305T041627Z
LAST-MODIFIED:20260305T042125Z
UID:10000339-1819584000-1819670399@comunidad.nexthaz.com
SUMMARY:📲Llamadas Semanal
DESCRIPTION:
URL:https://comunidad.nexthaz.com/event/llamadas-semanal/2027-08-30/
END:VEVENT
END:VCALENDAR