BEGIN:VCALENDAR
VERSION:2.0
PRODID:-//Comunidad Nexthaz - ECPv6.15.17//NONSGML v1.0//EN
CALSCALE:GREGORIAN
METHOD:PUBLISH
X-ORIGINAL-URL:https://comunidad.nexthaz.com
X-WR-CALDESC:Eventos para Comunidad Nexthaz
REFRESH-INTERVAL;VALUE=DURATION:PT1H
X-Robots-Tag:noindex
X-PUBLISHED-TTL:PT1H
BEGIN:VTIMEZONE
TZID:UTC
BEGIN:STANDARD
TZOFFSETFROM:+0000
TZOFFSETTO:+0000
TZNAME:UTC
DTSTART:20270101T000000
END:STANDARD
END:VTIMEZONE
BEGIN:VEVENT
DTSTART;VALUE=DATE:20280602
DTEND;VALUE=DATE:20280603
DTSTAMP:20260422T205738
CREATED:20260305T035246Z
LAST-MODIFIED:20260305T042019Z
UID:10000699-1843516800-1843603199@comunidad.nexthaz.com
SUMMARY:💡Nuevas Ideas de Negocio
DESCRIPTION:
URL:https://comunidad.nexthaz.com/event/nuevas-ideas-de-negocio/2028-06-02/
END:VEVENT
BEGIN:VEVENT
DTSTART;VALUE=DATE:20280605
DTEND;VALUE=DATE:20280606
DTSTAMP:20260422T205738
CREATED:20260305T041627Z
LAST-MODIFIED:20260305T042125Z
UID:10000379-1843776000-1843862399@comunidad.nexthaz.com
SUMMARY:📲Llamadas Semanal
DESCRIPTION:
URL:https://comunidad.nexthaz.com/event/llamadas-semanal/2028-06-05/
END:VEVENT
BEGIN:VEVENT
DTSTART;VALUE=DATE:20280609
DTEND;VALUE=DATE:20280610
DTSTAMP:20260422T205738
CREATED:20260305T035246Z
LAST-MODIFIED:20260305T042019Z
UID:10000700-1844121600-1844207999@comunidad.nexthaz.com
SUMMARY:💡Nuevas Ideas de Negocio
DESCRIPTION:
URL:https://comunidad.nexthaz.com/event/nuevas-ideas-de-negocio/2028-06-09/
END:VEVENT
BEGIN:VEVENT
DTSTART;VALUE=DATE:20280612
DTEND;VALUE=DATE:20280613
DTSTAMP:20260422T205738
CREATED:20260305T041627Z
LAST-MODIFIED:20260305T042125Z
UID:10000380-1844380800-1844467199@comunidad.nexthaz.com
SUMMARY:📲Llamadas Semanal
DESCRIPTION:
URL:https://comunidad.nexthaz.com/event/llamadas-semanal/2028-06-12/
END:VEVENT
BEGIN:VEVENT
DTSTART;VALUE=DATE:20280616
DTEND;VALUE=DATE:20280617
DTSTAMP:20260422T205738
CREATED:20260305T035246Z
LAST-MODIFIED:20260305T042019Z
UID:10000701-1844726400-1844812799@comunidad.nexthaz.com
SUMMARY:💡Nuevas Ideas de Negocio
DESCRIPTION:
URL:https://comunidad.nexthaz.com/event/nuevas-ideas-de-negocio/2028-06-16/
END:VEVENT
BEGIN:VEVENT
DTSTART;VALUE=DATE:20280619
DTEND;VALUE=DATE:20280620
DTSTAMP:20260422T205738
CREATED:20260305T041627Z
LAST-MODIFIED:20260305T042125Z
UID:10000381-1844985600-1845071999@comunidad.nexthaz.com
SUMMARY:📲Llamadas Semanal
DESCRIPTION:
URL:https://comunidad.nexthaz.com/event/llamadas-semanal/2028-06-19/
END:VEVENT
BEGIN:VEVENT
DTSTART;VALUE=DATE:20280621
DTEND;VALUE=DATE:20280622
DTSTAMP:20260422T205738
CREATED:20260305T041842Z
LAST-MODIFIED:20260305T041842Z
UID:10000550-1845158400-1845244799@comunidad.nexthaz.com
SUMMARY:⭐Curso Nuevo
DESCRIPTION:
URL:https://comunidad.nexthaz.com/event/%e2%ad%90curso-nuevo/2028-06-21/
END:VEVENT
BEGIN:VEVENT
DTSTART;VALUE=DATE:20280623
DTEND;VALUE=DATE:20280624
DTSTAMP:20260422T205738
CREATED:20260305T035246Z
LAST-MODIFIED:20260305T042019Z
UID:10000702-1845331200-1845417599@comunidad.nexthaz.com
SUMMARY:💡Nuevas Ideas de Negocio
DESCRIPTION:
URL:https://comunidad.nexthaz.com/event/nuevas-ideas-de-negocio/2028-06-23/
END:VEVENT
BEGIN:VEVENT
DTSTART;VALUE=DATE:20280626
DTEND;VALUE=DATE:20280627
DTSTAMP:20260422T205738
CREATED:20260305T041627Z
LAST-MODIFIED:20260305T042125Z
UID:10000382-1845590400-1845676799@comunidad.nexthaz.com
SUMMARY:📲Llamadas Semanal
DESCRIPTION:
URL:https://comunidad.nexthaz.com/event/llamadas-semanal/2028-06-26/
END:VEVENT
BEGIN:VEVENT
DTSTART;VALUE=DATE:20280630
DTEND;VALUE=DATE:20280701
DTSTAMP:20260422T205738
CREATED:20260305T035246Z
LAST-MODIFIED:20260305T042019Z
UID:10000703-1845936000-1846022399@comunidad.nexthaz.com
SUMMARY:💡Nuevas Ideas de Negocio
DESCRIPTION:
URL:https://comunidad.nexthaz.com/event/nuevas-ideas-de-negocio/2028-06-30/
END:VEVENT
END:VCALENDAR