BEGIN:VCALENDAR
VERSION:2.0
PRODID:-//Comunidad Nexthaz - ECPv6.15.20//NONSGML v1.0//EN
CALSCALE:GREGORIAN
METHOD:PUBLISH
X-WR-CALNAME:Comunidad Nexthaz
X-ORIGINAL-URL:https://comunidad.nexthaz.com
X-WR-CALDESC:Eventos para Comunidad Nexthaz
REFRESH-INTERVAL;VALUE=DURATION:PT1H
X-Robots-Tag:noindex
X-PUBLISHED-TTL:PT1H
BEGIN:VTIMEZONE
TZID:UTC
BEGIN:STANDARD
TZOFFSETFROM:+0000
TZOFFSETTO:+0000
TZNAME:UTC
DTSTART:20270101T000000
END:STANDARD
END:VTIMEZONE
BEGIN:VEVENT
DTSTART;VALUE=DATE:20280804
DTEND;VALUE=DATE:20280805
DTSTAMP:20260423T000644
CREATED:20260305T035246Z
LAST-MODIFIED:20260305T042019Z
UID:10000708-1848960000-1849046399@comunidad.nexthaz.com
SUMMARY:💡Nuevas Ideas de Negocio
DESCRIPTION:
URL:https://comunidad.nexthaz.com/event/nuevas-ideas-de-negocio/2028-08-04/
END:VEVENT
BEGIN:VEVENT
DTSTART;VALUE=DATE:20280807
DTEND;VALUE=DATE:20280808
DTSTAMP:20260423T000644
CREATED:20260305T041627Z
LAST-MODIFIED:20260305T042125Z
UID:10000388-1849219200-1849305599@comunidad.nexthaz.com
SUMMARY:📲Llamadas Semanal
DESCRIPTION:
URL:https://comunidad.nexthaz.com/event/llamadas-semanal/2028-08-07/
END:VEVENT
BEGIN:VEVENT
DTSTART;VALUE=DATE:20280811
DTEND;VALUE=DATE:20280812
DTSTAMP:20260423T000644
CREATED:20260305T035246Z
LAST-MODIFIED:20260305T042019Z
UID:10000709-1849564800-1849651199@comunidad.nexthaz.com
SUMMARY:💡Nuevas Ideas de Negocio
DESCRIPTION:
URL:https://comunidad.nexthaz.com/event/nuevas-ideas-de-negocio/2028-08-11/
END:VEVENT
BEGIN:VEVENT
DTSTART;VALUE=DATE:20280814
DTEND;VALUE=DATE:20280815
DTSTAMP:20260423T000644
CREATED:20260305T041627Z
LAST-MODIFIED:20260305T042125Z
UID:10000389-1849824000-1849910399@comunidad.nexthaz.com
SUMMARY:📲Llamadas Semanal
DESCRIPTION:
URL:https://comunidad.nexthaz.com/event/llamadas-semanal/2028-08-14/
END:VEVENT
BEGIN:VEVENT
DTSTART;VALUE=DATE:20280816
DTEND;VALUE=DATE:20280817
DTSTAMP:20260423T000644
CREATED:20260305T041842Z
LAST-MODIFIED:20260305T041842Z
UID:10000552-1849996800-1850083199@comunidad.nexthaz.com
SUMMARY:⭐Curso Nuevo
DESCRIPTION:
URL:https://comunidad.nexthaz.com/event/%e2%ad%90curso-nuevo/2028-08-16/
END:VEVENT
BEGIN:VEVENT
DTSTART;VALUE=DATE:20280818
DTEND;VALUE=DATE:20280819
DTSTAMP:20260423T000644
CREATED:20260305T035246Z
LAST-MODIFIED:20260305T042019Z
UID:10000710-1850169600-1850255999@comunidad.nexthaz.com
SUMMARY:💡Nuevas Ideas de Negocio
DESCRIPTION:
URL:https://comunidad.nexthaz.com/event/nuevas-ideas-de-negocio/2028-08-18/
END:VEVENT
BEGIN:VEVENT
DTSTART;VALUE=DATE:20280821
DTEND;VALUE=DATE:20280822
DTSTAMP:20260423T000644
CREATED:20260305T041627Z
LAST-MODIFIED:20260305T042125Z
UID:10000390-1850428800-1850515199@comunidad.nexthaz.com
SUMMARY:📲Llamadas Semanal
DESCRIPTION:
URL:https://comunidad.nexthaz.com/event/llamadas-semanal/2028-08-21/
END:VEVENT
BEGIN:VEVENT
DTSTART;VALUE=DATE:20280825
DTEND;VALUE=DATE:20280826
DTSTAMP:20260423T000644
CREATED:20260305T035246Z
LAST-MODIFIED:20260305T042019Z
UID:10000711-1850774400-1850860799@comunidad.nexthaz.com
SUMMARY:💡Nuevas Ideas de Negocio
DESCRIPTION:
URL:https://comunidad.nexthaz.com/event/nuevas-ideas-de-negocio/2028-08-25/
END:VEVENT
BEGIN:VEVENT
DTSTART;VALUE=DATE:20280828
DTEND;VALUE=DATE:20280829
DTSTAMP:20260423T000644
CREATED:20260305T041627Z
LAST-MODIFIED:20260305T042125Z
UID:10000391-1851033600-1851119999@comunidad.nexthaz.com
SUMMARY:📲Llamadas Semanal
DESCRIPTION:
URL:https://comunidad.nexthaz.com/event/llamadas-semanal/2028-08-28/
END:VEVENT
END:VCALENDAR