BEGIN:VCALENDAR
VERSION:2.0
PRODID:-//Comunidad Nexthaz - ECPv6.15.20//NONSGML v1.0//EN
CALSCALE:GREGORIAN
METHOD:PUBLISH
X-WR-CALNAME:Comunidad Nexthaz
X-ORIGINAL-URL:https://comunidad.nexthaz.com
X-WR-CALDESC:Eventos para Comunidad Nexthaz
REFRESH-INTERVAL;VALUE=DURATION:PT1H
X-Robots-Tag:noindex
X-PUBLISHED-TTL:PT1H
BEGIN:VTIMEZONE
TZID:UTC
BEGIN:STANDARD
TZOFFSETFROM:+0000
TZOFFSETTO:+0000
TZNAME:UTC
DTSTART:20270101T000000
END:STANDARD
END:VTIMEZONE
BEGIN:VEVENT
DTSTART;VALUE=DATE:20281002
DTEND;VALUE=DATE:20281003
DTSTAMP:20260423T031010
CREATED:20260305T041627Z
LAST-MODIFIED:20260305T042125Z
UID:10000396-1854057600-1854143999@comunidad.nexthaz.com
SUMMARY:📲Llamadas Semanal
DESCRIPTION:
URL:https://comunidad.nexthaz.com/event/llamadas-semanal/2028-10-02/
END:VEVENT
BEGIN:VEVENT
DTSTART;VALUE=DATE:20281006
DTEND;VALUE=DATE:20281007
DTSTAMP:20260423T031010
CREATED:20260305T035246Z
LAST-MODIFIED:20260305T042019Z
UID:10000717-1854403200-1854489599@comunidad.nexthaz.com
SUMMARY:💡Nuevas Ideas de Negocio
DESCRIPTION:
URL:https://comunidad.nexthaz.com/event/nuevas-ideas-de-negocio/2028-10-06/
END:VEVENT
BEGIN:VEVENT
DTSTART;VALUE=DATE:20281009
DTEND;VALUE=DATE:20281010
DTSTAMP:20260423T031010
CREATED:20260305T041627Z
LAST-MODIFIED:20260305T042125Z
UID:10000397-1854662400-1854748799@comunidad.nexthaz.com
SUMMARY:📲Llamadas Semanal
DESCRIPTION:
URL:https://comunidad.nexthaz.com/event/llamadas-semanal/2028-10-09/
END:VEVENT
BEGIN:VEVENT
DTSTART;VALUE=DATE:20281013
DTEND;VALUE=DATE:20281014
DTSTAMP:20260423T031010
CREATED:20260305T035246Z
LAST-MODIFIED:20260305T042019Z
UID:10000718-1855008000-1855094399@comunidad.nexthaz.com
SUMMARY:💡Nuevas Ideas de Negocio
DESCRIPTION:
URL:https://comunidad.nexthaz.com/event/nuevas-ideas-de-negocio/2028-10-13/
END:VEVENT
BEGIN:VEVENT
DTSTART;VALUE=DATE:20281016
DTEND;VALUE=DATE:20281017
DTSTAMP:20260423T031010
CREATED:20260305T041627Z
LAST-MODIFIED:20260305T042125Z
UID:10000398-1855267200-1855353599@comunidad.nexthaz.com
SUMMARY:📲Llamadas Semanal
DESCRIPTION:
URL:https://comunidad.nexthaz.com/event/llamadas-semanal/2028-10-16/
END:VEVENT
BEGIN:VEVENT
DTSTART;VALUE=DATE:20281018
DTEND;VALUE=DATE:20281019
DTSTAMP:20260423T031010
CREATED:20260305T041842Z
LAST-MODIFIED:20260305T041842Z
UID:10000554-1855440000-1855526399@comunidad.nexthaz.com
SUMMARY:⭐Curso Nuevo
DESCRIPTION:
URL:https://comunidad.nexthaz.com/event/%e2%ad%90curso-nuevo/2028-10-18/
END:VEVENT
BEGIN:VEVENT
DTSTART;VALUE=DATE:20281020
DTEND;VALUE=DATE:20281021
DTSTAMP:20260423T031010
CREATED:20260305T035246Z
LAST-MODIFIED:20260305T042019Z
UID:10000719-1855612800-1855699199@comunidad.nexthaz.com
SUMMARY:💡Nuevas Ideas de Negocio
DESCRIPTION:
URL:https://comunidad.nexthaz.com/event/nuevas-ideas-de-negocio/2028-10-20/
END:VEVENT
BEGIN:VEVENT
DTSTART;VALUE=DATE:20281023
DTEND;VALUE=DATE:20281024
DTSTAMP:20260423T031010
CREATED:20260305T041627Z
LAST-MODIFIED:20260305T042125Z
UID:10000399-1855872000-1855958399@comunidad.nexthaz.com
SUMMARY:📲Llamadas Semanal
DESCRIPTION:
URL:https://comunidad.nexthaz.com/event/llamadas-semanal/2028-10-23/
END:VEVENT
BEGIN:VEVENT
DTSTART;VALUE=DATE:20281027
DTEND;VALUE=DATE:20281028
DTSTAMP:20260423T031010
CREATED:20260305T035246Z
LAST-MODIFIED:20260305T042019Z
UID:10000720-1856217600-1856303999@comunidad.nexthaz.com
SUMMARY:💡Nuevas Ideas de Negocio
DESCRIPTION:
URL:https://comunidad.nexthaz.com/event/nuevas-ideas-de-negocio/2028-10-27/
END:VEVENT
BEGIN:VEVENT
DTSTART;VALUE=DATE:20281030
DTEND;VALUE=DATE:20281031
DTSTAMP:20260423T031010
CREATED:20260305T041627Z
LAST-MODIFIED:20260305T042125Z
UID:10000400-1856476800-1856563199@comunidad.nexthaz.com
SUMMARY:📲Llamadas Semanal
DESCRIPTION:
URL:https://comunidad.nexthaz.com/event/llamadas-semanal/2028-10-30/
END:VEVENT
END:VCALENDAR