BEGIN:VCALENDAR
VERSION:2.0
PRODID:-//Comunidad Nexthaz - ECPv6.15.20//NONSGML v1.0//EN
CALSCALE:GREGORIAN
METHOD:PUBLISH
X-ORIGINAL-URL:https://comunidad.nexthaz.com
X-WR-CALDESC:Eventos para Comunidad Nexthaz
REFRESH-INTERVAL;VALUE=DURATION:PT1H
X-Robots-Tag:noindex
X-PUBLISHED-TTL:PT1H
BEGIN:VTIMEZONE
TZID:UTC
BEGIN:STANDARD
TZOFFSETFROM:+0000
TZOFFSETTO:+0000
TZNAME:UTC
DTSTART:20270101T000000
END:STANDARD
END:VTIMEZONE
BEGIN:VEVENT
DTSTART;VALUE=DATE:20281103
DTEND;VALUE=DATE:20281104
DTSTAMP:20260423T043530
CREATED:20260305T035246Z
LAST-MODIFIED:20260305T042019Z
UID:10000721-1856822400-1856908799@comunidad.nexthaz.com
SUMMARY:💡Nuevas Ideas de Negocio
DESCRIPTION:
URL:https://comunidad.nexthaz.com/event/nuevas-ideas-de-negocio/2028-11-03/
END:VEVENT
BEGIN:VEVENT
DTSTART;VALUE=DATE:20281106
DTEND;VALUE=DATE:20281107
DTSTAMP:20260423T043530
CREATED:20260305T041627Z
LAST-MODIFIED:20260305T042125Z
UID:10000401-1857081600-1857167999@comunidad.nexthaz.com
SUMMARY:📲Llamadas Semanal
DESCRIPTION:
URL:https://comunidad.nexthaz.com/event/llamadas-semanal/2028-11-06/
END:VEVENT
BEGIN:VEVENT
DTSTART;VALUE=DATE:20281110
DTEND;VALUE=DATE:20281111
DTSTAMP:20260423T043530
CREATED:20260305T035246Z
LAST-MODIFIED:20260305T042019Z
UID:10000722-1857427200-1857513599@comunidad.nexthaz.com
SUMMARY:💡Nuevas Ideas de Negocio
DESCRIPTION:
URL:https://comunidad.nexthaz.com/event/nuevas-ideas-de-negocio/2028-11-10/
END:VEVENT
BEGIN:VEVENT
DTSTART;VALUE=DATE:20281113
DTEND;VALUE=DATE:20281114
DTSTAMP:20260423T043530
CREATED:20260305T041627Z
LAST-MODIFIED:20260305T042125Z
UID:10000402-1857686400-1857772799@comunidad.nexthaz.com
SUMMARY:📲Llamadas Semanal
DESCRIPTION:
URL:https://comunidad.nexthaz.com/event/llamadas-semanal/2028-11-13/
END:VEVENT
BEGIN:VEVENT
DTSTART;VALUE=DATE:20281115
DTEND;VALUE=DATE:20281116
DTSTAMP:20260423T043530
CREATED:20260305T041842Z
LAST-MODIFIED:20260305T041842Z
UID:10000555-1857859200-1857945599@comunidad.nexthaz.com
SUMMARY:⭐Curso Nuevo
DESCRIPTION:
URL:https://comunidad.nexthaz.com/event/%e2%ad%90curso-nuevo/2028-11-15/
END:VEVENT
BEGIN:VEVENT
DTSTART;VALUE=DATE:20281117
DTEND;VALUE=DATE:20281118
DTSTAMP:20260423T043530
CREATED:20260305T035246Z
LAST-MODIFIED:20260305T042019Z
UID:10000723-1858032000-1858118399@comunidad.nexthaz.com
SUMMARY:💡Nuevas Ideas de Negocio
DESCRIPTION:
URL:https://comunidad.nexthaz.com/event/nuevas-ideas-de-negocio/2028-11-17/
END:VEVENT
BEGIN:VEVENT
DTSTART;VALUE=DATE:20281120
DTEND;VALUE=DATE:20281121
DTSTAMP:20260423T043530
CREATED:20260305T041627Z
LAST-MODIFIED:20260305T042125Z
UID:10000403-1858291200-1858377599@comunidad.nexthaz.com
SUMMARY:📲Llamadas Semanal
DESCRIPTION:
URL:https://comunidad.nexthaz.com/event/llamadas-semanal/2028-11-20/
END:VEVENT
BEGIN:VEVENT
DTSTART;VALUE=DATE:20281124
DTEND;VALUE=DATE:20281125
DTSTAMP:20260423T043530
CREATED:20260305T035246Z
LAST-MODIFIED:20260305T042019Z
UID:10000724-1858636800-1858723199@comunidad.nexthaz.com
SUMMARY:💡Nuevas Ideas de Negocio
DESCRIPTION:
URL:https://comunidad.nexthaz.com/event/nuevas-ideas-de-negocio/2028-11-24/
END:VEVENT
BEGIN:VEVENT
DTSTART;VALUE=DATE:20281127
DTEND;VALUE=DATE:20281128
DTSTAMP:20260423T043530
CREATED:20260305T041627Z
LAST-MODIFIED:20260305T042125Z
UID:10000404-1858896000-1858982399@comunidad.nexthaz.com
SUMMARY:📲Llamadas Semanal
DESCRIPTION:
URL:https://comunidad.nexthaz.com/event/llamadas-semanal/2028-11-27/
END:VEVENT
END:VCALENDAR