BEGIN:VCALENDAR
VERSION:2.0
PRODID:-//Comunidad Nexthaz - ECPv6.15.20//NONSGML v1.0//EN
CALSCALE:GREGORIAN
METHOD:PUBLISH
X-ORIGINAL-URL:https://comunidad.nexthaz.com
X-WR-CALDESC:Eventos para Comunidad Nexthaz
REFRESH-INTERVAL;VALUE=DURATION:PT1H
X-Robots-Tag:noindex
X-PUBLISHED-TTL:PT1H
BEGIN:VTIMEZONE
TZID:UTC
BEGIN:STANDARD
TZOFFSETFROM:+0000
TZOFFSETTO:+0000
TZNAME:UTC
DTSTART:20280101T000000
END:STANDARD
END:VTIMEZONE
BEGIN:VEVENT
DTSTART;VALUE=DATE:20290504
DTEND;VALUE=DATE:20290505
DTSTAMP:20260423T144031
CREATED:20260305T035246Z
LAST-MODIFIED:20260305T042019Z
UID:10000747-1872547200-1872633599@comunidad.nexthaz.com
SUMMARY:💡Nuevas Ideas de Negocio
DESCRIPTION:
URL:https://comunidad.nexthaz.com/event/nuevas-ideas-de-negocio/2029-05-04/
END:VEVENT
BEGIN:VEVENT
DTSTART;VALUE=DATE:20290507
DTEND;VALUE=DATE:20290508
DTSTAMP:20260423T144031
CREATED:20260305T041627Z
LAST-MODIFIED:20260305T042125Z
UID:10000427-1872806400-1872892799@comunidad.nexthaz.com
SUMMARY:📲Llamadas Semanal
DESCRIPTION:
URL:https://comunidad.nexthaz.com/event/llamadas-semanal/2029-05-07/
END:VEVENT
BEGIN:VEVENT
DTSTART;VALUE=DATE:20290511
DTEND;VALUE=DATE:20290512
DTSTAMP:20260423T144031
CREATED:20260305T035246Z
LAST-MODIFIED:20260305T042019Z
UID:10000748-1873152000-1873238399@comunidad.nexthaz.com
SUMMARY:💡Nuevas Ideas de Negocio
DESCRIPTION:
URL:https://comunidad.nexthaz.com/event/nuevas-ideas-de-negocio/2029-05-11/
END:VEVENT
BEGIN:VEVENT
DTSTART;VALUE=DATE:20290514
DTEND;VALUE=DATE:20290515
DTSTAMP:20260423T144031
CREATED:20260305T041627Z
LAST-MODIFIED:20260305T042125Z
UID:10000428-1873411200-1873497599@comunidad.nexthaz.com
SUMMARY:📲Llamadas Semanal
DESCRIPTION:
URL:https://comunidad.nexthaz.com/event/llamadas-semanal/2029-05-14/
END:VEVENT
BEGIN:VEVENT
DTSTART;VALUE=DATE:20290516
DTEND;VALUE=DATE:20290517
DTSTAMP:20260423T144031
CREATED:20260305T041842Z
LAST-MODIFIED:20260305T041842Z
UID:10000561-1873584000-1873670399@comunidad.nexthaz.com
SUMMARY:⭐Curso Nuevo
DESCRIPTION:
URL:https://comunidad.nexthaz.com/event/%e2%ad%90curso-nuevo/2029-05-16/
END:VEVENT
BEGIN:VEVENT
DTSTART;VALUE=DATE:20290518
DTEND;VALUE=DATE:20290519
DTSTAMP:20260423T144031
CREATED:20260305T035246Z
LAST-MODIFIED:20260305T042019Z
UID:10000749-1873756800-1873843199@comunidad.nexthaz.com
SUMMARY:💡Nuevas Ideas de Negocio
DESCRIPTION:
URL:https://comunidad.nexthaz.com/event/nuevas-ideas-de-negocio/2029-05-18/
END:VEVENT
BEGIN:VEVENT
DTSTART;VALUE=DATE:20290521
DTEND;VALUE=DATE:20290522
DTSTAMP:20260423T144031
CREATED:20260305T041627Z
LAST-MODIFIED:20260305T042125Z
UID:10000429-1874016000-1874102399@comunidad.nexthaz.com
SUMMARY:📲Llamadas Semanal
DESCRIPTION:
URL:https://comunidad.nexthaz.com/event/llamadas-semanal/2029-05-21/
END:VEVENT
BEGIN:VEVENT
DTSTART;VALUE=DATE:20290525
DTEND;VALUE=DATE:20290526
DTSTAMP:20260423T144031
CREATED:20260305T035246Z
LAST-MODIFIED:20260305T042019Z
UID:10000750-1874361600-1874447999@comunidad.nexthaz.com
SUMMARY:💡Nuevas Ideas de Negocio
DESCRIPTION:
URL:https://comunidad.nexthaz.com/event/nuevas-ideas-de-negocio/2029-05-25/
END:VEVENT
BEGIN:VEVENT
DTSTART;VALUE=DATE:20290528
DTEND;VALUE=DATE:20290529
DTSTAMP:20260423T144031
CREATED:20260305T041627Z
LAST-MODIFIED:20260305T042125Z
UID:10000430-1874620800-1874707199@comunidad.nexthaz.com
SUMMARY:📲Llamadas Semanal
DESCRIPTION:
URL:https://comunidad.nexthaz.com/event/llamadas-semanal/2029-05-28/
END:VEVENT
END:VCALENDAR