BEGIN:VCALENDAR
VERSION:2.0
PRODID:-//Comunidad Nexthaz - ECPv6.15.20//NONSGML v1.0//EN
CALSCALE:GREGORIAN
METHOD:PUBLISH
X-ORIGINAL-URL:https://comunidad.nexthaz.com
X-WR-CALDESC:Eventos para Comunidad Nexthaz
REFRESH-INTERVAL;VALUE=DURATION:PT1H
X-Robots-Tag:noindex
X-PUBLISHED-TTL:PT1H
BEGIN:VTIMEZONE
TZID:UTC
BEGIN:STANDARD
TZOFFSETFROM:+0000
TZOFFSETTO:+0000
TZNAME:UTC
DTSTART:20290101T000000
END:STANDARD
END:VTIMEZONE
BEGIN:VEVENT
DTSTART;VALUE=DATE:20300802
DTEND;VALUE=DATE:20300803
DTSTAMP:20260424T181936
CREATED:20260305T035246Z
LAST-MODIFIED:20260305T042019Z
UID:10000812-1911859200-1911945599@comunidad.nexthaz.com
SUMMARY:💡Nuevas Ideas de Negocio
DESCRIPTION:
URL:https://comunidad.nexthaz.com/event/nuevas-ideas-de-negocio/2030-08-02/
END:VEVENT
BEGIN:VEVENT
DTSTART;VALUE=DATE:20300805
DTEND;VALUE=DATE:20300806
DTSTAMP:20260424T181936
CREATED:20260305T041627Z
LAST-MODIFIED:20260305T042125Z
UID:10000492-1912118400-1912204799@comunidad.nexthaz.com
SUMMARY:📲Llamadas Semanal
DESCRIPTION:
URL:https://comunidad.nexthaz.com/event/llamadas-semanal/2030-08-05/
END:VEVENT
BEGIN:VEVENT
DTSTART;VALUE=DATE:20300809
DTEND;VALUE=DATE:20300810
DTSTAMP:20260424T181936
CREATED:20260305T035246Z
LAST-MODIFIED:20260305T042019Z
UID:10000813-1912464000-1912550399@comunidad.nexthaz.com
SUMMARY:💡Nuevas Ideas de Negocio
DESCRIPTION:
URL:https://comunidad.nexthaz.com/event/nuevas-ideas-de-negocio/2030-08-09/
END:VEVENT
BEGIN:VEVENT
DTSTART;VALUE=DATE:20300812
DTEND;VALUE=DATE:20300813
DTSTAMP:20260424T181936
CREATED:20260305T041627Z
LAST-MODIFIED:20260305T042125Z
UID:10000493-1912723200-1912809599@comunidad.nexthaz.com
SUMMARY:📲Llamadas Semanal
DESCRIPTION:
URL:https://comunidad.nexthaz.com/event/llamadas-semanal/2030-08-12/
END:VEVENT
BEGIN:VEVENT
DTSTART;VALUE=DATE:20300816
DTEND;VALUE=DATE:20300817
DTSTAMP:20260424T181936
CREATED:20260305T035246Z
LAST-MODIFIED:20260305T042019Z
UID:10000814-1913068800-1913155199@comunidad.nexthaz.com
SUMMARY:💡Nuevas Ideas de Negocio
DESCRIPTION:
URL:https://comunidad.nexthaz.com/event/nuevas-ideas-de-negocio/2030-08-16/
END:VEVENT
BEGIN:VEVENT
DTSTART;VALUE=DATE:20300819
DTEND;VALUE=DATE:20300820
DTSTAMP:20260424T181936
CREATED:20260305T041627Z
LAST-MODIFIED:20260305T042125Z
UID:10000494-1913328000-1913414399@comunidad.nexthaz.com
SUMMARY:📲Llamadas Semanal
DESCRIPTION:
URL:https://comunidad.nexthaz.com/event/llamadas-semanal/2030-08-19/
END:VEVENT
BEGIN:VEVENT
DTSTART;VALUE=DATE:20300821
DTEND;VALUE=DATE:20300822
DTSTAMP:20260424T181936
CREATED:20260305T041842Z
LAST-MODIFIED:20260305T041842Z
UID:10000576-1913500800-1913587199@comunidad.nexthaz.com
SUMMARY:⭐Curso Nuevo
DESCRIPTION:
URL:https://comunidad.nexthaz.com/event/%e2%ad%90curso-nuevo/2030-08-21/
END:VEVENT
BEGIN:VEVENT
DTSTART;VALUE=DATE:20300823
DTEND;VALUE=DATE:20300824
DTSTAMP:20260424T181936
CREATED:20260305T035246Z
LAST-MODIFIED:20260305T042019Z
UID:10000815-1913673600-1913759999@comunidad.nexthaz.com
SUMMARY:💡Nuevas Ideas de Negocio
DESCRIPTION:
URL:https://comunidad.nexthaz.com/event/nuevas-ideas-de-negocio/2030-08-23/
END:VEVENT
BEGIN:VEVENT
DTSTART;VALUE=DATE:20300826
DTEND;VALUE=DATE:20300827
DTSTAMP:20260424T181936
CREATED:20260305T041627Z
LAST-MODIFIED:20260305T042125Z
UID:10000495-1913932800-1914019199@comunidad.nexthaz.com
SUMMARY:📲Llamadas Semanal
DESCRIPTION:
URL:https://comunidad.nexthaz.com/event/llamadas-semanal/2030-08-26/
END:VEVENT
BEGIN:VEVENT
DTSTART;VALUE=DATE:20300830
DTEND;VALUE=DATE:20300831
DTSTAMP:20260424T181936
CREATED:20260305T035246Z
LAST-MODIFIED:20260305T042019Z
UID:10000816-1914278400-1914364799@comunidad.nexthaz.com
SUMMARY:💡Nuevas Ideas de Negocio
DESCRIPTION:
URL:https://comunidad.nexthaz.com/event/nuevas-ideas-de-negocio/2030-08-30/
END:VEVENT
END:VCALENDAR