BEGIN:VCALENDAR
VERSION:2.0
PRODID:-//Comunidad Nexthaz - ECPv6.15.20//NONSGML v1.0//EN
CALSCALE:GREGORIAN
METHOD:PUBLISH
X-WR-CALNAME:Comunidad Nexthaz
X-ORIGINAL-URL:https://comunidad.nexthaz.com
X-WR-CALDESC:Eventos para Comunidad Nexthaz
REFRESH-INTERVAL;VALUE=DURATION:PT1H
X-Robots-Tag:noindex
X-PUBLISHED-TTL:PT1H
BEGIN:VTIMEZONE
TZID:UTC
BEGIN:STANDARD
TZOFFSETFROM:+0000
TZOFFSETTO:+0000
TZNAME:UTC
DTSTART:20290101T000000
END:STANDARD
END:VTIMEZONE
BEGIN:VEVENT
DTSTART;VALUE=DATE:20300902
DTEND;VALUE=DATE:20300903
DTSTAMP:20260424T200359
CREATED:20260305T041627Z
LAST-MODIFIED:20260305T042125Z
UID:10000496-1914537600-1914623999@comunidad.nexthaz.com
SUMMARY:📲Llamadas Semanal
DESCRIPTION:
URL:https://comunidad.nexthaz.com/event/llamadas-semanal/2030-09-02/
END:VEVENT
BEGIN:VEVENT
DTSTART;VALUE=DATE:20300906
DTEND;VALUE=DATE:20300907
DTSTAMP:20260424T200359
CREATED:20260305T035246Z
LAST-MODIFIED:20260305T042019Z
UID:10000817-1914883200-1914969599@comunidad.nexthaz.com
SUMMARY:💡Nuevas Ideas de Negocio
DESCRIPTION:
URL:https://comunidad.nexthaz.com/event/nuevas-ideas-de-negocio/2030-09-06/
END:VEVENT
BEGIN:VEVENT
DTSTART;VALUE=DATE:20300909
DTEND;VALUE=DATE:20300910
DTSTAMP:20260424T200359
CREATED:20260305T041627Z
LAST-MODIFIED:20260305T042125Z
UID:10000497-1915142400-1915228799@comunidad.nexthaz.com
SUMMARY:📲Llamadas Semanal
DESCRIPTION:
URL:https://comunidad.nexthaz.com/event/llamadas-semanal/2030-09-09/
END:VEVENT
BEGIN:VEVENT
DTSTART;VALUE=DATE:20300913
DTEND;VALUE=DATE:20300914
DTSTAMP:20260424T200359
CREATED:20260305T035246Z
LAST-MODIFIED:20260305T042019Z
UID:10000818-1915488000-1915574399@comunidad.nexthaz.com
SUMMARY:💡Nuevas Ideas de Negocio
DESCRIPTION:
URL:https://comunidad.nexthaz.com/event/nuevas-ideas-de-negocio/2030-09-13/
END:VEVENT
BEGIN:VEVENT
DTSTART;VALUE=DATE:20300916
DTEND;VALUE=DATE:20300917
DTSTAMP:20260424T200359
CREATED:20260305T041627Z
LAST-MODIFIED:20260305T042125Z
UID:10000498-1915747200-1915833599@comunidad.nexthaz.com
SUMMARY:📲Llamadas Semanal
DESCRIPTION:
URL:https://comunidad.nexthaz.com/event/llamadas-semanal/2030-09-16/
END:VEVENT
BEGIN:VEVENT
DTSTART;VALUE=DATE:20300918
DTEND;VALUE=DATE:20300919
DTSTAMP:20260424T200359
CREATED:20260305T041842Z
LAST-MODIFIED:20260305T041842Z
UID:10000577-1915920000-1916006399@comunidad.nexthaz.com
SUMMARY:⭐Curso Nuevo
DESCRIPTION:
URL:https://comunidad.nexthaz.com/event/%e2%ad%90curso-nuevo/2030-09-18/
END:VEVENT
BEGIN:VEVENT
DTSTART;VALUE=DATE:20300920
DTEND;VALUE=DATE:20300921
DTSTAMP:20260424T200359
CREATED:20260305T035246Z
LAST-MODIFIED:20260305T042019Z
UID:10000819-1916092800-1916179199@comunidad.nexthaz.com
SUMMARY:💡Nuevas Ideas de Negocio
DESCRIPTION:
URL:https://comunidad.nexthaz.com/event/nuevas-ideas-de-negocio/2030-09-20/
END:VEVENT
BEGIN:VEVENT
DTSTART;VALUE=DATE:20300923
DTEND;VALUE=DATE:20300924
DTSTAMP:20260424T200359
CREATED:20260305T041627Z
LAST-MODIFIED:20260305T042125Z
UID:10000499-1916352000-1916438399@comunidad.nexthaz.com
SUMMARY:📲Llamadas Semanal
DESCRIPTION:
URL:https://comunidad.nexthaz.com/event/llamadas-semanal/2030-09-23/
END:VEVENT
BEGIN:VEVENT
DTSTART;VALUE=DATE:20300927
DTEND;VALUE=DATE:20300928
DTSTAMP:20260424T200359
CREATED:20260305T035246Z
LAST-MODIFIED:20260305T042019Z
UID:10000820-1916697600-1916783999@comunidad.nexthaz.com
SUMMARY:💡Nuevas Ideas de Negocio
DESCRIPTION:
URL:https://comunidad.nexthaz.com/event/nuevas-ideas-de-negocio/2030-09-27/
END:VEVENT
BEGIN:VEVENT
DTSTART;VALUE=DATE:20300930
DTEND;VALUE=DATE:20301001
DTSTAMP:20260424T200359
CREATED:20260305T041627Z
LAST-MODIFIED:20260305T042125Z
UID:10000500-1916956800-1917043199@comunidad.nexthaz.com
SUMMARY:📲Llamadas Semanal
DESCRIPTION:
URL:https://comunidad.nexthaz.com/event/llamadas-semanal/2030-09-30/
END:VEVENT
END:VCALENDAR